BEGIN:VCALENDAR
VERSION:2.0
PRODID:-//Association de jeux EDIL - ECPv6.11.2.1//NONSGML v1.0//EN
CALSCALE:GREGORIAN
METHOD:PUBLISH
X-ORIGINAL-URL:https://qualif.edil33.fr
X-WR-CALDESC:Évènements pour Association de jeux EDIL
REFRESH-INTERVAL;VALUE=DURATION:PT1H
X-Robots-Tag:noindex
X-PUBLISHED-TTL:PT1H
BEGIN:VTIMEZONE
TZID:Europe/Paris
BEGIN:DAYLIGHT
TZOFFSETFROM:+0100
TZOFFSETTO:+0200
TZNAME:CEST
DTSTART:20140330T010000
END:DAYLIGHT
BEGIN:STANDARD
TZOFFSETFROM:+0200
TZOFFSETTO:+0100
TZNAME:CET
DTSTART:20141026T010000
END:STANDARD
END:VTIMEZONE
BEGIN:VEVENT
DTSTART;TZID=Europe/Paris:20140122T170000
DTEND;TZID=Europe/Paris:20140122T170000
DTSTAMP:20260424T123424
CREATED:20140122T234201Z
LAST-MODIFIED:20170601T063254Z
UID:500-1390410000-1390410000@qualif.edil33.fr
SUMMARY:Tournois Trône de Fer
DESCRIPTION:Tournois de Trône de Fer à la Muse Café en deux parties.\nDébut de la 2ème session à partir de 20h.
URL:https://qualif.edil33.fr/event/tournois-trone-de-fer/
LOCATION:La Muse Café\, 10 Rue Brascassat\, Bordeaux\, 33800\, France Métropolitaine
CATEGORIES:Evénement Externe (Non-EDIL)
END:VEVENT
BEGIN:VEVENT
DTSTART;TZID=Europe/Paris:20140124T190000
DTEND;TZID=Europe/Paris:20140125T160000
DTSTAMP:20260424T123424
CREATED:20140122T074201Z
LAST-MODIFIED:20170601T063250Z
UID:497-1390590000-1390665600@qualif.edil33.fr
SUMMARY:Joutes de l'Escargot
DESCRIPTION:https://www.facebook.com/events/201119006744747/?fref=ts \n	Festival Ludique du centre d ‘animation du Grand Parc à Bordeaux\, du 24 au 31 janvier 2014.\nCette année nous vous emmènerons entre autre dans l’univers de l’antiquité sans oublié toutes les nouveautés ludiques du moment.
URL:https://qualif.edil33.fr/event/joutes-de-lescargot/
LOCATION:Centre d’Animation Grand Parc\, 36 Rue Robert Schuman\, BORDEAUX\, 33000\, France
CATEGORIES:Evénement Externe (Non-EDIL)
END:VEVENT
END:VCALENDAR