BEGIN:VCALENDAR
VERSION:2.0
PRODID:-//Association de jeux EDIL - ECPv6.11.2.1//NONSGML v1.0//EN
CALSCALE:GREGORIAN
METHOD:PUBLISH
X-ORIGINAL-URL:https://qualif.edil33.fr
X-WR-CALDESC:Évènements pour Association de jeux EDIL
REFRESH-INTERVAL;VALUE=DURATION:PT1H
X-Robots-Tag:noindex
X-PUBLISHED-TTL:PT1H
BEGIN:VTIMEZONE
TZID:Europe/Paris
BEGIN:DAYLIGHT
TZOFFSETFROM:+0100
TZOFFSETTO:+0200
TZNAME:CEST
DTSTART:20150329T010000
END:DAYLIGHT
BEGIN:STANDARD
TZOFFSETFROM:+0200
TZOFFSETTO:+0100
TZNAME:CET
DTSTART:20151025T010000
END:STANDARD
END:VTIMEZONE
BEGIN:VEVENT
DTSTART;TZID=Europe/Paris:20150128T140000
DTEND;TZID=Europe/Paris:20150128T220000
DTSTAMP:20260423T183949
CREATED:20150103T230054Z
LAST-MODIFIED:20170608T165153Z
UID:931-1422453600-1422482400@qualif.edil33.fr
SUMMARY:Soirée Jeux à Bazas
DESCRIPTION:
URL:https://qualif.edil33.fr/event/soiree-jeux-a-bazas/
LOCATION:Lycée Agricole de Bazas\, 2 avenue de la République\, BAZAS
CATEGORIES:Evénement Externe (Non-EDIL),Evenement Interne (de l'EDIL)
END:VEVENT
END:VCALENDAR