BEGIN:VCALENDAR
VERSION:2.0
PRODID:-//Association de jeux EDIL - ECPv6.11.2.1//NONSGML v1.0//EN
CALSCALE:GREGORIAN
METHOD:PUBLISH
X-ORIGINAL-URL:https://qualif.edil33.fr
X-WR-CALDESC:Évènements pour Association de jeux EDIL
REFRESH-INTERVAL;VALUE=DURATION:PT1H
X-Robots-Tag:noindex
X-PUBLISHED-TTL:PT1H
BEGIN:VTIMEZONE
TZID:Europe/Paris
BEGIN:DAYLIGHT
TZOFFSETFROM:+0100
TZOFFSETTO:+0200
TZNAME:CEST
DTSTART:20150329T010000
END:DAYLIGHT
BEGIN:STANDARD
TZOFFSETFROM:+0200
TZOFFSETTO:+0100
TZNAME:CET
DTSTART:20151025T010000
END:STANDARD
END:VTIMEZONE
BEGIN:VEVENT
DTSTART;TZID=Europe/Paris:20150328T110000
DTEND;TZID=Europe/Paris:20150328T200000
DTSTAMP:20260423T152204
CREATED:20150314T085823Z
LAST-MODIFIED:20170608T165656Z
UID:997-1427540400-1427572800@qualif.edil33.fr
SUMMARY:Animasia le Haillan
DESCRIPTION:Rendez-vous samedi 28 mars (11h – 20h) pour Animasia : Le Haillan ! \nComme les deux éditions précédents\, l’entrée au festival gratuite. \nIl y aura le collectif Fête du Jeu\, aider par la Ludothèque du Haillan.
URL:https://qualif.edil33.fr/event/animasia-le-haillan-2/
LOCATION:L’entrepôt du Haillan\, 13 rue Georges Clemenceau\, Le Haillan\, 33185 \, France Métropolitaine
CATEGORIES:Evénement Externe (Non-EDIL)
END:VEVENT
END:VCALENDAR