BEGIN:VCALENDAR
VERSION:2.0
PRODID:-//Association de jeux EDIL - ECPv6.11.2.1//NONSGML v1.0//EN
CALSCALE:GREGORIAN
METHOD:PUBLISH
X-ORIGINAL-URL:https://qualif.edil33.fr
X-WR-CALDESC:Évènements pour Association de jeux EDIL
REFRESH-INTERVAL;VALUE=DURATION:PT1H
X-Robots-Tag:noindex
X-PUBLISHED-TTL:PT1H
BEGIN:VTIMEZONE
TZID:Europe/Paris
BEGIN:DAYLIGHT
TZOFFSETFROM:+0100
TZOFFSETTO:+0200
TZNAME:CEST
DTSTART:20150329T010000
END:DAYLIGHT
BEGIN:STANDARD
TZOFFSETFROM:+0200
TZOFFSETTO:+0100
TZNAME:CET
DTSTART:20151025T010000
END:STANDARD
END:VTIMEZONE
BEGIN:VEVENT
DTSTART;TZID=Europe/Paris:20150919T090000
DTEND;TZID=Europe/Paris:20150920T180000
DTSTAMP:20260423T061933
CREATED:20150228T095012Z
LAST-MODIFIED:20170608T165801Z
UID:985-1442653200-1442772000@qualif.edil33.fr
SUMMARY:WE-DIL
DESCRIPTION:Les samedi 19 et dimanche 20 Septembre prochain va se dérouler le WE-DIL ou le Week End de l’Espace de Développement de l’Imaginaire Ludique. Cet évènement est la nouvelle convention de jeu de l’association EDIL! \nCette manifestation\, soutenu par la Mairie de Bordeaux et les Projets Jeunes est ouverte à tout type de visiteurs : joueurs confirmés\, débutants ou simples curieux\, réunis autour des mêmes tables de jeu. Pour faire vivre l’évènement\, outre des parties de jeux de rôle et de jeux de plateau\, plusieurs tournois de jeux de cartes et de jeux de figurine sont organisés pour l’occasion. Il y aura également des diffusions de webséries\, des conférences\, du cosplay\, du trollball\, des spectacles\, des tournois de jeu vidéo. L’EDIL prévoit également la visite d’auteurs\, d’éditeurs et de professionnels du monde jeu et des mondes de l’imaginaire de la région ou d’ailleurs pour que vous puissiez les découvrir directement. \nLe WE-DIL aura lieu en plein cœur de Bordeaux\, au Centre d’Animation du Grand Parc\, 36 Rue Robert Schuman à Bordeaux\, à proximité de l’arrêt TRAM C « Grand Parc » et de l’arrêt des BUS Lianes 15 et Citéis 46 « Place de l’Europe ». \nL’entrée à la convention sera de 3€ pour 1 Jour et de 5€ pour 2 jours.\nIl y aura de quoi se restaurer sur place en salé et en sucré. \nAlors rendez-vous les samedi 19 et dimanche 20 Septembre 2015 pour un week-end de folie! \nPour plus de renseignements: \n-Notre évènement facebook\n-Notre page facebook\n-Notre site web: www.edil33.fr\n-Notre mail: orgawedil@gmail.com
URL:https://qualif.edil33.fr/event/we-edil/
LOCATION:Centre d’Animation Grand Parc\, 36 Rue Robert Schuman\, BORDEAUX\, 33000\, France
CATEGORIES:Evénement Externe (Non-EDIL),Evenement Interne (de l'EDIL),Semi-Réel
END:VEVENT
END:VCALENDAR