BEGIN:VCALENDAR
VERSION:2.0
PRODID:-//Association de jeux EDIL - ECPv6.11.2.1//NONSGML v1.0//EN
CALSCALE:GREGORIAN
METHOD:PUBLISH
X-WR-CALNAME:Association de jeux EDIL
X-ORIGINAL-URL:https://qualif.edil33.fr
X-WR-CALDESC:Évènements pour Association de jeux EDIL
REFRESH-INTERVAL;VALUE=DURATION:PT1H
X-Robots-Tag:noindex
X-PUBLISHED-TTL:PT1H
BEGIN:VTIMEZONE
TZID:Europe/Paris
BEGIN:DAYLIGHT
TZOFFSETFROM:+0100
TZOFFSETTO:+0200
TZNAME:CEST
DTSTART:20170326T010000
END:DAYLIGHT
BEGIN:STANDARD
TZOFFSETFROM:+0200
TZOFFSETTO:+0100
TZNAME:CET
DTSTART:20171029T010000
END:STANDARD
END:VTIMEZONE
BEGIN:VEVENT
DTSTART;TZID=Europe/Paris:20171007T100000
DTEND;TZID=Europe/Paris:20171008T190000
DTSTAMP:20260421T133814
CREATED:20171006T072414Z
LAST-MODIFIED:20171006T072511Z
UID:1849-1507370400-1507489200@qualif.edil33.fr
SUMMARY:Animasia 2017
DESCRIPTION:Fort de son succés et au vu de l’affluence en 2016\, nous installons le festival Animasia et sa 13e édition au Parc des expositions Bordeaux Lac pour un voyage au cœur de l’Asie encore plus grand ! \nThématique\nPour cette 13e édition tout ce qui a fait le succès d’Animasia sera à l’honneur : arts martiaux\, matsuri\, manga\, cosplay\, jeux vidéo\, Kpop\, Jpop\, Yosakoi\, CPP\, librairie\, commerçants\, culture\,… Rendez-vous les 7 & 8 octobre 2017 ! \nRetrouvez l’EDIL sur la partie dédié aux Jeux de Plateau du Festival avec nos amis d’Asmodée\, Jeux Descartes et de Troll Me Tender\, tout le week-end! 🙂
URL:https://qualif.edil33.fr/event/animasia-2017/
LOCATION:Parc des Expositions de Bordeaux\, Cours Jules Ladoumegue\, Bordeaux\, 33300\, France Métropolitaine
CATEGORIES:Evénement Externe (Non-EDIL)
ATTACH;FMTTYPE=image/jpeg:https://qualif.edil33.fr/wp-content/uploads/2017/10/20228668_1635872983090090_8733207072756898386_n.jpg
END:VEVENT
END:VCALENDAR