BEGIN:VCALENDAR
VERSION:2.0
PRODID:-//Association de jeux EDIL - ECPv6.11.2.1//NONSGML v1.0//EN
CALSCALE:GREGORIAN
METHOD:PUBLISH
X-ORIGINAL-URL:https://qualif.edil33.fr
X-WR-CALDESC:Évènements pour Association de jeux EDIL
REFRESH-INTERVAL;VALUE=DURATION:PT1H
X-Robots-Tag:noindex
X-PUBLISHED-TTL:PT1H
BEGIN:VTIMEZONE
TZID:Europe/Paris
BEGIN:DAYLIGHT
TZOFFSETFROM:+0100
TZOFFSETTO:+0200
TZNAME:CEST
DTSTART:20170326T010000
END:DAYLIGHT
BEGIN:STANDARD
TZOFFSETFROM:+0200
TZOFFSETTO:+0100
TZNAME:CET
DTSTART:20171029T010000
END:STANDARD
END:VTIMEZONE
BEGIN:VEVENT
DTSTART;TZID=Europe/Paris:20171118T100000
DTEND;TZID=Europe/Paris:20171119T170000
DTSTAMP:20260421T122030
CREATED:20170927T064554Z
LAST-MODIFIED:20170927T064839Z
UID:1844-1510999200-1511110800@qualif.edil33.fr
SUMMARY:Festival du jeu Burdigame
DESCRIPTION:Stratejeux organise\nOù ?\nau Pôle Brassens Camus\, Rue Henri Dunant à Lormont\, près de Bordeaux (Gironde – 33)\n.\nQuoi ?\nSon festival Burdigame\n.\nQuand ?\nLes 18 et 19 novembre 2017.\n.\n– de 🕙 10h à 🕚 23h pour le samedi\n– de 🕙 10h à 🕔 17h pour le dimanche.\n.\nQui peut venir ?\nTout le monde\, de 3 ans à 130 ans !\nVenez nous voir en famille 👩‍👧‍👦 ou entre amis 👩‍👩‍👧‍👦\n.\nhttps://www.leetchi.com/c/stratejeux-burdigame-2017\nToute participation de plus de 3 € vous permet d’avoir votre pass du festival 🎟️🎟️🎟️🎟️ pour le week-end gratuitement.\n.\n.\nLe festival de jeu Burdigame\, c’est quoi ?\nVous trouverez tous les styles de jeux. Vous pourrez regarder et surtout jouer ! Vous initiez aux nouveaux jeux\, rencontrer les créateurs de jeux…\n– Jeu d’ambiance🎪🎭🎨⛩️\,\n.\n– Jeu de stratégie 🎲🎲🎲🎲\,\n.\n– Jeu de rôle 🕵️‍♀️🤡👺👻🤖👳‍♂️🛡️🔮🗝️\n.\n– Escape-room 🤼‍♂️🤼‍♀️🤼‍♂️🤼‍♀️\,\n.\n– Jeu vidéo\, 🎮🕹️🎮🕹️\n.\net bien d’autres…👻️♠️♥️♦️♣️🃏🀄\n.\nComme chaque année\, nous offrirons des Cadeaux 🎁.\n.\n.\n.\nPensez à visiter notre page https://www.facebook.com/Burdigame/ pour mieux vous tenir informer. \nL’EDIL sera présente pour présenter du jeu de plateau et de JDR durant tout le week-end.
URL:https://qualif.edil33.fr/event/festival-du-jeu-burdigame/
LOCATION:Pole Brassens Camu\, Rue des Gravières\, Lormont\, France Métropolitaine
CATEGORIES:Evénement Externe (Non-EDIL)
ATTACH;FMTTYPE=image/png:https://qualif.edil33.fr/wp-content/uploads/2017/09/20800014_1203263166485666_6751570284992279682_n.png
END:VEVENT
END:VCALENDAR