BEGIN:VCALENDAR
VERSION:2.0
PRODID:-//Association de jeux EDIL - ECPv6.11.2.1//NONSGML v1.0//EN
CALSCALE:GREGORIAN
METHOD:PUBLISH
X-WR-CALNAME:Association de jeux EDIL
X-ORIGINAL-URL:https://qualif.edil33.fr
X-WR-CALDESC:Évènements pour Association de jeux EDIL
REFRESH-INTERVAL;VALUE=DURATION:PT1H
X-Robots-Tag:noindex
X-PUBLISHED-TTL:PT1H
BEGIN:VTIMEZONE
TZID:Europe/Paris
BEGIN:DAYLIGHT
TZOFFSETFROM:+0100
TZOFFSETTO:+0200
TZNAME:CEST
DTSTART:20180325T010000
END:DAYLIGHT
BEGIN:STANDARD
TZOFFSETFROM:+0200
TZOFFSETTO:+0100
TZNAME:CET
DTSTART:20181028T010000
END:STANDARD
END:VTIMEZONE
BEGIN:VEVENT
DTSTART;TZID=Europe/Paris:20180519T100000
DTEND;TZID=Europe/Paris:20180521T190000
DTSTAMP:20260421T031737
CREATED:20180510T065511Z
LAST-MODIFIED:20180510T065511Z
UID:1979-1526724000-1526929200@qualif.edil33.fr
SUMMARY:Bordeaux Geek Festival 2018
DESCRIPTION:Le BORDEAUX GEEK FESTIVAL est de retour ! \nRetrouvez pendant 3 jours les animations incontournables de ce festival avec : BGF E-Sport\, BGF Makers\, BGF Awards\, et le petit nouveau pour 2018 : BGF Comics ! \nMais aussi le SFX Make-up\, les concours et défilés cosplay\, les expositions\, les conférences\, les dédicaces et bien plus encore ! \nNous vous donnons rendez-vous les 19\, 20 et 21 Mai 2018 au Hall 3 & 1 du Parc des Expositions de Bordeaux ! \nL’EDIL sera présent sur l’espace jeux de plateau pour vous présenter et animer de nombreuses parties de jeux de rôles et jeux de plateau avec nos amis de Troll Me Tender\, de Jeux Descartes et d’Asmodée. 🙂
URL:https://qualif.edil33.fr/event/bordeaux-geek-festival-2018/
LOCATION:Parc des Expositions de Bordeaux\, Cours Jules Ladoumegue\, Bordeaux\, 33300\, France Métropolitaine
CATEGORIES:Evénement Externe (Non-EDIL)
ATTACH;FMTTYPE=image/jpeg:https://qualif.edil33.fr/wp-content/uploads/2018/05/30710048_2157804547578019_1271875116405358592_n.jpg
END:VEVENT
BEGIN:VEVENT
DTSTART;TZID=Europe/Paris:20180526T110000
DTEND;TZID=Europe/Paris:20180526T193000
DTSTAMP:20260421T031737
CREATED:20180526T095653Z
LAST-MODIFIED:20180526T095653Z
UID:1992-1527332400-1527363000@qualif.edil33.fr
SUMMARY:Fête du Jeu 2018
DESCRIPTION:Cette année encore\, le collectif fête du jeu de Bordeaux vous invite à célébrer la fête mondiale du jeu.\, dans la bonne humeur et le partage. \nPetite nouveauté de cette année\, la fête commence dés 11h et nous vous invitons à partager votre repas lors d’un pique-nique le midi. \nComme toujours vous trouverez différentes animations et jeux proposé par les associations membres du collectif (jeux en bois\, de plateau\, de cartes\, de figurines et jeux de rôles entre autre). \nVenez nombreux et n’hésitez pas à partager l’info et inviter vos proches. \nAmicalement et ludiquement\, Le collectif.
URL:https://qualif.edil33.fr/event/fete-du-jeu-2018/
LOCATION:Jardin Public\, Bordeaux\, 33000\, France
CATEGORIES:Evénement Externe (Non-EDIL),Evenement Interne (de l'EDIL)
ATTACH;FMTTYPE=image/jpeg:https://qualif.edil33.fr/wp-content/uploads/2018/05/32156188_1933844386639614_3366933616201302016_n.jpg
END:VEVENT
END:VCALENDAR