BEGIN:VCALENDAR
VERSION:2.0
PRODID:-//Association de jeux EDIL - ECPv6.11.2.1//NONSGML v1.0//EN
CALSCALE:GREGORIAN
METHOD:PUBLISH
X-ORIGINAL-URL:https://qualif.edil33.fr
X-WR-CALDESC:Évènements pour Association de jeux EDIL
REFRESH-INTERVAL;VALUE=DURATION:PT1H
X-Robots-Tag:noindex
X-PUBLISHED-TTL:PT1H
BEGIN:VTIMEZONE
TZID:Europe/Paris
BEGIN:DAYLIGHT
TZOFFSETFROM:+0100
TZOFFSETTO:+0200
TZNAME:CEST
DTSTART:20180325T010000
END:DAYLIGHT
BEGIN:STANDARD
TZOFFSETFROM:+0200
TZOFFSETTO:+0100
TZNAME:CET
DTSTART:20181028T010000
END:STANDARD
END:VTIMEZONE
BEGIN:VEVENT
DTSTART;TZID=Europe/Paris:20180922T110000
DTEND;TZID=Europe/Paris:20180922T190000
DTSTAMP:20260420T213512
CREATED:20180825T091644Z
LAST-MODIFIED:20180825T091645Z
UID:2035-1537614000-1537642800@qualif.edil33.fr
SUMMARY:Troc & Deal: Le Vide Grenier Fantastique
DESCRIPTION:Durant le We-Dil 2018: Le Week-End De l’Imaginaire Ludique 2018\, l’association EDIL organise avec des membres de la communauté GNistes de la région un évènement très particulier: LE TROC & DEAL: Le vide grenier fantastique! \nVous êtes GNistes\, trollball-eur-euse-s\, cosplay-eur-euse-s et/ou craft-eur-euse-s et souhaitez faire un peu de place dans vos placards et partager des éléments de costumes avec d’autres personnes? Alors venez troquer de petits accessoires et éléments de costumes contre d’autres choses liés à l’imaginaire (costumes\, livres\, figurines\, ect..) et montrer votre savoir faire à tous. Nous mettons un point d’honneur sur la notion de trocs et ne souhaitons pas d’échanges financiers lors de cet évent c’est vraiment de l’échanges. 🙂 \nSi vous voulez être exposants n’hésitez pas à nous contacter. \nLe Troc & Deal: Le vide grenier fantastique aura lieu le samedi 22 Septembre entre 11h et 19h au Centre d’Animation du Grand Parc lors du WE-DIL. Le prix d’entrée au We-Dil 2018: Le Week-End De l’Imaginaire Ludique 2018 étant 3€ pour un jour\, et 5€ pour deux jours.
URL:https://qualif.edil33.fr/event/troc-deal-le-vide-grenier-fantastique/
LOCATION:Centre d’Animation Grand Parc\, 36 Rue Robert Schuman\, BORDEAUX\, 33000\, France
CATEGORIES:Evénement Externe (Non-EDIL),Evenement Interne (de l'EDIL)
ATTACH;FMTTYPE=image/jpeg:https://qualif.edil33.fr/wp-content/uploads/2018/08/TROCDEAL2.jpg
END:VEVENT
BEGIN:VEVENT
DTSTART;TZID=Europe/Paris:20180922T110000
DTEND;TZID=Europe/Paris:20180923T190000
DTSTAMP:20260420T213512
CREATED:20180510T065815Z
LAST-MODIFIED:20180820T134111Z
UID:1984-1537614000-1537729200@qualif.edil33.fr
SUMMARY:Week-End de l'Imaginaire Ludique 2018
DESCRIPTION:Après 3 éditions\, Le Week-End De l’Imaginaire Ludique ou Le WE-DIL (à prononcé « Oui-dil ») la convention de l’association EDIL\, revient pour votre et notre plus grand plaisir! 🙂 \nCet évènement créé et mis en place par les membres bénévoles de l’association est à inscrire dans tous vos calendriers. Il aura lieu les SAMEDI 22 et DIMANCHE 23 SEPTEMBRE 2018. \nCe week-end\, un évènement majeur\, fera la promotion du jeu et des mondes de l’imaginaire à Bordeaux et en Aquitaine. \nAu programme il y aura du jeu sous toutes ces formes\, des stands de nos partenaires\, des invités divers et de nombreuses autres activités. \nDans tous les cas ou espère vous voir nombreux et n’hésitez pas à suivre l’évènement pour être au courant de l’avancement de celui ci et surtout retenez votre week-end du SAMEDI 22 et DIMANCHE 23 SEPTEMBRE 2018. \n————————–————- \nAU PROGRAMME: http://edil33.fr/le-we-dil/le-programme/ \n– des parties de jeux de rôles proposé par des auteurs et éditeurs présent sur place\n– des parties découvertes de jeux de figurines par les membres de l’EDIL\n– de nombreuses parties de jeux de plateau et des tournois sur des jeux spécifiques.\n– des webséries\n– pleins de bonnes choses \n[PS: LE PROGRAMME EST ENCORE EN COURS D’ÉLABORATION]\n[ PS 2: Partagez l’évènement à vos amis\, sur les forums sur lesquels vous avez l’habitude d’aller\, etc…on a besoin du soutien de tous! 🙂 ] \n————————–——— \nINFOS PRATIQUES DU WE DIL: http://edil33.fr/le-we-dil/informations/ \nAdresse:\nWE-DIL\nCentre d’Animation du Grand Parc\n33000 Bordeaux \nTransport en commun/accès:\nArrêt TRAM C « Grand Parc »\nArrêt BUS Lianes 15 et Citéis 46 « Place de l’Europe »\nParking « Place de l’Europe » face au Simply Market. \nTarifs d’entrée:\n3€ PASS 1 JOUR\n5€ PASS 2 JOURS \n————————–— \nNOS PARTENAIRES:\nhttp://edil33.fr/le-we-dil/partenaires/ \n————————–————- \nLES ASSOCIATIONS QUI NOUS SOUTIENNENT: http://edil33.fr/le-we-dil/les-soutiens-associatifs/ \n————————–————-\nToutes autres questions:\nLe mail des organisateurs orgawedil@gmail.com
URL:https://qualif.edil33.fr/event/week-end-de-limaginaire-ludique-2018/
LOCATION:Centre d’Animation Grand Parc\, 36 Rue Robert Schuman\, BORDEAUX\, 33000\, France
CATEGORIES:Evénement Externe (Non-EDIL),Evenement Interne (de l'EDIL),Murder-Party,Semi-Réel
ATTACH;FMTTYPE=image/jpeg:https://qualif.edil33.fr/wp-content/uploads/2015/06/test1.jpg
END:VEVENT
BEGIN:VEVENT
DTSTART;TZID=Europe/Paris:20180930T160000
DTEND;TZID=Europe/Paris:20180930T190000
DTSTAMP:20260420T213512
CREATED:20180825T091759Z
LAST-MODIFIED:20180825T091759Z
UID:2037-1538323200-1538334000@qualif.edil33.fr
SUMMARY:Assemblée Générale Ordinaire de l'EDIL 2018
DESCRIPTION:Le dimanche 30 Septembre 2018 aura lieu l’Assemblée Générale Ordinaire de l’association à 16h à l’EDIL. \nÇa sera l’occasion à chacun de renouveler son adhésion pour l’année 2018-2019 car les adhésions vont d’Assemblée Générale Ordinaire à Assemblée Générale Ordinaire. \nA l’ordre du jour:\n-Bilan Moral\n-Bilan Financier\n-Élection du nouveau Bureau\n-Discussion sur l’organisation de l’association (ouverture du local\, rangement\, course\, gestion de l’espace\, etc…)\n-Discussion sur les activités actuelles (semi réel\, figurines\, cosplay\, etc…) et futures de l’association (WE-DIL\, évènements extérieurs\, partenariat Burdigala trollball\, les futur semi-réels\, etc…)\n-Questions diverses \nPour plus de renseignements:\n-Les statuts: http://edil33.fr/lassociation/statuts/\n-Le règlement intérieur: http://edil33.fr/lassociation/reglement-interieur/
URL:https://qualif.edil33.fr/event/assemblee-generale-ordinaire-de-ledil-2018/
LOCATION:EDIL\, 5 place sainte eulalie\, Bordeaux\, 33000\, France
CATEGORIES:Evénement Externe (Non-EDIL),Evenement Interne (de l'EDIL)
END:VEVENT
END:VCALENDAR