BEGIN:VCALENDAR
VERSION:2.0
PRODID:-//Association de jeux EDIL - ECPv6.11.2.1//NONSGML v1.0//EN
CALSCALE:GREGORIAN
METHOD:PUBLISH
X-ORIGINAL-URL:https://qualif.edil33.fr
X-WR-CALDESC:Évènements pour Association de jeux EDIL
REFRESH-INTERVAL;VALUE=DURATION:PT1H
X-Robots-Tag:noindex
X-PUBLISHED-TTL:PT1H
BEGIN:VTIMEZONE
TZID:Europe/Paris
BEGIN:DAYLIGHT
TZOFFSETFROM:+0100
TZOFFSETTO:+0200
TZNAME:CEST
DTSTART:20180325T010000
END:DAYLIGHT
BEGIN:STANDARD
TZOFFSETFROM:+0200
TZOFFSETTO:+0100
TZNAME:CET
DTSTART:20181028T010000
END:STANDARD
END:VTIMEZONE
BEGIN:VEVENT
DTSTART;TZID=Europe/Paris:20181130T080000
DTEND;TZID=Europe/Paris:20181202T170000
DTSTAMP:20260420T165901
CREATED:20180901T213354Z
LAST-MODIFIED:20180901T213554Z
UID:2057-1543564800-1543770000@qualif.edil33.fr
SUMMARY:Troll 6
DESCRIPTION:Nos amis de Troll Me Tender organise leur convention Troll qui revient cette année avec une 6éme édition . Avec pour thème\, les grandes révolutions ! Ça se passe du 30 Novembre au 2 Décembre au centre d’animation du grand parc ! N’hésitez pas à venir les voir ça leur fera plaisir.  🙂
URL:https://qualif.edil33.fr/event/troll-6/
LOCATION:Centre d’Animation Grand Parc\, 36 Rue Robert Schuman\, BORDEAUX\, 33000\, France
CATEGORIES:Evénement Externe (Non-EDIL)
ATTACH;FMTTYPE=image/jpeg:https://qualif.edil33.fr/wp-content/uploads/2018/09/40498381_1432018100275776_8306537741978435584_n.jpg
END:VEVENT
BEGIN:VEVENT
DTSTART;TZID=Europe/Paris:20181205T183000
DTEND;TZID=Europe/Paris:20181205T235500
DTSTAMP:20260420T165901
CREATED:20181119T120428Z
LAST-MODIFIED:20181119T120542Z
UID:2168-1544034600-1544054100@qualif.edil33.fr
SUMMARY:Tu veux pas faire autre chose de ta vie ? — Conf gesticulée
DESCRIPTION:« TU VEUX PAS FAIRE AUTRE CHOSE DE TA VIE ? »\nUne histoire du passage à l’âge adulte.\nPar Clément Charpentier.\n————————————————————————\nPrix libre (montant conseillé 5€) — 4h00 + 2 entractes\n————————————————————————\nUniversité Bordeaux Victoire – Amphi Gintrac \nSYNOPSIS\nC’est l’histoire de ces gens qui ne veulent pas devenir adulte.\nQui partent s’amuser dans la forêt\, déguisés en elfes et en chevaliers\, qui jouent aux jeux vidéos toute la journée\, qui vivent dans les livres et les BD.\nBref\, des grands enfants déconnectés de la « réalité ». \nMais\, s’ils ne font rien de sérieux\, rien d’important\, pourquoi raconter leur histoire ? \nPeut-être parce qu’elle pose\, en creux\, des questions importantes : Qu’est-ce que c’est\, exactement\, « être adulte » ? Comment la société fait de nous des adultes ? Comment ça se passe\, comment on le vit ? \nPour essayer d’y répondre\, on parlera d’adolescence\, de jeu\, du collège\, d’imaginaire\, de sous-culture\, du divertissement\, et de plein d’autres choses… \n———————————————————————— \nUNE CONFÉRENCE GESTICULÉE ? \nLa « conférence gesticulée »\, c’est une forme théâtrale hybride et tout terrain d’éducation populaire. A mi-chemin entre une conférence classique et un one man show politique\, elle est généralement investie par des personnes qui ne sont pas des comédiens professionnels. \nIls y viennent prendre la parole\, souvent avec humour\, pour parler d’une thématique en y mêlant récit de leur expérience personnelle et éléments théoriques. \n————————————————————————\nL’ÉPERVIER \nL’évènement est organisé par l’Épervier\, association geek et militante d’éducation populaire. \nhttp://eperviertrilogie.wordpress.com/ \nVous pouvez soutenir l’Épervier sur tipeee. \nhttps://www.tipeee.com/l-epervier \n————————————————————————\nLE LABO DES MOUVEMENTS SOCIAUX \nLe Laboratoire des Mouvements Sociaux est un collectif qui a pour vocation l’étude\, l’analyse et l’expérimentation des phénomènes sociaux et politiques. Il travaille à la croisée des arts et des sciences sociales afin d’œuvrer à la production et à la diffusion des savoirs.
URL:https://qualif.edil33.fr/event/tu-veux-pas-faire-autre-chose-de-ta-vie-conf-gesticulee/
LOCATION:Campus Bordeaux Victoire\, Bordeaux\, 33000\, France Métropolitaine
CATEGORIES:Evénement Externe (Non-EDIL)
ATTACH;FMTTYPE=image/jpeg:https://qualif.edil33.fr/wp-content/uploads/2018/11/45685145_363345170881918_2502543865601327104_o.jpg
END:VEVENT
END:VCALENDAR