BEGIN:VCALENDAR
VERSION:2.0
PRODID:-//Association de jeux EDIL - ECPv6.11.2.1//NONSGML v1.0//EN
CALSCALE:GREGORIAN
METHOD:PUBLISH
X-WR-CALNAME:Association de jeux EDIL
X-ORIGINAL-URL:https://qualif.edil33.fr
X-WR-CALDESC:Évènements pour Association de jeux EDIL
REFRESH-INTERVAL;VALUE=DURATION:PT1H
X-Robots-Tag:noindex
X-PUBLISHED-TTL:PT1H
BEGIN:VTIMEZONE
TZID:Europe/Paris
BEGIN:DAYLIGHT
TZOFFSETFROM:+0100
TZOFFSETTO:+0200
TZNAME:CEST
DTSTART:20150329T010000
END:DAYLIGHT
BEGIN:STANDARD
TZOFFSETFROM:+0200
TZOFFSETTO:+0100
TZNAME:CET
DTSTART:20151025T010000
END:STANDARD
END:VTIMEZONE
BEGIN:VEVENT
DTSTART;TZID=Europe/Paris:20150509T190000
DTEND;TZID=Europe/Paris:20150509T235500
DTSTAMP:20260425T145605
CREATED:20141217T224226Z
LAST-MODIFIED:20170608T165927Z
UID:922-1431198000-1431215700@qualif.edil33.fr
SUMMARY:Soirée Jeux de Rôle
DESCRIPTION:C’est le week-end du 8 mai\, c’est les exams pour certains mais il faut savoir ce détendre. Le samedi 9 mai\, l’EDIL organise une soirée Jeux de Rôle + Crêpes à volonté! \nVous voulez découvrir le Jeu de Rôles et vous amuser en incarnant votre premier personnage? Où êtes vous déjà un joueur aguerri cherchant à participer à un One Shot? \nDans tous les cas n’hésitez pas à passer à notre local pour cette soirée. \nAu programme: :\n– une partie de « Warhammer 40 000: Only War » maitrisée par Daveed.\n-d’autres parties prochainement \nDes crêpes à volonté:\nEn salé: Jambon/Fromage et Chèvre/Miel.\nEn sucré: Confitures de fraise et d’abricot\, Sucre\, Nutella\, Pate à Speculoos. \nLe prix de participation à la soirée est de 5€ pour les adhérents.\nLe prix d’une adhésion à la journée/soirée (pour les non adhérents) étant de 2€.
URL:https://qualif.edil33.fr/event/baston-jeux/
LOCATION:EDIL\, 5 place sainte eulalie\, Bordeaux\, 33000\, France
CATEGORIES:Evenement Interne (de l'EDIL)
END:VEVENT
BEGIN:VEVENT
DTSTART;TZID=Europe/Paris:20150516T140000
DTEND;TZID=Europe/Paris:20150516T170000
DTSTAMP:20260425T145605
CREATED:20140929T082054Z
LAST-MODIFIED:20170608T165919Z
UID:782-1431784800-1431795600@qualif.edil33.fr
SUMMARY:Atelier Cosplay
DESCRIPTION:Marion notre Cosplayeuse en chef fait des Ateliers Cosplay à l’EDIL.\nCet atelier est là pour non seulement travailler sur ses projets\, mais aussi pour échanger ses idées et papoter dans la joie et bonne humeur pendant que l’on travaille. En espérant vous y voir !
URL:https://qualif.edil33.fr/event/atelier-cosplay-9/
LOCATION:EDIL\, 5 place sainte eulalie\, Bordeaux\, 33000\, France
CATEGORIES:Evenement Interne (de l'EDIL)
END:VEVENT
BEGIN:VEVENT
DTSTART;TZID=Europe/Paris:20150517T140000
DTEND;TZID=Europe/Paris:20150517T235500
DTSTAMP:20260425T145605
CREATED:20150525T060315Z
LAST-MODIFIED:20170608T165914Z
UID:1033-1431871200-1431906900@qualif.edil33.fr
SUMMARY:Tournoi + Découverte de CONQUEST
DESCRIPTION:Vous aimer les jeux de cartes évolutifs et vous aimer l’univers de Warhammer 40 000? \nAlors cet après-midi est fait pour vous. Rendez vous le dimanche 17 Mai pour découvrir ce jeu et pour participer à notre tournoi maison avant le tournoi régional de Conquest qui aura lieu chez notre partenaire Jeux Descartes Bordeaux le samedi 13 Juin. \nAlors si vous voulez en savoir plus sur le futur sombre et apocalyptique du 41ème millénaire n’hésitez pas à passer à notre local dès 14h. \nL’adhésion à l’association à la journée est seulement à 2€. Alors profitez en.
URL:https://qualif.edil33.fr/event/tournoi-decouverte-de-conquest/
LOCATION:EDIL\, 5 place sainte eulalie\, Bordeaux\, 33000\, France
CATEGORIES:Evenement Interne (de l'EDIL)
END:VEVENT
BEGIN:VEVENT
DTSTART;TZID=Europe/Paris:20150525T190000
DTEND;TZID=Europe/Paris:20150525T235500
DTSTAMP:20260425T145605
CREATED:20150228T094648Z
LAST-MODIFIED:20170608T165908Z
UID:982-1432580400-1432598100@qualif.edil33.fr
SUMMARY:Towel Day!
DESCRIPTION:Petite création de l’association « Les j3ux sont faits »:\nhttp://www.fait-maison.com/bijoux/collier-et-pendentif/eith_collier-42-collection-h2g2.html \nLe lundi 25 mai c’est le TOWEL DAY! Ou le jour de la serviette! Ce jour particulier est le jour dédié à la célébration annuelle rendant hommage à l’écrivain britannique Douglas Adams. Mais si vous savez \, c’est celui qui a fait « H2G2: Le Guide du Voyageur Galactique »! \nMais pourquoi une serviette de bain? On vous laisse cet extrait du guide :\n« La serviette est sans doute l’objet le plus vastement utile que puisse posséder le voyageur interstellaire. D’abord\, par son aspect pratique : vous pouvez vous drapez dedans pour traverser les lunes glaciales de Jaglan Bêta ; vous pouvez vous allonger dessus pour bronzer sur les sables marbrés de ces plages irisées de Santraginus V où l’on respire d’entêtants embruns ; vous pouvez vous glisser dessous\, pour dormir sous les étoiles\, si rouges\, qui embrasent le monde désert de Kakrafoon ; vous en servir pour gréer un mini-radeau sur les eaux lourdes et lentes du fleuve Mite ; une fois mouillée\, l’utiliser en combat à mains nues ; vous encapuchonner la tête avec afin de vous protéger des vapeurs toxiques ou bien éviter le regard du hanneton glouton de tron (un animal d’une atterrante stupidité : il est persuadé que si vous ne le voyez pas\, il ne vous voit pas non plus – con comme un balai mais très\, très\, très glouton) ; en cas d’urgence\, cous pouvez agiter votre serviette pour faire des signeaux de détresse et\, bien entendu\, vous pouvez toujours vous essuyer avec si elle vous paraît encore assez propre. \nPlus important\, la serviette revêt une considérable valeur psychologique : si pour quelque raison\, un rampant (= non routard) découvre qu’un routard a sur lui une serviette\, il en déduira illico que ce dernier possède également brosse à dents\, gants de toilette\, savonette\, boîte de biscuits\, gourde\, boussole\, carte\, pelote de ficelle\, crème à moustiques\, imperméable\, scaphandre spatial\, etc. Mieux encore\, le rampant sera même heureux de prêter alors au routard l’un ou l’autre des susdits articles (voire une douzaine d’autres) que ledit routard aurait accidentellement pu « oublier »; son raisonnement étant que tout homme ainsi capable de sillonner de long en large la galaxie en vivant à la dure\, de zoner en affrontant de terribles épreuves et de s’en tirer sans avoir perdu sa serviette ne peut être assurément qu’un homme digne d’estime.  » \nAlors si vous voulez en apprendre plus sur H2G2\, écouter des extraits radios sur les livres de H2G2 et venir avec votre serviette pour découvrir l’espace intersidéral\, ça se passe à notre local. 😉 \nCa sera aussi l’ocassion de faire des jeux sur le thème de l’espace et de l’absurde.
URL:https://qualif.edil33.fr/event/982/
LOCATION:EDIL\, 5 place sainte eulalie\, Bordeaux\, 33000\, France
CATEGORIES:Evenement Interne (de l'EDIL)
END:VEVENT
BEGIN:VEVENT
DTSTART;TZID=Europe/Paris:20150530T190000
DTEND;TZID=Europe/Paris:20150530T235500
DTSTAMP:20260425T145605
CREATED:20150228T094554Z
LAST-MODIFIED:20170608T165903Z
UID:981-1433012400-1433030100@qualif.edil33.fr
SUMMARY:Soirée Jeux de Course
DESCRIPTION:Vous êtes fan de jeux à l’ancienne? Des jeux sur Gamecube\, Super Nes\, Mega Drive\, PS2\, PS1? \nL’EDIL organise une soirée jeux vidéo. La dernière fois il y a eu un tournoi de Mario Kart Wii U et cette fois ce sera: \n-Une soirée dédié aux jeux de courses: F-ZERO \, F-ZERO GX\, Sonic\, Mario Kart 64! \n-Et aussi POP CORN PARTY! \nLa soirée est gratuite pour les membres et à 2€ seulement pour les non membres. \nAlors n’hésitez pas à venir. En plus on aura un grand écran pour retranscrire les meilleurs matchs! 😀
URL:https://qualif.edil33.fr/event/tournoi-jeux-videos-3/
LOCATION:EDIL\, 5 place sainte eulalie\, Bordeaux\, 33000\, France
CATEGORIES:Evenement Interne (de l'EDIL)
END:VEVENT
END:VCALENDAR