BEGIN:VCALENDAR
VERSION:2.0
PRODID:-//Association de jeux EDIL - ECPv6.11.2.1//NONSGML v1.0//EN
CALSCALE:GREGORIAN
METHOD:PUBLISH
X-ORIGINAL-URL:https://qualif.edil33.fr
X-WR-CALDESC:Évènements pour Association de jeux EDIL
REFRESH-INTERVAL;VALUE=DURATION:PT1H
X-Robots-Tag:noindex
X-PUBLISHED-TTL:PT1H
BEGIN:VTIMEZONE
TZID:Europe/Paris
BEGIN:DAYLIGHT
TZOFFSETFROM:+0100
TZOFFSETTO:+0200
TZNAME:CEST
DTSTART:20150329T010000
END:DAYLIGHT
BEGIN:STANDARD
TZOFFSETFROM:+0200
TZOFFSETTO:+0100
TZNAME:CET
DTSTART:20151025T010000
END:STANDARD
END:VTIMEZONE
BEGIN:VEVENT
DTSTART;TZID=Europe/Paris:20150606T190000
DTEND;TZID=Europe/Paris:20150606T235500
DTSTAMP:20260425T132611
CREATED:20141217T224742Z
LAST-MODIFIED:20170608T165852Z
UID:926-1433617200-1433634900@qualif.edil33.fr
SUMMARY:Exploration Spatiale
DESCRIPTION:« Dans l’espace personne ne vous entend crier…Heureusement il y a une station spatiale perdue au beau milieu de l’espace où vous pourrez tenter de vous détendre à attendant votre prochain voyage interstellaire. \nEn effet les explorateurs\, les mercenaires et les scientifiques de l’EDIL vous invite à venir le Samedi 6 Juin à 19h pour jouer et parler de l’avenir de la galaxie. » \nPour cette soirée nous vous invitons à venir jouer à des jeux dans le thème de l’Exploration Spatiale. \nAu programme: \n– des parties de JDR: \n– des parties de jeux de plateau: Battlestar Galactica\, Dune\, Munchkin Star Wars\, etc… \n– des parties de jeux de cartes: Warhammer 40 000 Conquest\, Race for the Galaxy\, etc… \nPour le repas nous vous proposons des crêpes à volonté (dans la limite des stocks disponible):\n-Jambon-Fromage/ Chêvre-Miel\n-Nutella\, speculoos\, sucre\, confitures\, etc… \nLe prix de participation à la soirée est de 5€ pour les adhérents.\nLe prix d’une adhésion à la journée/soirée (pour les non adhérents) étant de 2€ ce qui revient à 7€ la soirée. \nPour finir n’hésitez pas à vous parrer de vos plus beaux
URL:https://qualif.edil33.fr/event/exploration-spatiale/
LOCATION:EDIL\, 5 place sainte eulalie\, Bordeaux\, 33000\, France
CATEGORIES:Evenement Interne (de l'EDIL)
END:VEVENT
BEGIN:VEVENT
DTSTART;TZID=Europe/Paris:20150613T210000
DTEND;TZID=Europe/Paris:20150613T235500
DTSTAMP:20260425T132611
CREATED:20150609T074127Z
LAST-MODIFIED:20170608T165845Z
UID:1063-1434229200-1434239700@qualif.edil33.fr
SUMMARY:Soirée Kung Fury
DESCRIPTION:Copyright Laser Unicorns Lampray\, or the graphic artist Andreas Bennwik \n« Alors qu’il vient de remonter le temps pour atterrir en Allemagne nazie\, Kung Fury \, notre héro\, est rejoint par Thor\, des femmes vikings armées d’Uzi et chevauchant un tyrannosaure\, un nerd à lunettes capable de hacker n’importe quoi et tricéracops\, un policier à tête de tricératops. Ensemble\, ils doivent affronter le « plus grand criminel de tous les temps » et maître en arts martiaux : Adolf Hitler\, alias « Kung Führer » » \nVoila le pitch de ce petit court-métrage diffusé sur le net gratuitement par le studio Laser Unicorns. Si vous souhaitez vous aussi vivre une soirée palpitante s’inspirant des meilleurs films de séries Z et de Grindhouse n’hésitez pas à venir voir le film que nous aurons en version FULL-HD! \nC’est samedi prochain\, le 13 Juin à 19h! 🙂 \nVoici un lien vers la bande annonce: https://www.youtube.com/watch?v=72RqpItxd8M \nNous pourrons continuer la soirée avec :\n-du jeux de rôles dans le thème: Brain Soda\, Bimbo\, etc…\n-du jeu de plateau: Hollywood\, Zombie Cinéma \nLa soirée est gratuite pour les membres.\nL’adhésion à la soirée est à 2€ pour les non membres
URL:https://qualif.edil33.fr/event/soiree-kung-fury/
LOCATION:EDIL\, 5 place sainte eulalie\, Bordeaux\, 33000\, France
CATEGORIES:Evenement Interne (de l'EDIL)
END:VEVENT
BEGIN:VEVENT
DTSTART;TZID=Europe/Paris:20150620T140000
DTEND;TZID=Europe/Paris:20150620T170000
DTSTAMP:20260425T132611
CREATED:20140929T082140Z
LAST-MODIFIED:20170608T165831Z
UID:783-1434808800-1434819600@qualif.edil33.fr
SUMMARY:Atelier Cosplay
DESCRIPTION:Marion notre Cosplayeuse en chef fait des Ateliers Cosplay à l’EDIL.\nCet atelier est là pour non seulement travailler sur ses projets\, mais aussi pour échanger ses idées et papoter dans la joie et bonne humeur pendant que l’on travaille. En espérant vous y voir !
URL:https://qualif.edil33.fr/event/atelier-cosplay-10/
LOCATION:EDIL\, 5 place sainte eulalie\, Bordeaux\, 33000\, France
CATEGORIES:Evenement Interne (de l'EDIL)
END:VEVENT
END:VCALENDAR