BEGIN:VCALENDAR
VERSION:2.0
PRODID:-//Association de jeux EDIL - ECPv6.11.2.1//NONSGML v1.0//EN
CALSCALE:GREGORIAN
METHOD:PUBLISH
X-ORIGINAL-URL:https://qualif.edil33.fr
X-WR-CALDESC:Évènements pour Association de jeux EDIL
REFRESH-INTERVAL;VALUE=DURATION:PT1H
X-Robots-Tag:noindex
X-PUBLISHED-TTL:PT1H
BEGIN:VTIMEZONE
TZID:Europe/Paris
BEGIN:DAYLIGHT
TZOFFSETFROM:+0100
TZOFFSETTO:+0200
TZNAME:CEST
DTSTART:20170326T010000
END:DAYLIGHT
BEGIN:STANDARD
TZOFFSETFROM:+0200
TZOFFSETTO:+0100
TZNAME:CET
DTSTART:20171029T010000
END:STANDARD
END:VTIMEZONE
BEGIN:VEVENT
DTSTART;TZID=Europe/Paris:20171105T100000
DTEND;TZID=Europe/Paris:20171105T170000
DTSTAMP:20260423T141457
CREATED:20171006T073507Z
LAST-MODIFIED:20171108T210320Z
UID:1858-1509876000-1509901200@qualif.edil33.fr
SUMMARY:Akya Murder Party Session 1: Dimanche 5 Novembre
DESCRIPTION:Le dimanche 5 Novembre prochain Claire et David\, organisons une murder-party au local de l’EDIL nommée « Akya »!\n \nVoici le pitch: \n « Par décret impérial\, votre vaisseau\, le Skidbladnir\, a quitté son port d’attache pour une mission diplomatique vers la lointaine planète Akya. Le détachement officiel y a reçu un accueil plus chaleureux qu’attendu\, et peu auraient parié que la planète hostile cèderait un émissaire à l’expédition. Ce dernier aurait toute latitude pour sceller au nom des siens les accords tant espérés par l’Empire. \n Akya est déjà plusieurs jours derrière vous lorsque résonne le signal d’alarme\, doublé du message autoritaire du capitaine vous sommant de vous rendre sur le pont. A en croire l’ordinateur de bord\, la pilote est introuvable\, les coordonnées de vol ont été\n modifiées\, un passager clandestin rôde dans les parages et le vaisseau file droit vers une barrière d’astéroïdes… » \nIl s’agit d’une murder party pour 11 joueurs\, d’une durée en jeu d’environ 5 heures\, s’inscrivant dans un univers de science-fiction. Celle-ci a été écrite par Caroline Paës (Laufey) et mis en couleur par Eva Le Hegarat (Black stain) pour les illustrations et par Alexandra Louys (Llyrielle) pour les éléments de mise en page. \nNous ferons 2 sessions de la murder avec deux groupes de joueurs différents! La première session est le dimanche 5 novembre entre 10h et 17h  et la deuxième dans le courant du mois! \nVoici la fiche d’inscription à la murder>> CLIQUEZ ICI!! \nLa PAF de la murder party est à 10€ (à régler par chèque) celle-ci servant à financer du décorum pour la murder\, divers éléments de jeux\, à louer le local de l’EDIL pour la journée et aussi pour vous proposer un repas en jeu original pour l’ensemble des participants. \nOn attends vos inscriptions avec impatience!  \n[PS: On précise également que le local de l’EDIL sera totalement dédié à la murder mais sera de nouveau accessible aux environs de 17h donc si des gens souhaitent faire des trucs au local ça sera après la session de murder. Pas la peine de venir gratter à la porte avant car ça ne sera pas possible. ]
URL:https://qualif.edil33.fr/event/akya-murder-party-session-2-dimanche-5-novembre/
LOCATION:EDIL\, 5 place sainte eulalie\, Bordeaux\, 33000\, France
CATEGORIES:Evenement Interne (de l'EDIL),Murder-Party
ATTACH;FMTTYPE=image/jpeg:https://qualif.edil33.fr/wp-content/uploads/2017/10/akya_EDIL.jpg
END:VEVENT
BEGIN:VEVENT
DTSTART;TZID=Europe/Paris:20171111T170000
DTEND;TZID=Europe/Paris:20171111T210000
DTSTAMP:20260423T141457
CREATED:20171107T200518Z
LAST-MODIFIED:20171107T205755Z
UID:1887-1510419600-1510434000@qualif.edil33.fr
SUMMARY:Scénaristique JDR : La Surprise
DESCRIPTION:Problématique de l’atelier :\n« Asymétrie d’information\, Outils de suspense\, Installation d’ambiances et effets de théâtre dans le JDR : Comment susciter et gérer la Surprise ? «  \nComment se laisser Surprendre en partie de Jeu de roles ?\nAvez-vous déja \, Joueurs et Joueuses \, été ennuyé(e) dans une partie car rien ne vous y surprenait ? Pas même les coups d’éclats supposés de votre MJ ?\nAvez-vous déjà MJ’s été ennuyé(e)s par vos sessions ? Car même si celle-ci « c’est passée comme prévu » rien de surprenant n’est arrivé ? \n Avec le support de Thomas ( Judas du Tips JDR ) et Sieg ( Ingénieur Son et Grand Monarque du chrono 5136 ) \, on en parle et on vous donne nos points de vues sous une présentation Coop ! \nEt n’oubliez pas : Le MJ est un Joueur comme les autres !
URL:https://qualif.edil33.fr/event/scenaristique-jdr-la-surprise/
LOCATION:EDIL\, 5 place sainte eulalie\, Bordeaux\, 33000\, France
CATEGORIES:Evenement Interne (de l'EDIL)
ATTACH;FMTTYPE=image/jpeg:https://qualif.edil33.fr/wp-content/uploads/2017/11/22813985_1085686011612435_6117654224756460673_n.jpg
END:VEVENT
BEGIN:VEVENT
DTSTART;TZID=Europe/Paris:20171113T000000
DTEND;TZID=Europe/Paris:20171113T170000
DTSTAMP:20260423T141457
CREATED:20171108T204952Z
LAST-MODIFIED:20171108T205035Z
UID:1911-1510531200-1510592400@qualif.edil33.fr
SUMMARY:Ligue debutant Warmachine/Hordes
DESCRIPTION:Salut a tous et a toutes! \nNous avons l’honneur de pouvoir accueillir une ligue du jeu d’escarmouche Hordes/Warmahine. \nEn effet\, l’association possede 4 armées de warmachine et 2 armées Hordes à disposition\, pour permettre à tous de jouer sans avoir à acheter la moindre figurine\, dés \, mètre ou autres. \nLe concept est simple\, vous venez en sachant jouer ou pas\, avec votre armée ou une du pool disponible\, et vous faites une partie. \nLes parties sont comptabilisées par faction et un ratio sera fait à l’issu de chaque mois pour savoir qu’elle est la faction en tête. \nLe format débutant comprends le battlegroup +20 point ce qui correspond a 30 min de jeu par joueur en général.\n\nLes armées disponibles sont: \nLes brutes venues du froid que l’on nomme les Khadors ! \nLes élus de la non-vie craints dans tous les tournois Les Cryx ! \nLes templiers au tempéremment de feu que sont les Menoths ! \nLes fins stratèges humains maître de la technologie et de la foudre les Cygnars ! \nEt enfin pour représenter la brutalite présente dans Hordes les vicieux et pervers Skornes ! \nLes plus rapides et discrets mener par les druides Oroboros ! \nIncarnez le général de l’une de ces factions lors d’une ou plusieurs parties selon vos disponibilitées. \nEn sachant que les Trollbloods sont représentes par notre Fulgurohache et qu’ils resistent à tout ! \nFlorent de son côté pourra vous surprendre par les airs avec ses Everblights ! \nEt en niveau bonus Erik tentera de vous voler vos ames avec ses Cryx et vous accueillera pour ce faire dans son antre.
URL:https://qualif.edil33.fr/event/ligue-debutant-warmachinehordes/
LOCATION:EDIL\, 5 place sainte eulalie\, Bordeaux\, 33000\, France
CATEGORIES:Evenement Interne (de l'EDIL)
ATTACH;FMTTYPE=image/jpeg:https://qualif.edil33.fr/wp-content/uploads/2017/11/23270209_10213211704025815_939745416836159989_o.jpg
END:VEVENT
BEGIN:VEVENT
DTSTART;TZID=Europe/Paris:20171117T200000
DTEND;TZID=Europe/Paris:20171117T230000
DTSTAMP:20260423T141457
CREATED:20171107T202744Z
LAST-MODIFIED:20171107T202841Z
UID:1896-1510948800-1510959600@qualif.edil33.fr
SUMMARY:Star Wars Jeu De Cartes Initiation
DESCRIPTION:Organisé par Emmanuel Roy\, celui propose une découverte du jeux « Star Wars JCE » dont voici une présentation: \n« Dans Star Wars : Le Jeu de Cartes™\, deux joueurs s’affrontent pour décider du sort de la galaxie. Rejoignez Luke Skywalker\, Han Solo\, la princesse Leia Organa\, Obi-Wan Kenobi avec tous ceux qui défient l’Empire galactique et résistent aux agents Sith corrompus. Ou abandonnez-vous à la colère et combattez aux côtés de Dark Vador\, de l’Empereur Palpatine\, du Grand Moff Tarkin et de la puissance infinie de l’Empire galactique\, pour écraser l’Alliance rebelle et les vestiges de l’Ordre Jedi. » \nAlors si vous aimez les jeux de cartes n’hésitez pas à venir. 🙂
URL:https://qualif.edil33.fr/event/star-wars-jeu-de-cartes-initiation/
LOCATION:EDIL\, 5 place sainte eulalie\, Bordeaux\, 33000\, France
CATEGORIES:Evenement Interne (de l'EDIL)
ATTACH;FMTTYPE=image/jpeg:https://qualif.edil33.fr/wp-content/uploads/2017/11/boite-de-base-star-wars-jce.jpg
END:VEVENT
BEGIN:VEVENT
DTSTART;TZID=Europe/Paris:20171125T180000
DTEND;TZID=Europe/Paris:20171202T180000
DTSTAMP:20260423T141457
CREATED:20171113T230418Z
LAST-MODIFIED:20171113T230418Z
UID:1920-1511632800-1512237600@qualif.edil33.fr
SUMMARY:5ème Bourse aux Jeux de Noël
DESCRIPTION:Après le succès des quatres bourses aux jeux des quatres dernières années\, l’association EDIL organise de nouveau sa BOURSE AUX JEUX afin de permettre à tous de vendre et acheter des jeux et autres petites merveilles ludiques lors de cette période festive qu’est Noël et le Jour de l’An. \nLa bourse est ouverte à tous et le dépôt des jeux est de 2€ seulement par dépôts tous les 5 jeux. Pour les adhérents de l’association il y a une remise de 50% par dépôts. 😉 \nVous pouvez déposer des jeux de plateaux\, des jeux de rôles\, des jeux de cartes\, des jeux de figurines\, des DVD\, des livres et romans ou tout autre chose qui vous passent par la tête du moment que cela rentre dans les univers de l’imaginaire. \nAlors\, n’hésitez pas à déposer les jeux que vous voulez vendre entre le samedi 25 Novembre et le vendredi 1 Décembre de 18h et 21h à notre local\, puis passer le Samedi 2 Décembre de 11h à 18h\, également à notre local\, pour acquérir les jeux proposés. \nDe plus le Samedi 2 Décembre à partir de 19h nous vous invitons à participer à une Soirée Raclette! Ca sera l’occasion de déguster un bon repas chaud et surtout après de tester les jeux que vous venez d’acquérir: https://www.facebook.com/events/1976743815898728/ 🙂 \nN’hésitez pas à transmettre cet événement à vos amis et connaissances. \nPour tous renseignements complémentaires:\nNotre site web: http://www.edil33.fr/\n L’adresse de notre local: 5 Place Ste Eulalie 33000 BORDEAUX\n L’adresse mail: bourse@edil33.fr
URL:https://qualif.edil33.fr/event/5eme-bourse-aux-jeux-de-noel/
LOCATION:EDIL\, 5 place sainte eulalie\, Bordeaux\, 33000\, France
CATEGORIES:Evenement Interne (de l'EDIL)
ATTACH;FMTTYPE=image/jpeg:https://qualif.edil33.fr/wp-content/uploads/2017/11/banierefacebook.jpg
END:VEVENT
BEGIN:VEVENT
DTSTART;TZID=Europe/Paris:20171125T190000
DTEND;TZID=Europe/Paris:20171125T230000
DTSTAMP:20260423T141457
CREATED:20171008T092315Z
LAST-MODIFIED:20171008T093244Z
UID:1862-1511636400-1511650800@qualif.edil33.fr
SUMMARY:Vampire Camarilla Bordelaise
DESCRIPTION:Bonjour\, \nVous avez envie de jouer dans le Monde des Ténèbres\, incarnant un Vampire de la cours de Bordeaux ? Vous êtes les bienvenus ! \nPour s’inscrire si vous n’êtes pas déjà joueur : conteurbdx@gmail.com
URL:https://qualif.edil33.fr/event/vampire-camarilla-bordelaise-3/
LOCATION:Centre d’Animation Grand Parc\, 36 Rue Robert Schuman\, BORDEAUX\, 33000\, France
CATEGORIES:Evenement Interne (de l'EDIL),Murder-Party
ATTACH;FMTTYPE=image/jpeg:https://qualif.edil33.fr/wp-content/uploads/2017/10/camarilla_bordelaise.jpg
END:VEVENT
END:VCALENDAR