BEGIN:VCALENDAR
VERSION:2.0
PRODID:-//Association de jeux EDIL - ECPv6.11.2.1//NONSGML v1.0//EN
CALSCALE:GREGORIAN
METHOD:PUBLISH
X-WR-CALNAME:Association de jeux EDIL
X-ORIGINAL-URL:https://qualif.edil33.fr
X-WR-CALDESC:Évènements pour Association de jeux EDIL
REFRESH-INTERVAL;VALUE=DURATION:PT1H
X-Robots-Tag:noindex
X-PUBLISHED-TTL:PT1H
BEGIN:VTIMEZONE
TZID:Europe/Paris
BEGIN:DAYLIGHT
TZOFFSETFROM:+0100
TZOFFSETTO:+0200
TZNAME:CEST
DTSTART:20170326T010000
END:DAYLIGHT
BEGIN:STANDARD
TZOFFSETFROM:+0200
TZOFFSETTO:+0100
TZNAME:CET
DTSTART:20171029T010000
END:STANDARD
END:VTIMEZONE
BEGIN:VEVENT
DTSTART;TZID=Europe/Paris:20171125T180000
DTEND;TZID=Europe/Paris:20171202T180000
DTSTAMP:20260423T124827
CREATED:20171113T230418Z
LAST-MODIFIED:20171113T230418Z
UID:1920-1511632800-1512237600@qualif.edil33.fr
SUMMARY:5ème Bourse aux Jeux de Noël
DESCRIPTION:Après le succès des quatres bourses aux jeux des quatres dernières années\, l’association EDIL organise de nouveau sa BOURSE AUX JEUX afin de permettre à tous de vendre et acheter des jeux et autres petites merveilles ludiques lors de cette période festive qu’est Noël et le Jour de l’An. \nLa bourse est ouverte à tous et le dépôt des jeux est de 2€ seulement par dépôts tous les 5 jeux. Pour les adhérents de l’association il y a une remise de 50% par dépôts. 😉 \nVous pouvez déposer des jeux de plateaux\, des jeux de rôles\, des jeux de cartes\, des jeux de figurines\, des DVD\, des livres et romans ou tout autre chose qui vous passent par la tête du moment que cela rentre dans les univers de l’imaginaire. \nAlors\, n’hésitez pas à déposer les jeux que vous voulez vendre entre le samedi 25 Novembre et le vendredi 1 Décembre de 18h et 21h à notre local\, puis passer le Samedi 2 Décembre de 11h à 18h\, également à notre local\, pour acquérir les jeux proposés. \nDe plus le Samedi 2 Décembre à partir de 19h nous vous invitons à participer à une Soirée Raclette! Ca sera l’occasion de déguster un bon repas chaud et surtout après de tester les jeux que vous venez d’acquérir: https://www.facebook.com/events/1976743815898728/ 🙂 \nN’hésitez pas à transmettre cet événement à vos amis et connaissances. \nPour tous renseignements complémentaires:\nNotre site web: http://www.edil33.fr/\n L’adresse de notre local: 5 Place Ste Eulalie 33000 BORDEAUX\n L’adresse mail: bourse@edil33.fr
URL:https://qualif.edil33.fr/event/5eme-bourse-aux-jeux-de-noel/
LOCATION:EDIL\, 5 place sainte eulalie\, Bordeaux\, 33000\, France
CATEGORIES:Evenement Interne (de l'EDIL)
ATTACH;FMTTYPE=image/jpeg:https://qualif.edil33.fr/wp-content/uploads/2017/11/banierefacebook.jpg
END:VEVENT
BEGIN:VEVENT
DTSTART;TZID=Europe/Paris:20171202T190000
DTEND;TZID=Europe/Paris:20171202T235500
DTSTAMP:20260423T124827
CREATED:20171113T230558Z
LAST-MODIFIED:20171113T230558Z
UID:1922-1512241200-1512258900@qualif.edil33.fr
SUMMARY:Soirée Raclette et Jeux
DESCRIPTION:Le Samedi 2 Décembre au soir nous organisons un grand repas à l’EDIL!! Dès 19h! \nUn Repas Raclette\, de la patate pour tous\, du fromage\, du jambon blanc et du jambon de bayonne\, et du bacon! Le tout avec quelques cornichons et champignons !\nLe prix de la soirée est en cours de calcul. \nIl est possible de ramener un peu de fromage et charcuterie lors de l’évènement. \nDu vin et du cidre seront à votre disposition. \nDe plus nous avons besoin de votre aide: nous avons besoin d’ appareils à raclette pour que vous puissiez ripailler toute la soirée. Si vous une de ces machines n’hésitez pas à l’apporter pour partager un bon repas avec vos amis. \nAu fait le vendredi 1er Décembre et samedi 2 Décembre il y aura la Bourse aux Jeux de Nöel alors si vous voulez accquérir un jeu ou un cadeau lors de cette période n’hésitez pas: https://www.facebook.com/events/185143912036566/ 🙂
URL:https://qualif.edil33.fr/event/soiree-raclette-et-jeux/
LOCATION:EDIL\, 5 place sainte eulalie\, Bordeaux\, 33000\, France
CATEGORIES:Evenement Interne (de l'EDIL)
ATTACH;FMTTYPE=image/jpeg:https://qualif.edil33.fr/wp-content/uploads/2017/11/BANNER_RACLETTE.jpg
END:VEVENT
BEGIN:VEVENT
DTSTART;TZID=Europe/Paris:20171203T100000
DTEND;TZID=Europe/Paris:20171203T170000
DTSTAMP:20260423T124827
CREATED:20171113T230101Z
LAST-MODIFIED:20171113T230101Z
UID:1918-1512295200-1512320400@qualif.edil33.fr
SUMMARY:Akya Murder Party Session 2: Dimanche 3 Décembre
DESCRIPTION:Le dimanche 3 Décembre prochain Claire et David\, organisons une murder-party au local de l’EDIL nommée « Akya »!\n \nVoici le pitch: \n « Par décret impérial\, votre vaisseau\, le Skidbladnir\, a quitté son port d’attache pour une mission diplomatique vers la lointaine planète Akya. Le détachement officiel y a reçu un accueil plus chaleureux qu’attendu\, et peu auraient parié que la planète hostile cèderait un émissaire à l’expédition. Ce dernier aurait toute latitude pour sceller au nom des siens les accords tant espérés par l’Empire. \n Akya est déjà plusieurs jours derrière vous lorsque résonne le signal d’alarme\, doublé du message autoritaire du capitaine vous sommant de vous rendre sur le pont. A en croire l’ordinateur de bord\, la pilote est introuvable\, les coordonnées de vol ont été\n modifiées\, un passager clandestin rôde dans les parages et le vaisseau file droit vers une barrière d’astéroïdes… » \nIl s’agit d’une murder party pour 11 joueurs\, d’une durée en jeu d’environ 5 heures\, s’inscrivant dans un univers de science-fiction. Celle-ci a été écrite par Caroline Paës (Laufey) et mis en couleur par Eva Le Hegarat (Black stain) pour les illustrations et par Alexandra Louys (Llyrielle) pour les éléments de mise en page.! \nVoici la fiche d’inscription à la murder>> CLIQUEZ ICI!!\nEnvoyez votre réponse par mail à murder.akya@gmail.com \nLa PAF de la murder party est à 10€ (à régler par chèque) celle-ci servant à financer du décorum pour la murder\, divers éléments de jeux\, à louer le local de l’EDIL pour la journée et aussi pour vous proposer un repas en jeu original pour l’ensemble des participants. \nOn attends vos inscriptions avec impatience!  \n[PS: On précise également que le local de l’EDIL sera totalement dédié à la murder mais sera de nouveau accessible aux environs de 17h donc si des gens souhaitent faire des trucs au local ça sera après la session de murder. Pas la peine de venir gratter à la porte avant car ça ne sera pas possible. ]
URL:https://qualif.edil33.fr/event/akya-murder-party-session-2-dimanche-3-decembre/
LOCATION:EDIL\, 5 place sainte eulalie\, Bordeaux\, 33000\, France
CATEGORIES:Evenement Interne (de l'EDIL),Murder-Party
ATTACH;FMTTYPE=image/jpeg:https://qualif.edil33.fr/wp-content/uploads/2017/11/akya_EDIL.jpg
END:VEVENT
BEGIN:VEVENT
DTSTART;TZID=Europe/Paris:20171216T190000
DTEND;TZID=Europe/Paris:20171216T235500
DTSTAMP:20260423T124827
CREATED:20171008T092400Z
LAST-MODIFIED:20171008T093255Z
UID:1863-1513450800-1513468500@qualif.edil33.fr
SUMMARY:Vampire Camarilla Bordelaise
DESCRIPTION:Bonjour\, \nVous avez envie de jouer dans le Monde des Ténèbres\, incarnant un Vampire de la cours de Bordeaux ? Vous êtes les bienvenus ! \nPour s’inscrire si vous n’êtes pas déjà joueur : conteurbdx@gmail.com
URL:https://qualif.edil33.fr/event/vampire-camarilla-bordelaise-4/
LOCATION:Centre d’Animation Grand Parc\, 36 Rue Robert Schuman\, BORDEAUX\, 33000\, France
CATEGORIES:Evenement Interne (de l'EDIL),Semi-Réel
ATTACH;FMTTYPE=image/jpeg:https://qualif.edil33.fr/wp-content/uploads/2017/10/camarilla_bordelaise.jpg
END:VEVENT
BEGIN:VEVENT
DTSTART;TZID=Europe/Paris:20171224T190000
DTEND;TZID=Europe/Paris:20171224T235500
DTSTAMP:20260423T124827
CREATED:20171229T092854Z
LAST-MODIFIED:20171229T092854Z
UID:1935-1514142000-1514159700@qualif.edil33.fr
SUMMARY:Un réveillon dans l'Imaginaire Ludique
DESCRIPTION:Salut à tous !\nLe réveillon\, ses dindes\, ses marrons\, sa belle mère et ses débats de sociétés…. Souvenirs d’enfance et Rêveries d’adultes. Moment de partage et de communion : instant d’association. \nIl en reste pourtant qui sont loins de leurs proches\, étudiants\, salariés\, voyageurs\, aventuriers des temps modernes\, loups des steppes. Mais Il reste aussi un coin de chaleur et de convivialité : notre Assos ! \nRejoignez-nous le 24 au soir une seule consigne : ramenez exceptionnellement à manger pour participer à notre banquet ! Que vous vouliez nous faire découvrir un plat ou ramener un beau roti : venez partagez avec nous ! ( et meme si votre temps ou porte monnaie vous fait arriver les mains vides qu’importe pourvu qu’on soit ensembles les amis ! Au pire y a une buvette ). \nEt puis si vous n’avez pas faim\, venez simplement jouer ! \nAvec l’aimable accord de notre Président\,\nCordialement.
URL:https://qualif.edil33.fr/event/un-reveillon-dans-limaginaire-ludique/
LOCATION:EDIL\, 5 place sainte eulalie\, Bordeaux\, 33000\, France
CATEGORIES:Evenement Interne (de l'EDIL)
ATTACH;FMTTYPE=image/jpeg:https://qualif.edil33.fr/wp-content/uploads/2017/12/25442766_10214671888451661_3159817572143161260_n.jpg
END:VEVENT
END:VCALENDAR