BEGIN:VCALENDAR
VERSION:2.0
PRODID:-//Association de jeux EDIL - ECPv6.11.2.1//NONSGML v1.0//EN
CALSCALE:GREGORIAN
METHOD:PUBLISH
X-WR-CALNAME:Association de jeux EDIL
X-ORIGINAL-URL:https://qualif.edil33.fr
X-WR-CALDESC:Évènements pour Association de jeux EDIL
REFRESH-INTERVAL;VALUE=DURATION:PT1H
X-Robots-Tag:noindex
X-PUBLISHED-TTL:PT1H
BEGIN:VTIMEZONE
TZID:Europe/Paris
BEGIN:DAYLIGHT
TZOFFSETFROM:+0100
TZOFFSETTO:+0200
TZNAME:CEST
DTSTART:20180325T010000
END:DAYLIGHT
BEGIN:STANDARD
TZOFFSETFROM:+0200
TZOFFSETTO:+0100
TZNAME:CET
DTSTART:20181028T010000
END:STANDARD
END:VTIMEZONE
BEGIN:VEVENT
DTSTART;TZID=Europe/Paris:20180105T200000
DTEND;TZID=Europe/Paris:20180105T235500
DTSTAMP:20260423T111915
CREATED:20180104T231130Z
LAST-MODIFIED:20180104T231441Z
UID:1939-1515182400-1515196500@qualif.edil33.fr
SUMMARY:Soirée jeux de plateau au Melt !
DESCRIPTION:Vendredi 5 janvier\, nous serons chez nos amis (et voisins) du Meltdown Bordeaux pour une soirée jeux de plateau! \nDés\, cartes ou pions\, venez tâter du plateau autour d’une bière !
URL:https://qualif.edil33.fr/event/soiree-jeux-de-plateau-au-melt/
LOCATION:Meltdown Bordeaux\,  129 Cours d'Albret\, Bordeaux\, France
CATEGORIES:Evénement Externe (Non-EDIL),Evenement Interne (de l'EDIL)
ATTACH;FMTTYPE=image/jpeg:https://qualif.edil33.fr/wp-content/uploads/2018/01/26114134_1403489519777219_290271648062955348_n.jpg
END:VEVENT
BEGIN:VEVENT
DTSTART;TZID=Europe/Paris:20180106T080000
DTEND;TZID=Europe/Paris:20180107T180000
DTSTAMP:20260423T111916
CREATED:20180106T102711Z
LAST-MODIFIED:20180106T102924Z
UID:1946-1515225600-1515348000@qualif.edil33.fr
SUMMARY:Week-end Warhammer
DESCRIPTION:Le centre d’animation Argonne Nansouty St Genes et l’association EDIL organisent un tournoi de jeux de figurines dans un univers futuriste le 06 et 07 janvier au centre d’animation. Pendant la durée du tournoi les joueurs échangent différentes techniques de peinture tout en faisant s‘affronter les armées les unes contre les autres. C’est un moment convivial qui permet avant tout de rencontrer de nouveaux joueurs et des passionnés du modélisme. \nRenseignements au 05.56.94.70.05
URL:https://qualif.edil33.fr/event/week-end-warhammer/
LOCATION:Centre d’animation Argonne Nansouty Saint-Genès\, 1bis rue Lherisson\, Bordeaux\, 33000\, France Métropolitaine
CATEGORIES:Evénement Externe (Non-EDIL),Evenement Interne (de l'EDIL)
ATTACH;FMTTYPE=image/jpeg:https://qualif.edil33.fr/wp-content/uploads/2018/01/cargonne.jpg
END:VEVENT
BEGIN:VEVENT
DTSTART;TZID=Europe/Paris:20180106T190000
DTEND;TZID=Europe/Paris:20180106T235500
DTSTAMP:20260423T111916
CREATED:20171229T092048Z
LAST-MODIFIED:20171229T092553Z
UID:1926-1515265200-1515282900@qualif.edil33.fr
SUMMARY:Grand Tournoi Smash Up
DESCRIPTION:Combinez deux factions et mettez-vous gentiment dessus pour conquérir des lieux riches en points de victoire! Que vous incarniez les Pirates-Zombies ou des Ninjas-Aliens ou tout autre combinaisons de peuple\, essayez de devenir le champion incontesté de l’EDIL de « Smash Up »! \nCe tournoi se déroulera au sein du local de l’EDIL\, le samedi 6 Janvier à partir de 19h. \nPAF de la soirée pour les adhérents: 1€.\nAdhésion à l’association pour les non-adhérents: 2€ (ce qui revient à une soirée à 3€ seulement pour les non-adhérents). \n Le grand gagnant de ce tournoi pourra profiter\, en lot\, d’une boite de la dernière extension de Smash Up « Conflit de Générations »! \nNous proposerons des parties d’initiation à partir de 18h pour ceux qui voudraient découvrir le jeu. \nVenez nombreux ! 🙂
URL:https://qualif.edil33.fr/event/grand-tournoi-smash-up-2/
LOCATION:EDIL\, 5 place sainte eulalie\, Bordeaux\, 33000\, France
CATEGORIES:Evenement Interne (de l'EDIL)
ATTACH;FMTTYPE=image/jpeg:https://qualif.edil33.fr/wp-content/uploads/2017/12/25552225_2073697152860074_4705479750396663970_n.jpg
END:VEVENT
BEGIN:VEVENT
DTSTART;TZID=Europe/Paris:20180113T180000
DTEND;TZID=Europe/Paris:20180113T235500
DTSTAMP:20260423T111916
CREATED:20171229T093108Z
LAST-MODIFIED:20171229T093136Z
UID:1937-1515866400-1515887700@qualif.edil33.fr
SUMMARY:Soirée Jeux avec l'AFEV Bordeaux
DESCRIPTION:L’AFEV Bordeaux est une association qui à volonté de lutter contre les inégalités et la relégation dans les quartiers populaires en France. \nDans le cadre d’un partenariat entre nos deux structure nous vous proposons\, membres de l’EDIL et membres de l’AFEV\, de nous retrouver au local de l’EDIL le samedi 13 Janvier prochain à 18h pour jouer et apprendre de nouveaux jeux tous ensemble. 🙂 \nL’EDIL se situe au 5 Place Ste Eulalie\, en plein centre ville de Bordeaux. Pour y accéder il y a les arrêts du Tram B « Victoire » ou « Musée d’Aquitaine »\, le Tram A « Hotel de Ville » et l’arrêt « Bourse du Travail » des Lianes 1 et 15 du bus. \nCet évènement permettra à chacun de découvrir nos deux assos pour ensuite enchainer la semaine d’après\, le 20 Janvier\, sur une autre soirée jeux au sein des locaux de l’AFEV. \nAlors à vos agendas et à bientôt. 😉
URL:https://qualif.edil33.fr/event/soiree-jeux-avec-lafev-bordeaux/
LOCATION:EDIL\, 5 place sainte eulalie\, Bordeaux\, 33000\, France
CATEGORIES:Evénement Externe (Non-EDIL),Evenement Interne (de l'EDIL)
ATTACH;FMTTYPE=image/jpeg:https://qualif.edil33.fr/wp-content/uploads/2017/12/25487295_2071387813091008_5154619558499771619_o.jpg
END:VEVENT
BEGIN:VEVENT
DTSTART;TZID=Europe/Paris:20180116T080000
DTEND;TZID=Europe/Paris:20180116T170000
DTSTAMP:20260423T111916
CREATED:20180116T204247Z
LAST-MODIFIED:20180116T204305Z
UID:1953-1516089600-1516122000@qualif.edil33.fr
SUMMARY:Soirée JDR spéciale "Nuit de la Lecture"
DESCRIPTION:Bon une fois n’est pas coutume mais nous organisons à l’EDIL une soirée JDR le samedi 20 Janvier lors des « Nuits de la Lecture 2018 » car après tout pour faire du JDR il faut en lire des bouquins! 😀 \nVous voulez découvrir le Jeu de Rôles et vous amuser en incarnant votre premier personnage? Où êtes vous déjà un joueur aguerri cherchant à participer à un One Shot? \nDans tous les cas n’hésitez pas à passer à notre local pour cette soirée. \nAu programme: Plusieurs parties de JDR à définir: \n-« Freaks Squeele » par David : le JDR tiré de la célèbre bande dessiné ou les joueurs/joueuses incarnent des apprentis super-héros dans une fac de super-héros. \nLe soirée est gratuite pour les adhérents.\nLe prix d’une adhésion à la journée/soirée (pour les non adhérents) étant de 2€.
URL:https://qualif.edil33.fr/event/soiree-jdr-speciale-nuit-de-la-lecture/
LOCATION:EDIL\, 5 place sainte eulalie\, Bordeaux\, 33000\, France
CATEGORIES:Evenement Interne (de l'EDIL)
ATTACH;FMTTYPE=image/jpeg:https://qualif.edil33.fr/wp-content/uploads/2018/01/Facebook_JDR_2018.jpg
END:VEVENT
BEGIN:VEVENT
DTSTART;TZID=Europe/Paris:20180127T190000
DTEND;TZID=Europe/Paris:20180127T190000
DTSTAMP:20260423T111916
CREATED:20171008T092502Z
LAST-MODIFIED:20171008T093303Z
UID:1864-1517079600-1517079600@qualif.edil33.fr
SUMMARY:Vampire Camarilla Bordelaise
DESCRIPTION:Bonjour\, \nVous avez envie de jouer dans le Monde des Ténèbres\, incarnant un Vampire de la cours de Bordeaux ? Vous êtes les bienvenus ! \nPour s’inscrire si vous n’êtes pas déjà joueur : conteurbdx@gmail.com
URL:https://qualif.edil33.fr/event/vampire-camarilla-bordelaise-5/
LOCATION:Centre d’Animation Grand Parc\, 36 Rue Robert Schuman\, BORDEAUX\, 33000\, France
CATEGORIES:Evenement Interne (de l'EDIL),Semi-Réel
ATTACH;FMTTYPE=image/jpeg:https://qualif.edil33.fr/wp-content/uploads/2017/10/camarilla_bordelaise.jpg
END:VEVENT
BEGIN:VEVENT
DTSTART;TZID=Europe/Paris:20180127T190000
DTEND;TZID=Europe/Paris:20180128T200000
DTSTAMP:20260423T111916
CREATED:20180106T132519Z
LAST-MODIFIED:20180106T132649Z
UID:1950-1517079600-1517169600@qualif.edil33.fr
SUMMARY:Anniversaire 4 ans des Nomades du Jeu
DESCRIPTION:Les Nomades du Jeu fêtent leur 4 ans d’existence le SAMEDI 27 JANVIER. Nous accueillons le samedi soir et durant la nuit toutes personnes voulant découvrir l’EDIL lors de leur anniversaire dès que le Bar « Le Lucifer » ferme ses portes aux visiteurs  Vous pourrez ainsi profiter de notre ludothèque de plus d’une centaine de jeux pour une nuit ludique de folie. 🙂
URL:https://qualif.edil33.fr/event/anniversaire-4-ans-des-nomades-du-jeu/
LOCATION:EDIL\, 5 place sainte eulalie\, Bordeaux\, 33000\, France
CATEGORIES:Evénement Externe (Non-EDIL),Evenement Interne (de l'EDIL)
ATTACH;FMTTYPE=image/jpeg:https://qualif.edil33.fr/wp-content/uploads/2018/01/26197914_1230355963763833_9122232901537766991_o.jpg
END:VEVENT
END:VCALENDAR