BEGIN:VCALENDAR
VERSION:2.0
PRODID:-//Association de jeux EDIL - ECPv6.11.2.1//NONSGML v1.0//EN
CALSCALE:GREGORIAN
METHOD:PUBLISH
X-WR-CALNAME:Association de jeux EDIL
X-ORIGINAL-URL:https://qualif.edil33.fr
X-WR-CALDESC:Évènements pour Association de jeux EDIL
REFRESH-INTERVAL;VALUE=DURATION:PT1H
X-Robots-Tag:noindex
X-PUBLISHED-TTL:PT1H
BEGIN:VTIMEZONE
TZID:Europe/Paris
BEGIN:DAYLIGHT
TZOFFSETFROM:+0100
TZOFFSETTO:+0200
TZNAME:CEST
DTSTART:20180325T010000
END:DAYLIGHT
BEGIN:STANDARD
TZOFFSETFROM:+0200
TZOFFSETTO:+0100
TZNAME:CET
DTSTART:20181028T010000
END:STANDARD
END:VTIMEZONE
BEGIN:VEVENT
DTSTART;TZID=Europe/Paris:20180414T180000
DTEND;TZID=Europe/Paris:20180414T235500
DTSTAMP:20260423T070106
CREATED:20180405T211804Z
LAST-MODIFIED:20180405T212159Z
UID:1960-1523728800-1523750100@qualif.edil33.fr
SUMMARY:Tournoi Les Aventuriers du Rail (GRATUIT*)
DESCRIPTION:L’EDIL organise un tournoi amical en 3 manches + une finale pour les meilleurs joueurs\, autours de l’un de nos jeux favoris: Les Aventuriers du Rail! \nVous allez pouvoir découvrir l’immensité du monde à travers les différentes extensions du JEU. \nPAF de la soirée pour les adhérents: GRATUIT.\n *Adhésion à l’association pour les non-adhérents: 2€ \nSi vous ne connaissez pas du tout ce jeu n’hésitez pas à venir un peu plus tôt à notre local pour apprendre à jouer sinon n’hésitez pas à voir la page Tric Trac des Aventuriers du rail :\nhttps://www.trictrac.net/jeu-de-societe/les-aventuriers-du-rail/medias
URL:https://qualif.edil33.fr/event/tournoi-les-aventuriers-du-rail-gratuit/
LOCATION:EDIL\, 5 place sainte eulalie\, Bordeaux\, 33000\, France
CATEGORIES:Evenement Interne (de l'EDIL)
ATTACH;FMTTYPE=image/jpeg:https://qualif.edil33.fr/wp-content/uploads/2018/04/AVENTURIERDURAIL_FACEBOOK_2018v2.jpg
END:VEVENT
BEGIN:VEVENT
DTSTART;TZID=Europe/Paris:20180421T180000
DTEND;TZID=Europe/Paris:20180421T235500
DTSTAMP:20260423T070106
CREATED:20180405T212108Z
LAST-MODIFIED:20180405T212138Z
UID:1965-1524333600-1524354900@qualif.edil33.fr
SUMMARY:Soirée Crêpes Loup Garous de Thiercelieux
DESCRIPTION:« Tout se passe dans un village d’apparence normale\, le petit hameau de Thiercelieux\, mais chaque nuit des villageois se transforment en loups-garous pour dévorer d’autres villageois. » \nAu programme: \n-une partie de Loup Garou géante avec un maximum de personnes (le record à battre du local étant 60 personnes en même temps). \n-des crêpes à volonté (dans la limite des stocks disponibles):\nEn salé: jambon/fromage et chèvre/miel.\nEn sucré: Confitures de fraise et d’abricot\, Sucre\, Nutella\, Pate à Speculoos. \nLe prix de participation à la soirée est de 5€ pour les adhérents.\n Le prix d’une adhésion à la journée/soirée étant de 2€. \nAlors léchez vous les babines d’avance et n’hésitez pas à passer à notre local pour participer à cette nuit spéciale!
URL:https://qualif.edil33.fr/event/soiree-crepes-loup-garous-de-thiercelieux/
LOCATION:EDIL\, 5 place sainte eulalie\, Bordeaux\, 33000\, France
CATEGORIES:Evenement Interne (de l'EDIL)
ATTACH;FMTTYPE=image/jpeg:https://qualif.edil33.fr/wp-content/uploads/2018/04/LOUPSGAROUFACEBOOK2018.jpg
END:VEVENT
BEGIN:VEVENT
DTSTART;TZID=Europe/Paris:20180428T190000
DTEND;TZID=Europe/Paris:20180428T235500
DTSTAMP:20260423T070106
CREATED:20171008T092806Z
LAST-MODIFIED:20171008T093330Z
UID:1867-1524942000-1524959700@qualif.edil33.fr
SUMMARY:Vampire Camarilla Bordelaise
DESCRIPTION:Bonjour\, \nVous avez envie de jouer dans le Monde des Ténèbres\, incarnant un Vampire de la cours de Bordeaux ? Vous êtes les bienvenus ! \nPour s’inscrire si vous n’êtes pas déjà joueur : conteurbdx@gmail.com
URL:https://qualif.edil33.fr/event/vampire-camarilla-bordelaise-8/
LOCATION:Centre d’Animation Grand Parc\, 36 Rue Robert Schuman\, BORDEAUX\, 33000\, France
CATEGORIES:Evenement Interne (de l'EDIL),Semi-Réel
ATTACH;FMTTYPE=image/jpeg:https://qualif.edil33.fr/wp-content/uploads/2017/10/camarilla_bordelaise.jpg
END:VEVENT
END:VCALENDAR