BEGIN:VCALENDAR
VERSION:2.0
PRODID:-//Association de jeux EDIL - ECPv6.11.2.1//NONSGML v1.0//EN
CALSCALE:GREGORIAN
METHOD:PUBLISH
X-ORIGINAL-URL:https://qualif.edil33.fr
X-WR-CALDESC:Évènements pour Association de jeux EDIL
REFRESH-INTERVAL;VALUE=DURATION:PT1H
X-Robots-Tag:noindex
X-PUBLISHED-TTL:PT1H
BEGIN:VTIMEZONE
TZID:Europe/Paris
BEGIN:DAYLIGHT
TZOFFSETFROM:+0100
TZOFFSETTO:+0200
TZNAME:CEST
DTSTART:20180325T010000
END:DAYLIGHT
BEGIN:STANDARD
TZOFFSETFROM:+0200
TZOFFSETTO:+0100
TZNAME:CET
DTSTART:20181028T010000
END:STANDARD
END:VTIMEZONE
BEGIN:VEVENT
DTSTART;TZID=Europe/Paris:20181103T190000
DTEND;TZID=Europe/Paris:20181103T235500
DTSTAMP:20260422T202258
CREATED:20181012T080034Z
LAST-MODIFIED:20181123T080146Z
UID:2113-1541271600-1541289300@qualif.edil33.fr
SUMMARY:Vampire Camarilla Française
DESCRIPTION:Venez découvrir ou redécouvrir l’Univers de Vampire la Mascarade en semi réel\, et évoluez au coeur d’une chronique nationale \nContactez nous sur conteurbdx@gmail.com pour plus d’informations.
URL:https://qualif.edil33.fr/event/vampire-camarilla-francaise-10/
LOCATION:Centre d’Animation Grand Parc\, 36 Rue Robert Schuman\, BORDEAUX\, 33000\, France
CATEGORIES:Evenement Interne (de l'EDIL),Semi-Réel
ATTACH;FMTTYPE=image/jpeg:https://qualif.edil33.fr/wp-content/uploads/2018/08/39698818_1962130774009424_3327603415260856320_n.jpg
END:VEVENT
BEGIN:VEVENT
DTSTART;TZID=Europe/Paris:20181110T160000
DTEND;TZID=Europe/Paris:20181110T235500
DTSTAMP:20260422T202258
CREATED:20181106T073818Z
LAST-MODIFIED:20181106T073841Z
UID:2148-1541865600-1541894100@qualif.edil33.fr
SUMMARY:Avant première Tonnerre Perdu
DESCRIPTION:Onyrik accueille son premier tournoi du jeu de cartes Pokemon et c’est une Avant-première pour la dernière extension Tonnerre Perdu ! Pour l’occasion\, nous faisons à appel au savoir-faire de l’EDIL ! \nPour chaque joueur\, un pack d’AP et 4 boosters + 3 boosters de dotation pour l’ensemble des participants.\n PAF : 20€ avec une consommation offerte (<4€)\nMax 30 Personnes. \nInscription sur les participants à l’évènement ou par mail à ligueinbordeaux@gmail.com \n 
URL:https://qualif.edil33.fr/event/avant-premiere-tonnerre-perdu/
LOCATION:Onyrik\, 107 Cours Balguerie Stuttenberg\, Bordeaux\, 33300\, France
CATEGORIES:Evénement Externe (Non-EDIL),Evenement Interne (de l'EDIL)
ATTACH;FMTTYPE=image/jpeg:https://qualif.edil33.fr/wp-content/uploads/2018/11/45294711_290868655091464_2135366454336290816_o.jpg
END:VEVENT
BEGIN:VEVENT
DTSTART;TZID=Europe/Paris:20181117T100000
DTEND;TZID=Europe/Paris:20181118T190000
DTSTAMP:20260422T202259
CREATED:20181030T213625Z
LAST-MODIFIED:20181030T213800Z
UID:2140-1542448800-1542567600@qualif.edil33.fr
SUMMARY:Festival du Jeu Burdigame 2018
DESCRIPTION:Cette année encore Burdigame\, le festival du jeu bordelais\, vous offrira une occasion de vous retrouver autour d’activités aussi variées que :\n• Avant-premières\n• Nouveautés\n• Escape game\n• Jeux coopératifs\n• Jeux de cartes à collectionner (JCC)\n• Jeux de constructions\n• Jeux de figurines\n• Jeux de plateaux\n• Jeux de rôles (JDR)\n• Jeux en extérieur\n• Jeux et jouets Enfants\n• Jeux traditionnels / classiques\n• Jeux vidéo \nVous pourrez vous mesurer dans les différents tournois aux autres concurrents et gagner de nombreux jeux et jouets. \nNos partenaires sont toujours présents\n• Boutiques\n• Créateurs\n• Distributeurs\n• Éditeurs\nseront là pour vous faire découvrir leurs jeux. \nLes domaines très variés vous seront proposés. \nUne buvette/restauration y sera assurée comme chaque année. \nFaites vos partages avec #Burdigame2018. \n********************************************************************** \nL’entrée sera fermée 1h avant la fin du salon pour permettre à chacun de profiter pleinement du salon dans le calme et la bienveillance. \nLe visuel de l’affiche est une création de Christophe LuNyarlathotep
URL:https://qualif.edil33.fr/event/festival-du-jeu-burdigame-2018/
LOCATION:Pole Brassens Camu\, Rue des Gravières\, Lormont\, France Métropolitaine
CATEGORIES:Evénement Externe (Non-EDIL),Evenement Interne (de l'EDIL)
ATTACH;FMTTYPE=image/png:https://qualif.edil33.fr/wp-content/uploads/2018/10/43730562_1536779189800727_8932158397894098944_n.png
END:VEVENT
BEGIN:VEVENT
DTSTART;TZID=Europe/Paris:20181117T190000
DTEND;TZID=Europe/Paris:20181117T230000
DTSTAMP:20260422T202259
CREATED:20181012T073227Z
LAST-MODIFIED:20181030T213925Z
UID:2101-1542481200-1542495600@qualif.edil33.fr
SUMMARY:Soirée Crêpes Loup Garous de Thiercelieux
DESCRIPTION:« Tout se passe dans un village d’apparence normale\, le petit hameau de Thiercelieux\, mais chaque nuit des villageois se transforment en loups-garous pour dévorer d’autres villageois. » \nAu programme: \n-une partie de Loup Garou géante avec un maximum de personnes (le record à battre du local étant 60 personnes en même temps). \n-des crêpes à volonté (dans la limite des stocks disponibles):\nEn salé: jambon/fromage et chèvre/miel.\nEn sucré: Confitures de fraise et d’abricot\, Sucre\, Nutella\, Pate à Speculoos. \nLe prix de participation à la soirée est de 5€ pour les adhérents.\nLe prix d’une adhésion à la journée/soirée étant de 2€. \nAlors léchez vous les babines d’avance et n’hésitez pas à passer à notre local pour participer à cette nuit spéciale!
URL:https://qualif.edil33.fr/event/soiree-crepes-loup-garous-de-thiercelieux-2/
LOCATION:EDIL\, 5 place sainte eulalie\, Bordeaux\, 33000\, France
CATEGORIES:Evenement Interne (de l'EDIL),jeux de plateau,loup-garou,Soirée Mensuelle
ATTACH;FMTTYPE=image/jpeg:https://qualif.edil33.fr/wp-content/uploads/2018/10/44941831_2274135012816286_6418095893861367808_o.jpg
END:VEVENT
BEGIN:VEVENT
DTSTART;TZID=Europe/Paris:20181124T140000
DTEND;TZID=Europe/Paris:20181124T200000
DTSTAMP:20260422T202259
CREATED:20181119T120124Z
LAST-MODIFIED:20181119T120138Z
UID:2166-1543068000-1543089600@qualif.edil33.fr
SUMMARY:Séance de ligue Pokemon
DESCRIPTION:Séance de ligue pour le jeu de carte Pokemon.\nVenez découvrir le jeu\, vous entrainer\, faire des échanges\, ou simplement passer un bon moment.\nAu programme principalement : découverte du nouveau format standard\nNous serons accueillis par l’EDIL\, adhésion à la journée : 2€\nBuvette disponible sur place
URL:https://qualif.edil33.fr/event/seance-de-ligue-pokemon-2411/
LOCATION:EDIL\, 5 place sainte eulalie\, Bordeaux\, 33000\, France
CATEGORIES:Evenement Interne (de l'EDIL),jeux de plateau
ATTACH;FMTTYPE=image/jpeg:https://qualif.edil33.fr/wp-content/uploads/2018/11/46449204_977842672417534_4481568029984948224_o.jpg
END:VEVENT
BEGIN:VEVENT
DTSTART;TZID=Europe/Paris:20181124T140000
DTEND;TZID=Europe/Paris:20181124T235500
DTSTAMP:20260422T202259
CREATED:20181119T115923Z
LAST-MODIFIED:20181120T145938Z
UID:2164-1543068000-1543103700@qualif.edil33.fr
SUMMARY:Après-Midi Jeux Japonais
DESCRIPTION:Cet évènement met à l’honneur le Japon.\nAu programme :\n– De l’initiation au shogi\, les échecs japonais à partir de 14h\n– De l’initiation au Mah-jong japonais faite par l’association FuritenYa – Club de Mahjong Bordelais.\n– de l’initiation au jeu de Go faite par l’association Kitani – Club de go de Bordeaux à partir de 15h.\n– de la découverte du thé à partir de 16h30\n– découverte de jeux de plateau faits par des japonais !\n– dans un registre plus moderne\, la Ligue in Bordeaux présentera le jeu de carte à collectionner Pokémon dès 14h \nLe tout dans une ambiance japonaise ! \n2€ d’adhésion seront demandé pour les non membres de l’EDIL.
URL:https://qualif.edil33.fr/event/apres-midi-jeux-japonais/
LOCATION:EDIL\, 5 place sainte eulalie\, Bordeaux\, 33000\, France
CATEGORIES:Evenement Interne (de l'EDIL),jeux de plateau
ATTACH;FMTTYPE=image/jpeg:https://qualif.edil33.fr/wp-content/uploads/2018/11/banière_jeuxjaponais.jpg
END:VEVENT
BEGIN:VEVENT
DTSTART;TZID=Europe/Paris:20181125T140000
DTEND;TZID=Europe/Paris:20181125T190000
DTSTAMP:20260422T202259
CREATED:20181012T080752Z
LAST-MODIFIED:20181123T080215Z
UID:2116-1543154400-1543172400@qualif.edil33.fr
SUMMARY:Amor de Lohn
DESCRIPTION:Semi-réel\nSuite à l’édit de succession de 2007\, les Justicars reconnaissent aux Anarchs la création d’un domaine équivalent à ceux de la Camarilla (et donc ceux des Princes). En 2015\, le Prince de Gironde invite les Anarchs du Monde à s’installer à Bordeaux et à créer leur Baronnie. Les informations concernant la ville de Bordeaux sont parcellaires et souvent fantasmées au sein du mouvement Anarch. Il est néanmoins certain qu’une telle opportunité ne saurait être dénigrée par le Mouvement : le prix est trop tentant\, le fruit trop sucré\, pour s’en détourner… Il vous aura fallu pas moins de trois années pour préparer votre venue\, et voilà\, en cette fin de printemps\, la Grande Nuit est arrivée !
URL:https://qualif.edil33.fr/event/amor-de-lohn-3/
LOCATION:Centre d’Animation Grand Parc\, 36 Rue Robert Schuman\, BORDEAUX\, 33000\, France
CATEGORIES:Evenement Interne (de l'EDIL),Semi-Réel
ATTACH;FMTTYPE=image/jpeg:https://qualif.edil33.fr/wp-content/uploads/2018/05/32079858_10156495061202878_2913553252073078784_n.jpg
END:VEVENT
END:VCALENDAR