BEGIN:VCALENDAR
VERSION:2.0
PRODID:-//Association de jeux EDIL - ECPv6.11.2.1//NONSGML v1.0//EN
CALSCALE:GREGORIAN
METHOD:PUBLISH
X-ORIGINAL-URL:https://qualif.edil33.fr
X-WR-CALDESC:Évènements pour Association de jeux EDIL
REFRESH-INTERVAL;VALUE=DURATION:PT1H
X-Robots-Tag:noindex
X-PUBLISHED-TTL:PT1H
BEGIN:VTIMEZONE
TZID:Europe/Paris
BEGIN:DAYLIGHT
TZOFFSETFROM:+0100
TZOFFSETTO:+0200
TZNAME:CEST
DTSTART:20180325T010000
END:DAYLIGHT
BEGIN:STANDARD
TZOFFSETFROM:+0200
TZOFFSETTO:+0100
TZNAME:CET
DTSTART:20181028T010000
END:STANDARD
END:VTIMEZONE
BEGIN:VEVENT
DTSTART;TZID=Europe/Paris:20181201T190000
DTEND;TZID=Europe/Paris:20181201T235500
DTSTAMP:20260422T185403
CREATED:20181012T081003Z
LAST-MODIFIED:20181123T080224Z
UID:2117-1543690800-1543708500@qualif.edil33.fr
SUMMARY:Vampire Camarilla Française
DESCRIPTION:Venez découvrir ou redécouvrir l’Univers de Vampire la Mascarade en semi réel\, et évoluez au coeur d’une chronique nationale \nContactez nous sur conteurbdx@gmail.com pour plus d’informations.
URL:https://qualif.edil33.fr/event/vampire-camarilla-francaise-11/
LOCATION:Centre d’Animation Grand Parc\, 36 Rue Robert Schuman\, BORDEAUX\, 33000\, France
CATEGORIES:Evenement Interne (de l'EDIL),Semi-Réel
ATTACH;FMTTYPE=image/jpeg:https://qualif.edil33.fr/wp-content/uploads/2018/08/39698818_1962130774009424_3327603415260856320_n.jpg
END:VEVENT
BEGIN:VEVENT
DTSTART;TZID=Europe/Paris:20181208T160000
DTEND;TZID=Europe/Paris:20181208T180000
DTSTAMP:20260422T185403
CREATED:20181119T120849Z
LAST-MODIFIED:20181119T120915Z
UID:2171-1544284800-1544292000@qualif.edil33.fr
SUMMARY:Présentation et test de SoCarteS
DESCRIPTION:La créatrice du jeu SoCarteS vient au local afin de présenter son jeu. SoCartes c’est un jeu éducatif de la maternelle à la CM2. \nPour plus d’information voici le site web: \nhttps://www.toutencartes.com/
URL:https://qualif.edil33.fr/event/presentation-et-test-de-socartes/
LOCATION:EDIL\, 5 place sainte eulalie\, Bordeaux\, 33000\, France
CATEGORIES:Evenement Interne (de l'EDIL)
ATTACH;FMTTYPE=image/jpeg:https://qualif.edil33.fr/wp-content/uploads/2018/11/SOCARTES.jpg
END:VEVENT
BEGIN:VEVENT
DTSTART;TZID=Europe/Paris:20181208T190000
DTEND;TZID=Europe/Paris:20181208T230000
DTSTAMP:20260422T185403
CREATED:20181012T073348Z
LAST-MODIFIED:20181119T115531Z
UID:2102-1544295600-1544310000@qualif.edil33.fr
SUMMARY:Soirée Raclette et Jeux
DESCRIPTION:Le Samedi 8 Décembre au soir nous organisons un grand repas à l’EDIL!! Dès 19h! \nUn Repas Raclette\, de la patate pour tous\, du fromage\, du jambon blanc et du jambon de bayonne\, et du bacon! Le tout avec quelques cornichons et champignons !\nLe prix de la soirée est à venir. \nIl est possible de ramener un peu de fromage et charcuterie lors de l’évènement. \nDu vin et du cidre seront à votre disposition. \nDe plus nous avons besoin de votre aide: nous avons besoin d’ appareils à raclette pour que vous puissiez ripailler toute la soirée. Si vous une de ces machines n’hésitez pas à l’apporter pour partager un bon repas avec vos amis.
URL:https://qualif.edil33.fr/event/soiree-raclette-et-jeux-2/
LOCATION:EDIL\, 5 place sainte eulalie\, Bordeaux\, 33000\, France
CATEGORIES:Evenement Interne (de l'EDIL),jeux de plateau,Soirée Mensuelle
ATTACH;FMTTYPE=image/jpeg:https://qualif.edil33.fr/wp-content/uploads/2018/10/BANNER_RACLETTE_2018.jpg
END:VEVENT
BEGIN:VEVENT
DTSTART;TZID=Europe/Paris:20181223T140000
DTEND;TZID=Europe/Paris:20181223T190000
DTSTAMP:20260422T185403
CREATED:20181012T081229Z
LAST-MODIFIED:20181123T080554Z
UID:2119-1545573600-1545591600@qualif.edil33.fr
SUMMARY:Amor de Lohn
DESCRIPTION:Semi-réel\nSuite à l’édit de succession de 2007\, les Justicars reconnaissent aux Anarchs la création d’un domaine équivalent à ceux de la Camarilla (et donc ceux des Princes). En 2015\, le Prince de Gironde invite les Anarchs du Monde à s’installer à Bordeaux et à créer leur Baronnie. Les informations concernant la ville de Bordeaux sont parcellaires et souvent fantasmées au sein du mouvement Anarch. Il est néanmoins certain qu’une telle opportunité ne saurait être dénigrée par le Mouvement : le prix est trop tentant\, le fruit trop sucré\, pour s’en détourner… Il vous aura fallu pas moins de trois années pour préparer votre venue\, et voilà\, en cette fin de printemps\, la Grande Nuit est arrivée !
URL:https://qualif.edil33.fr/event/amor-de-lohn-4/
LOCATION:Centre d’Animation Grand Parc\, 36 Rue Robert Schuman\, BORDEAUX\, 33000\, France
CATEGORIES:Evenement Interne (de l'EDIL),Semi-Réel
ATTACH;FMTTYPE=image/jpeg:https://qualif.edil33.fr/wp-content/uploads/2018/05/32079858_10156495061202878_2913553252073078784_n.jpg
END:VEVENT
END:VCALENDAR