BEGIN:VCALENDAR
VERSION:2.0
PRODID:-//Association de jeux EDIL - ECPv6.11.2.1//NONSGML v1.0//EN
CALSCALE:GREGORIAN
METHOD:PUBLISH
X-ORIGINAL-URL:https://qualif.edil33.fr
X-WR-CALDESC:Évènements pour Association de jeux EDIL
REFRESH-INTERVAL;VALUE=DURATION:PT1H
X-Robots-Tag:noindex
X-PUBLISHED-TTL:PT1H
BEGIN:VTIMEZONE
TZID:Europe/Paris
BEGIN:DAYLIGHT
TZOFFSETFROM:+0100
TZOFFSETTO:+0200
TZNAME:CEST
DTSTART:20210328T010000
END:DAYLIGHT
BEGIN:STANDARD
TZOFFSETFROM:+0200
TZOFFSETTO:+0100
TZNAME:CET
DTSTART:20211031T010000
END:STANDARD
END:VTIMEZONE
BEGIN:VEVENT
DTSTART;TZID=Europe/Paris:20210811T180000
DTEND;TZID=Europe/Paris:20210811T220000
DTSTAMP:20260420T191455
CREATED:20210606T190714Z
LAST-MODIFIED:20210802T184309Z
UID:2975-1628704800-1628719200@qualif.edil33.fr
SUMMARY:Permanence par Beast
DESCRIPTION:Possibilité d’ouvrir plus tôt.
URL:https://qualif.edil33.fr/event/ouverture-8/
CATEGORIES:Evenement Interne (de l'EDIL),PERMANENCE
ATTACH;FMTTYPE=image/jpeg:https://qualif.edil33.fr/wp-content/uploads/2021/05/PERMANENCE.jpg
END:VEVENT
BEGIN:VEVENT
DTSTART;TZID=Europe/Paris:20210815T140000
DTEND;TZID=Europe/Paris:20210815T170000
DTSTAMP:20260420T191455
CREATED:20210813T174912Z
LAST-MODIFIED:20210813T174912Z
UID:3261-1629036000-1629046800@qualif.edil33.fr
SUMMARY:Permanence d'Alex
DESCRIPTION:Ceci est un texte de remplissage. L’heure de fin est approximative.
URL:https://qualif.edil33.fr/event/permanence-dalex/
LOCATION:EDIL\, 5 place sainte eulalie\, Bordeaux\, 33000\, France
CATEGORIES:PERMANENCE
END:VEVENT
BEGIN:VEVENT
DTSTART;TZID=Europe/Paris:20210820T180000
DTEND;TZID=Europe/Paris:20210820T233000
DTSTAMP:20260420T191455
CREATED:20210815T175349Z
LAST-MODIFIED:20210815T175349Z
UID:3280-1629482400-1629502200@qualif.edil33.fr
SUMMARY:Conseils aux MJ Débutant-e-s
DESCRIPTION:En ce moment il y a une forte demande en partie de JDR de la part de joueurs-joueuses débutant-e-s et expérimenté-e-s mais également un manque flagrants de MJ. \n\nDe nombreuses personnes hésitent à se lancer en tant que MJ et on peut être besoin de conseils. Pour se lancer dans le magnifique bain d’être le conteur-conteuse d’une partie de JDR on fait cette petite soirée discussion et parlote pour se donner des conseils en toute modestie.\nEt si l’envie nous en dis ce sera l’occasion de faire une petite partie de JDR de courte durée 30/40min sur le système très simple SOMBRE LIGHT. \n\nRendez vous dès 18h à l’EDIL le vendredi 20 Aout. \n\nOn oublie pas l’accès au local de l’association est possible si vous avez votre pass sanitaire valide (2 doses vaccinales\, Test PCR ou antigénique négatif de moins de 72h) et aussi on oublie pas que devenir membre à l’EDIL est obligatoire (à la journée\, au mois ou à l’année).\n(image de couverture par Olie Baldador).\n 
URL:https://qualif.edil33.fr/event/conseils-aux-mj-debutant-e-s/
LOCATION:EDIL\, 5 place sainte eulalie\, Bordeaux\, 33000\, France
CATEGORIES:Evenement Interne (de l'EDIL),Jeux de rôles
ATTACH;FMTTYPE=image/jpeg:https://qualif.edil33.fr/wp-content/uploads/2021/08/238326978_10225515802140142_7130712325219422897_n.jpg
END:VEVENT
BEGIN:VEVENT
DTSTART;TZID=Europe/Paris:20210827T170000
DTEND;TZID=Europe/Paris:20210827T233000
DTSTAMP:20260420T191455
CREATED:20210825T161354Z
LAST-MODIFIED:20210825T161354Z
UID:3307-1630083600-1630107000@qualif.edil33.fr
SUMMARY:Permanence Daveed
DESCRIPTION:
URL:https://qualif.edil33.fr/event/permanence-daveed-5/
LOCATION:EDIL\, 5 place sainte eulalie\, Bordeaux\, 33000\, France
CATEGORIES:Evenement Interne (de l'EDIL),PERMANENCE
END:VEVENT
BEGIN:VEVENT
DTSTART;TZID=Europe/Paris:20210831T170000
DTEND;TZID=Europe/Paris:20210831T220000
DTSTAMP:20260420T191455
CREATED:20210831T064712Z
LAST-MODIFIED:20210831T064712Z
UID:3322-1630429200-1630447200@qualif.edil33.fr
SUMMARY:Permanence daveed
DESCRIPTION:
URL:https://qualif.edil33.fr/event/permanence-daveed-6/
LOCATION:EDIL\, 5 place sainte eulalie\, Bordeaux\, 33000\, France
CATEGORIES:Evenement Interne (de l'EDIL),PERMANENCE
END:VEVENT
END:VCALENDAR