BEGIN:VCALENDAR
VERSION:2.0
PRODID:-//Association de jeux EDIL - ECPv6.11.2.1//NONSGML v1.0//EN
CALSCALE:GREGORIAN
METHOD:PUBLISH
X-WR-CALNAME:Association de jeux EDIL
X-ORIGINAL-URL:https://qualif.edil33.fr
X-WR-CALDESC:Évènements pour Association de jeux EDIL
REFRESH-INTERVAL;VALUE=DURATION:PT1H
X-Robots-Tag:noindex
X-PUBLISHED-TTL:PT1H
BEGIN:VTIMEZONE
TZID:Europe/Paris
BEGIN:DAYLIGHT
TZOFFSETFROM:+0100
TZOFFSETTO:+0200
TZNAME:CEST
DTSTART:20220327T010000
END:DAYLIGHT
BEGIN:STANDARD
TZOFFSETFROM:+0200
TZOFFSETTO:+0100
TZNAME:CET
DTSTART:20221030T010000
END:STANDARD
END:VTIMEZONE
BEGIN:VEVENT
DTSTART;TZID=Europe/Paris:20220801T180000
DTEND;TZID=Europe/Paris:20220801T223000
DTSTAMP:20260420T022307
CREATED:20220726T143713Z
LAST-MODIFIED:20220726T143713Z
UID:4182-1659376800-1659393000@qualif.edil33.fr
SUMMARY:Permanence PoG & ToF
DESCRIPTION:Salle du fond réservée pour Jeu de rôle Mothership organisé par ChrisAir \nAutres tables pour jeu libre Jeux de plateaux & Fig
URL:https://qualif.edil33.fr/event/permanence-pog-tof/
LOCATION:EDIL\, 5 place sainte eulalie\, Bordeaux\, 33000\, France
CATEGORIES:jeux de figurines,jeux de plateau,Jeux de rôles,PERMANENCE
END:VEVENT
BEGIN:VEVENT
DTSTART;TZID=Europe/Paris:20220802T183000
DTEND;TZID=Europe/Paris:20220802T210000
DTSTAMP:20260420T022307
CREATED:20220802T170527Z
LAST-MODIFIED:20220802T170527Z
UID:4195-1659465000-1659474000@qualif.edil33.fr
SUMMARY:Permanence Martoche
DESCRIPTION:
URL:https://qualif.edil33.fr/event/permanence-martoche-4/
LOCATION:EDIL\, 5 place sainte eulalie\, Bordeaux\, 33000\, France
CATEGORIES:Evenement Interne (de l'EDIL),PERMANENCE
END:VEVENT
BEGIN:VEVENT
DTSTART;TZID=Europe/Paris:20220804T170000
DTEND;TZID=Europe/Paris:20220804T220000
DTSTAMP:20260420T022307
CREATED:20220802T113333Z
LAST-MODIFIED:20220802T113333Z
UID:4192-1659632400-1659650400@qualif.edil33.fr
SUMMARY:Permanence PoG
DESCRIPTION:
URL:https://qualif.edil33.fr/event/permanence-pog/
LOCATION:EDIL\, 5 place sainte eulalie\, Bordeaux\, 33000\, France
CATEGORIES:PERMANENCE
END:VEVENT
BEGIN:VEVENT
DTSTART;TZID=Europe/Paris:20220805T150000
DTEND;TZID=Europe/Paris:20220805T220000
DTSTAMP:20260420T022307
CREATED:20220801T215653Z
LAST-MODIFIED:20220801T215653Z
UID:4189-1659711600-1659736800@qualif.edil33.fr
SUMMARY:Permanence Drym
DESCRIPTION:
URL:https://qualif.edil33.fr/event/permanence-drym-31/
LOCATION:EDIL\, 5 place sainte eulalie\, Bordeaux\, 33000\, France
CATEGORIES:PERMANENCE
END:VEVENT
BEGIN:VEVENT
DTSTART;TZID=Europe/Paris:20220808T170000
DTEND;TZID=Europe/Paris:20220808T220000
DTSTAMP:20260420T022307
CREATED:20220806T102956Z
LAST-MODIFIED:20220806T102956Z
UID:4200-1659978000-1659996000@qualif.edil33.fr
SUMMARY:Permanence Tof
DESCRIPTION:Deux tables dans salle principale pour jeu Erune \nLe reste jeu libre ^^
URL:https://qualif.edil33.fr/event/permanence-tof/
LOCATION:EDIL\, 5 place sainte eulalie\, Bordeaux\, 33000\, France
CATEGORIES:PERMANENCE
END:VEVENT
BEGIN:VEVENT
DTSTART;TZID=Europe/Paris:20220811T180000
DTEND;TZID=Europe/Paris:20220811T220000
DTSTAMP:20260420T022307
CREATED:20220809T131132Z
LAST-MODIFIED:20220810T090630Z
UID:4206-1660240800-1660255200@qualif.edil33.fr
SUMMARY:Permanence Tof
DESCRIPTION:Une table Alice is missing avec Antoine de Descartes Bordeaux\, Jason\, Samy\, Yannick et sa conjointe de 19h à 21h. \n+ des tables libres
URL:https://qualif.edil33.fr/event/permanence-20/
LOCATION:EDIL\, 5 place sainte eulalie\, Bordeaux\, 33000\, France
CATEGORIES:PERMANENCE
END:VEVENT
BEGIN:VEVENT
DTSTART;TZID=Europe/Paris:20220813T140000
DTEND;TZID=Europe/Paris:20220813T220000
DTSTAMP:20260420T022307
CREATED:20220806T082600Z
LAST-MODIFIED:20220806T082600Z
UID:4197-1660399200-1660428000@qualif.edil33.fr
SUMMARY:Permanence Drym
DESCRIPTION:Partie de Nemesis
URL:https://qualif.edil33.fr/event/permanence-drym-32/
LOCATION:EDIL\, 5 place sainte eulalie\, Bordeaux\, 33000\, France
CATEGORIES:PERMANENCE
END:VEVENT
BEGIN:VEVENT
DTSTART;TZID=Europe/Paris:20220815T133000
DTEND;TZID=Europe/Paris:20220815T200000
DTSTAMP:20260420T022307
CREATED:20220814T150118Z
LAST-MODIFIED:20220814T181745Z
UID:4220-1660570200-1660593600@qualif.edil33.fr
SUMMARY:Permanence daveed
DESCRIPTION:
URL:https://qualif.edil33.fr/event/permanence-daveed-39/
LOCATION:EDIL\, 5 place sainte eulalie\, Bordeaux\, 33000\, France
CATEGORIES:Evenement Interne (de l'EDIL),PERMANENCE
END:VEVENT
BEGIN:VEVENT
DTSTART;TZID=Europe/Paris:20220819T163000
DTEND;TZID=Europe/Paris:20220819T233000
DTSTAMP:20260420T022307
CREATED:20220818T062515Z
LAST-MODIFIED:20220819T132238Z
UID:4222-1660926600-1660951800@qualif.edil33.fr
SUMMARY:Permanence Daveed
DESCRIPTION:
URL:https://qualif.edil33.fr/event/permanence-daveed-40/
LOCATION:EDIL\, 5 place sainte eulalie\, Bordeaux\, 33000\, France
CATEGORIES:Evenement Interne (de l'EDIL),PERMANENCE
END:VEVENT
BEGIN:VEVENT
DTSTART;TZID=Europe/Paris:20220821T140000
DTEND;TZID=Europe/Paris:20220821T180000
DTSTAMP:20260420T022307
CREATED:20220819T120536Z
LAST-MODIFIED:20220819T120536Z
UID:4231-1661090400-1661104800@qualif.edil33.fr
SUMMARY:Permanence Panda
DESCRIPTION:
URL:https://qualif.edil33.fr/event/permanence-panda-7/
LOCATION:EDIL\, 5 place sainte eulalie\, Bordeaux\, 33000\, France
CATEGORIES:jeux de figurines,PERMANENCE
END:VEVENT
BEGIN:VEVENT
DTSTART;TZID=Europe/Paris:20220825T190000
DTEND;TZID=Europe/Paris:20220825T220000
DTSTAMP:20260420T022307
CREATED:20220825T163500Z
LAST-MODIFIED:20220825T163500Z
UID:4239-1661454000-1661464800@qualif.edil33.fr
SUMMARY:Permanence daveed
DESCRIPTION:
URL:https://qualif.edil33.fr/event/permanence-daveed-41/
LOCATION:EDIL\, 5 place sainte eulalie\, Bordeaux\, 33000\, France
CATEGORIES:Evenement Interne (de l'EDIL),PERMANENCE
END:VEVENT
BEGIN:VEVENT
DTSTART;TZID=Europe/Paris:20220826T143000
DTEND;TZID=Europe/Paris:20220826T233000
DTSTAMP:20260420T022307
CREATED:20220825T171449Z
LAST-MODIFIED:20220825T171449Z
UID:4241-1661524200-1661556600@qualif.edil33.fr
SUMMARY:Permanence daveed
DESCRIPTION:
URL:https://qualif.edil33.fr/event/permanence-daveed-42/
LOCATION:EDIL\, 5 place sainte eulalie\, Bordeaux\, 33000\, France
CATEGORIES:Evenement Interne (de l'EDIL),PERMANENCE
END:VEVENT
BEGIN:VEVENT
DTSTART;TZID=Europe/Paris:20220830T160000
DTEND;TZID=Europe/Paris:20220830T193000
DTSTAMP:20260420T022307
CREATED:20220825T093257Z
LAST-MODIFIED:20220826T090035Z
UID:4237-1661875200-1661887800@qualif.edil33.fr
SUMMARY:Permanence Drym
DESCRIPTION:
URL:https://qualif.edil33.fr/event/permanence-drym-33/
LOCATION:EDIL\, 5 place sainte eulalie\, Bordeaux\, 33000\, France
CATEGORIES:PERMANENCE
END:VEVENT
END:VCALENDAR