BEGIN:VCALENDAR
VERSION:2.0
PRODID:-//Association de jeux EDIL - ECPv6.11.2.1//NONSGML v1.0//EN
CALSCALE:GREGORIAN
METHOD:PUBLISH
X-ORIGINAL-URL:https://qualif.edil33.fr
X-WR-CALDESC:Évènements pour Association de jeux EDIL
REFRESH-INTERVAL;VALUE=DURATION:PT1H
X-Robots-Tag:noindex
X-PUBLISHED-TTL:PT1H
BEGIN:VTIMEZONE
TZID:Europe/Paris
BEGIN:DAYLIGHT
TZOFFSETFROM:+0100
TZOFFSETTO:+0200
TZNAME:CEST
DTSTART:20210328T010000
END:DAYLIGHT
BEGIN:STANDARD
TZOFFSETFROM:+0200
TZOFFSETTO:+0100
TZNAME:CET
DTSTART:20211031T010000
END:STANDARD
END:VTIMEZONE
BEGIN:VEVENT
DTSTART;TZID=Europe/Paris:20210701T190000
DTEND;TZID=Europe/Paris:20210701T220000
DTSTAMP:20260420T141940
CREATED:20210701T164334Z
LAST-MODIFIED:20210701T164420Z
UID:3088-1625166000-1625176800@qualif.edil33.fr
SUMMARY:permanence improvisée daveed
DESCRIPTION:Permanence improvisée daveed
URL:https://qualif.edil33.fr/event/permanence-improvisee-daveed/
LOCATION:EDIL\, 5 place sainte eulalie\, Bordeaux\, 33000\, France
CATEGORIES:Evenement Interne (de l'EDIL),PERMANENCE
ATTACH;FMTTYPE=image/jpeg:https://qualif.edil33.fr/wp-content/uploads/2021/05/PERMANENCE.jpg
END:VEVENT
BEGIN:VEVENT
DTSTART;TZID=Europe/Paris:20210704T140000
DTEND;TZID=Europe/Paris:20210704T210000
DTSTAMP:20260420T141940
CREATED:20210702T124837Z
LAST-MODIFIED:20210702T124837Z
UID:3093-1625407200-1625432400@qualif.edil33.fr
SUMMARY:Permanence de daveed
DESCRIPTION:Permanence de daveed
URL:https://qualif.edil33.fr/event/permanence-de-daveed-3/
LOCATION:EDIL\, 5 place sainte eulalie\, Bordeaux\, 33000\, France
CATEGORIES:Evenement Interne (de l'EDIL),PERMANENCE
ATTACH;FMTTYPE=image/jpeg:https://qualif.edil33.fr/wp-content/uploads/2021/05/PERMANENCE.jpg
END:VEVENT
BEGIN:VEVENT
DTSTART;TZID=Europe/Paris:20210707T170000
DTEND;TZID=Europe/Paris:20210707T220000
DTSTAMP:20260420T141940
CREATED:20210606T190150Z
LAST-MODIFIED:20210607T082849Z
UID:2965-1625677200-1625695200@qualif.edil33.fr
SUMMARY:Permanence par Beast
DESCRIPTION:Possibilité d’ouvrir plus tôt.
URL:https://qualif.edil33.fr/event/ouverture-3/
CATEGORIES:Evenement Interne (de l'EDIL),PERMANENCE
ATTACH;FMTTYPE=image/jpeg:https://qualif.edil33.fr/wp-content/uploads/2021/05/PERMANENCE.jpg
END:VEVENT
BEGIN:VEVENT
DTSTART;TZID=Europe/Paris:20210709T183000
DTEND;TZID=Europe/Paris:20210709T233000
DTSTAMP:20260420T141940
CREATED:20210706T062807Z
LAST-MODIFIED:20210706T062846Z
UID:3096-1625855400-1625873400@qualif.edil33.fr
SUMMARY:Permanence daveed + réunion bénévole
DESCRIPTION:Permanence de daveed + réunion des bénévoles
URL:https://qualif.edil33.fr/event/permanence-daveed-reunion-benevole/
LOCATION:EDIL\, 5 place sainte eulalie\, Bordeaux\, 33000\, France
CATEGORIES:Evenement Interne (de l'EDIL),PERMANENCE
ATTACH;FMTTYPE=image/jpeg:https://qualif.edil33.fr/wp-content/uploads/2021/05/PERMANENCE.jpg
END:VEVENT
BEGIN:VEVENT
DTSTART;TZID=Europe/Paris:20210710T180000
DTEND;TZID=Europe/Paris:20210710T230000
DTSTAMP:20260420T141940
CREATED:20210709T175815Z
LAST-MODIFIED:20210718T065758Z
UID:3107-1625940000-1625958000@qualif.edil33.fr
SUMMARY:Permanence Jérome
DESCRIPTION:
URL:https://qualif.edil33.fr/event/permanence-prototype33/
LOCATION:EDIL\, 5 place sainte eulalie\, Bordeaux\, 33000\, France
CATEGORIES:Evenement Interne (de l'EDIL),PERMANENCE
ATTACH;FMTTYPE=image/jpeg:https://qualif.edil33.fr/wp-content/uploads/2021/05/PERMANENCE.jpg
END:VEVENT
BEGIN:VEVENT
DTSTART;TZID=Europe/Paris:20210713T183000
DTEND;TZID=Europe/Paris:20210713T233000
DTSTAMP:20260420T141940
CREATED:20210712T172635Z
LAST-MODIFIED:20210712T172635Z
UID:3122-1626201000-1626219000@qualif.edil33.fr
SUMMARY:Permanence par daveed
DESCRIPTION:Permanence par daveed à 18H30
URL:https://qualif.edil33.fr/event/permanence-par-daveed-3/
LOCATION:EDIL\, 5 place sainte eulalie\, Bordeaux\, 33000\, France
CATEGORIES:Evenement Interne (de l'EDIL),jeux de plateau,PERMANENCE
ATTACH;FMTTYPE=image/jpeg:https://qualif.edil33.fr/wp-content/uploads/2021/05/PERMANENCE.jpg
END:VEVENT
BEGIN:VEVENT
DTSTART;TZID=Europe/Paris:20210714T170000
DTEND;TZID=Europe/Paris:20210714T220000
DTSTAMP:20260420T141940
CREATED:20210606T190230Z
LAST-MODIFIED:20210607T082902Z
UID:2967-1626282000-1626300000@qualif.edil33.fr
SUMMARY:Permanence par Beast
DESCRIPTION:Possibilité d’ouvrir plus tôt.
URL:https://qualif.edil33.fr/event/ouverture-4/
CATEGORIES:Evenement Interne (de l'EDIL),PERMANENCE
ATTACH;FMTTYPE=image/jpeg:https://qualif.edil33.fr/wp-content/uploads/2021/05/PERMANENCE.jpg
END:VEVENT
BEGIN:VEVENT
DTSTART;TZID=Europe/Paris:20210715T153000
DTEND;TZID=Europe/Paris:20210715T183000
DTSTAMP:20260420T141940
CREATED:20210715T110745Z
LAST-MODIFIED:20210717T103846Z
UID:3141-1626363000-1626373800@qualif.edil33.fr
SUMMARY:Permanence Jérôme
DESCRIPTION:Escape The Dark Castle /  LDVELH « La créature venue du chaos » / The Great Race
URL:https://qualif.edil33.fr/event/permanence-3/
LOCATION:EDIL\, 5 place sainte eulalie\, Bordeaux\, 33000\, France
CATEGORIES:Evenement Interne (de l'EDIL),PERMANENCE
END:VEVENT
BEGIN:VEVENT
DTSTART;TZID=Europe/Paris:20210715T183000
DTEND;TZID=Europe/Paris:20210715T223000
DTSTAMP:20260420T141940
CREATED:20210713T104831Z
LAST-MODIFIED:20210717T103850Z
UID:3132-1626373800-1626388200@qualif.edil33.fr
SUMMARY:Permanence par Lilian
DESCRIPTION:
URL:https://qualif.edil33.fr/event/permanence-par-lilian-2/
LOCATION:EDIL\, 5 place sainte eulalie\, Bordeaux\, 33000\, France
CATEGORIES:Evenement Interne (de l'EDIL),PERMANENCE
ATTACH;FMTTYPE=image/jpeg:https://qualif.edil33.fr/wp-content/uploads/2021/05/PERMANENCE.jpg
END:VEVENT
BEGIN:VEVENT
DTSTART;TZID=Europe/Paris:20210716T160000
DTEND;TZID=Europe/Paris:20210716T233000
DTSTAMP:20260420T141940
CREATED:20210715T113501Z
LAST-MODIFIED:20210717T103857Z
UID:3145-1626451200-1626478200@qualif.edil33.fr
SUMMARY:Permanence Jérôme
DESCRIPTION:
URL:https://qualif.edil33.fr/event/permanence-jerome/
LOCATION:EDIL\, 5 place sainte eulalie\, Bordeaux\, 33000\, France
CATEGORIES:Evenement Interne (de l'EDIL),PERMANENCE
END:VEVENT
BEGIN:VEVENT
DTSTART;TZID=Europe/Paris:20210717T190000
DTEND;TZID=Europe/Paris:20210717T233000
DTSTAMP:20260420T141940
CREATED:20210717T010135Z
LAST-MODIFIED:20210717T103827Z
UID:3150-1626548400-1626564600@qualif.edil33.fr
SUMMARY:Permanence Jérome
DESCRIPTION:
URL:https://qualif.edil33.fr/event/permanence-4/
LOCATION:EDIL\, 5 place sainte eulalie\, Bordeaux\, 33000\, France
CATEGORIES:Evenement Interne (de l'EDIL),PERMANENCE
END:VEVENT
BEGIN:VEVENT
DTSTART;TZID=Europe/Paris:20210718T140000
DTEND;TZID=Europe/Paris:20210718T220000
DTSTAMP:20260420T141940
CREATED:20210716T131900Z
LAST-MODIFIED:20210716T131900Z
UID:3148-1626616800-1626645600@qualif.edil33.fr
SUMMARY:Permanence daveed
DESCRIPTION:Zombicide et autre jeu
URL:https://qualif.edil33.fr/event/permanence-daveed-2/
LOCATION:EDIL\, 5 place sainte eulalie\, Bordeaux\, 33000\, France
CATEGORIES:Evenement Interne (de l'EDIL),PERMANENCE
END:VEVENT
BEGIN:VEVENT
DTSTART;TZID=Europe/Paris:20210720T180000
DTEND;TZID=Europe/Paris:20210720T220000
DTSTAMP:20260420T141940
CREATED:20210718T065659Z
LAST-MODIFIED:20210718T065659Z
UID:3158-1626804000-1626818400@qualif.edil33.fr
SUMMARY:Permanence daveed
DESCRIPTION:
URL:https://qualif.edil33.fr/event/permanence-daveed-3/
LOCATION:EDIL\, 5 place sainte eulalie\, Bordeaux\, 33000\, France
CATEGORIES:Evenement Interne (de l'EDIL),PERMANENCE
END:VEVENT
BEGIN:VEVENT
DTSTART;TZID=Europe/Paris:20210721T170000
DTEND;TZID=Europe/Paris:20210721T220000
DTSTAMP:20260420T141940
CREATED:20210606T190426Z
LAST-MODIFIED:20210711T182022Z
UID:2969-1626886800-1626904800@qualif.edil33.fr
SUMMARY:Permanence par Beast
DESCRIPTION:Possibilité d’ouvrir plus tôt. \nPrésentation du jeu [Overkill]
URL:https://qualif.edil33.fr/event/ouverture-5/
CATEGORIES:Evenement Interne (de l'EDIL),PERMANENCE
ATTACH;FMTTYPE=image/jpeg:https://qualif.edil33.fr/wp-content/uploads/2021/05/PERMANENCE.jpg
END:VEVENT
BEGIN:VEVENT
DTSTART;TZID=Europe/Paris:20210723T180000
DTEND;TZID=Europe/Paris:20210723T230000
DTSTAMP:20260420T141940
CREATED:20210722T122051Z
LAST-MODIFIED:20210722T165457Z
UID:3172-1627063200-1627081200@qualif.edil33.fr
SUMMARY:Permanence par daveed
DESCRIPTION:Permanence par daveed à 18h30
URL:https://qualif.edil33.fr/event/permanence-par-daveed-4/
LOCATION:EDIL\, 5 place sainte eulalie\, Bordeaux\, 33000\, France
CATEGORIES:Evenement Interne (de l'EDIL),PERMANENCE
ATTACH;FMTTYPE=image/jpeg:https://qualif.edil33.fr/wp-content/uploads/2021/05/PERMANENCE.jpg
END:VEVENT
BEGIN:VEVENT
DTSTART;TZID=Europe/Paris:20210725T153000
DTEND;TZID=Europe/Paris:20210725T183000
DTSTAMP:20260420T141940
CREATED:20210725T095553Z
LAST-MODIFIED:20210725T121526Z
UID:3182-1627227000-1627237800@qualif.edil33.fr
SUMMARY:Permanence Bushette
DESCRIPTION:
URL:https://qualif.edil33.fr/event/permanence-bushette/
LOCATION:EDIL\, 5 place sainte eulalie\, Bordeaux\, 33000\, France
CATEGORIES:Evenement Interne (de l'EDIL),PERMANENCE
END:VEVENT
BEGIN:VEVENT
DTSTART;TZID=Europe/Paris:20210728T170000
DTEND;TZID=Europe/Paris:20210728T220000
DTSTAMP:20260420T141940
CREATED:20210606T190527Z
LAST-MODIFIED:20210711T181940Z
UID:2971-1627491600-1627509600@qualif.edil33.fr
SUMMARY:Permanence par Beast
DESCRIPTION:Possibilité d’ouvrir plus tôt. \nPrésentation du jeu [Overkill]
URL:https://qualif.edil33.fr/event/ouverture-6/
CATEGORIES:Evenement Interne (de l'EDIL),PERMANENCE
ATTACH;FMTTYPE=image/jpeg:https://qualif.edil33.fr/wp-content/uploads/2021/05/PERMANENCE.jpg
END:VEVENT
BEGIN:VEVENT
DTSTART;TZID=Europe/Paris:20210730T183000
DTEND;TZID=Europe/Paris:20210730T233000
DTSTAMP:20260420T141940
CREATED:20210725T071234Z
LAST-MODIFIED:20210725T071234Z
UID:3179-1627669800-1627687800@qualif.edil33.fr
SUMMARY:Permanence daveed
DESCRIPTION:Permanence Daveed
URL:https://qualif.edil33.fr/event/permanence-daveed-4/
LOCATION:EDIL\, 5 place sainte eulalie\, Bordeaux\, 33000\, France
CATEGORIES:Evenement Interne (de l'EDIL),PERMANENCE
END:VEVENT
END:VCALENDAR