BEGIN:VCALENDAR
VERSION:2.0
PRODID:-//Association de jeux EDIL - ECPv6.11.2.1//NONSGML v1.0//EN
CALSCALE:GREGORIAN
METHOD:PUBLISH
X-ORIGINAL-URL:https://qualif.edil33.fr
X-WR-CALDESC:Évènements pour Association de jeux EDIL
REFRESH-INTERVAL;VALUE=DURATION:PT1H
X-Robots-Tag:noindex
X-PUBLISHED-TTL:PT1H
BEGIN:VTIMEZONE
TZID:Europe/Paris
BEGIN:DAYLIGHT
TZOFFSETFROM:+0100
TZOFFSETTO:+0200
TZNAME:CEST
DTSTART:20210328T010000
END:DAYLIGHT
BEGIN:STANDARD
TZOFFSETFROM:+0200
TZOFFSETTO:+0100
TZNAME:CET
DTSTART:20211031T010000
END:STANDARD
END:VTIMEZONE
BEGIN:VEVENT
DTSTART;TZID=Europe/Paris:20210903T173000
DTEND;TZID=Europe/Paris:20210903T233000
DTSTAMP:20260420T112306
CREATED:20210830T135056Z
LAST-MODIFIED:20210903T142510Z
UID:3318-1630690200-1630711800@qualif.edil33.fr
SUMMARY:Permanence de Yunyun
DESCRIPTION:Et pas Yumyum !
URL:https://qualif.edil33.fr/event/permanence-de-daveed-4/
LOCATION:EDIL\, 5 place sainte eulalie\, Bordeaux\, 33000\, France
CATEGORIES:Evenement Interne (de l'EDIL),PERMANENCE
END:VEVENT
BEGIN:VEVENT
DTSTART;TZID=Europe/Paris:20210905T190000
DTEND;TZID=Europe/Paris:20210905T220000
DTSTAMP:20260420T112306
CREATED:20210830T135324Z
LAST-MODIFIED:20210830T150209Z
UID:3320-1630868400-1630879200@qualif.edil33.fr
SUMMARY:Permanence pour jouer après l'AG
DESCRIPTION:
URL:https://qualif.edil33.fr/event/permanence-pour-jouer-apres-lag/
LOCATION:EDIL\, 5 place sainte eulalie\, Bordeaux\, 33000\, France
CATEGORIES:Evenement Interne (de l'EDIL),PERMANENCE
END:VEVENT
BEGIN:VEVENT
DTSTART;TZID=Europe/Paris:20210907T190000
DTEND;TZID=Europe/Paris:20210907T220000
DTSTAMP:20260420T112306
CREATED:20210907T090157Z
LAST-MODIFIED:20210907T090157Z
UID:3357-1631041200-1631052000@qualif.edil33.fr
SUMMARY:Permanence Daveed
DESCRIPTION:
URL:https://qualif.edil33.fr/event/permanence-daveed-7/
LOCATION:EDIL\, 5 place sainte eulalie\, Bordeaux\, 33000\, France
CATEGORIES:Evenement Interne (de l'EDIL),PERMANENCE
END:VEVENT
BEGIN:VEVENT
DTSTART;TZID=Europe/Paris:20210910T190000
DTEND;TZID=Europe/Paris:20210910T233000
DTSTAMP:20260420T112306
CREATED:20210909T133213Z
LAST-MODIFIED:20210909T133213Z
UID:3363-1631300400-1631316600@qualif.edil33.fr
SUMMARY:Permanence par daveed
DESCRIPTION:
URL:https://qualif.edil33.fr/event/permanence-par-daveed-5/
LOCATION:EDIL\, 5 place sainte eulalie\, Bordeaux\, 33000\, France
CATEGORIES:Evenement Interne (de l'EDIL),PERMANENCE
END:VEVENT
BEGIN:VEVENT
DTSTART;TZID=Europe/Paris:20210917T190000
DTEND;TZID=Europe/Paris:20210917T233000
DTSTAMP:20260420T112306
CREATED:20210914T083543Z
LAST-MODIFIED:20210914T083543Z
UID:3381-1631905200-1631921400@qualif.edil33.fr
SUMMARY:Permanence daveed
DESCRIPTION:
URL:https://qualif.edil33.fr/event/permanence-daveed-8/
LOCATION:EDIL\, 5 place sainte eulalie\, Bordeaux\, 33000\, France
CATEGORIES:Evenement Interne (de l'EDIL),PERMANENCE
END:VEVENT
BEGIN:VEVENT
DTSTART;TZID=Europe/Paris:20210918T110000
DTEND;TZID=Europe/Paris:20210918T233000
DTSTAMP:20260420T112306
CREATED:20210911T090024Z
LAST-MODIFIED:20210911T090101Z
UID:3365-1631962800-1632007800@qualif.edil33.fr
SUMMARY:Journée "DUNE"
DESCRIPTION:Le film DUNE sort cette semaine! Et vu que nous sommes plusieurs fans de cet univers à l’EDIL on organise une journée dédiée ce samedi 18 Septembre. \n\nAU PROGRAMME:\n\n-11H: rendez vous devant le cinéma UGC Bordeaux Ciné Cité\n\n-11H30: Séance du film DUNE par Denis Villeneuve. N’hésitez pas à réserver vos places en avance) \n\n\n-14H30: Apres midi jeux Dans l’UNIVERS DE DUNE (Dune RPG\, Dune le jeu de plateau\, Dune Impérium). Pour devenir membre à la journée à l’EDIL pour les non adhérent-e-s c’est seulement 2€ \n\n\n-16h30: «Spice» Gouter à 3€ \n\n« Je ne connaîtrai pas la peur\, car la peur tue l’esprit »
URL:https://qualif.edil33.fr/event/journee-dune/
LOCATION:EDIL\, 5 place sainte eulalie\, Bordeaux\, 33000\, France
CATEGORIES:Evenement Interne (de l'EDIL),PERMANENCE
ATTACH;FMTTYPE=image/jpeg:https://qualif.edil33.fr/wp-content/uploads/2021/09/JOURNEE-DUNE.jpg
END:VEVENT
BEGIN:VEVENT
DTSTART;TZID=Europe/Paris:20210919T153000
DTEND;TZID=Europe/Paris:20210919T183000
DTSTAMP:20260420T112306
CREATED:20210919T081511Z
LAST-MODIFIED:20210919T081511Z
UID:3394-1632065400-1632076200@qualif.edil33.fr
SUMMARY:Permanence par Pierre
DESCRIPTION:15h30 – 18h30 (Horaire de fin approximatif)
URL:https://qualif.edil33.fr/event/permanence-par-pierre-4/
CATEGORIES:PERMANENCE
END:VEVENT
END:VCALENDAR