BEGIN:VCALENDAR
VERSION:2.0
PRODID:-//Association de jeux EDIL - ECPv6.11.2.1//NONSGML v1.0//EN
CALSCALE:GREGORIAN
METHOD:PUBLISH
X-ORIGINAL-URL:https://qualif.edil33.fr
X-WR-CALDESC:Évènements pour Association de jeux EDIL
REFRESH-INTERVAL;VALUE=DURATION:PT1H
X-Robots-Tag:noindex
X-PUBLISHED-TTL:PT1H
BEGIN:VTIMEZONE
TZID:Europe/Paris
BEGIN:DAYLIGHT
TZOFFSETFROM:+0100
TZOFFSETTO:+0200
TZNAME:CEST
DTSTART:20220327T010000
END:DAYLIGHT
BEGIN:STANDARD
TZOFFSETFROM:+0200
TZOFFSETTO:+0100
TZNAME:CET
DTSTART:20221030T010000
END:STANDARD
END:VTIMEZONE
BEGIN:VEVENT
DTSTART;TZID=Europe/Paris:20220601T120000
DTEND;TZID=Europe/Paris:20220601T183000
DTSTAMP:20260419T203736
CREATED:20220601T061314Z
LAST-MODIFIED:20220601T061314Z
UID:4043-1654084800-1654108200@qualif.edil33.fr
SUMMARY:Permanence Damien
DESCRIPTION:
URL:https://qualif.edil33.fr/event/permanence-damien-3/
LOCATION:EDIL\, 5 place sainte eulalie\, Bordeaux\, 33000\, France
CATEGORIES:PERMANENCE
ORGANIZER;CN="Flomyen":MAILTO:cobaye4@hotmail.com
END:VEVENT
BEGIN:VEVENT
DTSTART;TZID=Europe/Paris:20220601T183000
DTEND;TZID=Europe/Paris:20220601T220000
DTSTAMP:20260419T203736
CREATED:20220530T102009Z
LAST-MODIFIED:20220530T102009Z
UID:4036-1654108200-1654120800@qualif.edil33.fr
SUMMARY:Permanence par Lilian
DESCRIPTION:
URL:https://qualif.edil33.fr/event/permanence-par-lilian-10/
LOCATION:EDIL\, 5 place sainte eulalie\, Bordeaux\, 33000\, France
CATEGORIES:PERMANENCE
ATTACH;FMTTYPE=image/jpeg:https://qualif.edil33.fr/wp-content/uploads/2021/05/PERMANENCE.jpg
END:VEVENT
BEGIN:VEVENT
DTSTART;TZID=Europe/Paris:20220603T173000
DTEND;TZID=Europe/Paris:20220603T233000
DTSTAMP:20260419T203736
CREATED:20220602T171845Z
LAST-MODIFIED:20220602T171845Z
UID:4052-1654277400-1654299000@qualif.edil33.fr
SUMMARY:Permanence Yunyun
DESCRIPTION:
URL:https://qualif.edil33.fr/event/permanence-yunyun-7/
LOCATION:EDIL\, 5 place sainte eulalie\, Bordeaux\, 33000\, France
CATEGORIES:Evenement Interne (de l'EDIL),PERMANENCE
END:VEVENT
BEGIN:VEVENT
DTSTART;TZID=Europe/Paris:20220605T143000
DTEND;TZID=Europe/Paris:20220605T190000
DTSTAMP:20260419T203736
CREATED:20220605T073617Z
LAST-MODIFIED:20220605T073617Z
UID:4058-1654439400-1654455600@qualif.edil33.fr
SUMMARY:Permanence Panda
DESCRIPTION:
URL:https://qualif.edil33.fr/event/permanence-panda-6/
CATEGORIES:jeux de figurines,PERMANENCE
END:VEVENT
BEGIN:VEVENT
DTSTART;TZID=Europe/Paris:20220606T150000
DTEND;TZID=Europe/Paris:20220606T220000
DTSTAMP:20260419T203736
CREATED:20220602T171405Z
LAST-MODIFIED:20220602T171405Z
UID:4047-1654527600-1654552800@qualif.edil33.fr
SUMMARY:Permanence PoGuinette
DESCRIPTION:Avec au moins 1 table dans salle principale réservée au deckbulding (Ascension et/ou Dominion) \n 
URL:https://qualif.edil33.fr/event/permanence-poguinette-6/
LOCATION:EDIL\, 5 place sainte eulalie\, Bordeaux\, 33000\, France
CATEGORIES:Evenement Interne (de l'EDIL),jeux de figurines,jeux de plateau,Jeux de rôles,PERMANENCE
END:VEVENT
BEGIN:VEVENT
DTSTART;TZID=Europe/Paris:20220610T183000
DTEND;TZID=Europe/Paris:20220610T230000
DTSTAMP:20260419T203736
CREATED:20220527T190059Z
LAST-MODIFIED:20220602T171658Z
UID:4027-1654885800-1654902000@qualif.edil33.fr
SUMMARY:Permanence POGuinette
DESCRIPTION:Avec une session de JDR style VtM\, animée par Elsa\, dans la salle du fond (TABLE COMPLÈTE) \n+ Jeux de plateau dans salle principale
URL:https://qualif.edil33.fr/event/permanence-poguinette-5/
LOCATION:EDIL\, 5 place sainte eulalie\, Bordeaux\, 33000\, France
CATEGORIES:Evenement Interne (de l'EDIL),jeux de plateau,Jeux de rôles,PERMANENCE
END:VEVENT
BEGIN:VEVENT
DTSTART;TZID=Europe/Paris:20220611T140000
DTEND;TZID=Europe/Paris:20220611T170000
DTSTAMP:20260419T203736
CREATED:20220607T085231Z
LAST-MODIFIED:20220607T085244Z
UID:4065-1654956000-1654966800@qualif.edil33.fr
SUMMARY:JDR Roletime
DESCRIPTION:
URL:https://qualif.edil33.fr/event/jdr-roletime/
LOCATION:EDIL\, 5 place sainte eulalie\, Bordeaux\, 33000\, France
CATEGORIES:Evenement Interne (de l'EDIL),Jeux de rôles,PERMANENCE
ATTACH;FMTTYPE=image/jpeg:https://qualif.edil33.fr/wp-content/uploads/2022/05/Roletime.jpg
END:VEVENT
BEGIN:VEVENT
DTSTART;TZID=Europe/Paris:20220618T140000
DTEND;TZID=Europe/Paris:20220618T200000
DTSTAMP:20260419T203736
CREATED:20220618T110315Z
LAST-MODIFIED:20220618T110315Z
UID:4080-1655560800-1655582400@qualif.edil33.fr
SUMMARY:Permanence Bushette
DESCRIPTION:
URL:https://qualif.edil33.fr/event/permanence-bushette-4/
CATEGORIES:Evenement Interne (de l'EDIL),PERMANENCE
END:VEVENT
BEGIN:VEVENT
DTSTART;TZID=Europe/Paris:20220619T150000
DTEND;TZID=Europe/Paris:20220619T190000
DTSTAMP:20260419T203736
CREATED:20220619T092750Z
LAST-MODIFIED:20220619T092750Z
UID:4082-1655650800-1655665200@qualif.edil33.fr
SUMMARY:Permanence Florent
DESCRIPTION:
URL:https://qualif.edil33.fr/event/permanence-florent-3/
LOCATION:EDIL\, 5 place sainte eulalie\, Bordeaux\, 33000\, France
CATEGORIES:Evenement Interne (de l'EDIL),PERMANENCE
END:VEVENT
BEGIN:VEVENT
DTSTART;TZID=Europe/Paris:20220622T180000
DTEND;TZID=Europe/Paris:20220622T210000
DTSTAMP:20260419T203736
CREATED:20220621T132113Z
LAST-MODIFIED:20220621T132113Z
UID:4084-1655920800-1655931600@qualif.edil33.fr
SUMMARY:Permanence Dilemme du roi
DESCRIPTION:
URL:https://qualif.edil33.fr/event/permanence-dilemme-du-roi/
CATEGORIES:jeux de plateau,PERMANENCE
ORGANIZER;CN="Flomyen":MAILTO:cobaye4@hotmail.com
END:VEVENT
BEGIN:VEVENT
DTSTART;TZID=Europe/Paris:20220625T160000
DTEND;TZID=Europe/Paris:20220625T200000
DTSTAMP:20260419T203736
CREATED:20220625T090613Z
LAST-MODIFIED:20220625T090613Z
UID:4092-1656172800-1656187200@qualif.edil33.fr
SUMMARY:Permanence daveed
DESCRIPTION:
URL:https://qualif.edil33.fr/event/permanence-daveed-35/
LOCATION:EDIL\, 5 place sainte eulalie\, Bordeaux\, 33000\, France
CATEGORIES:Evenement Interne (de l'EDIL),PERMANENCE
END:VEVENT
BEGIN:VEVENT
DTSTART;TZID=Europe/Paris:20220629T163000
DTEND;TZID=Europe/Paris:20220629T220000
DTSTAMP:20260419T203736
CREATED:20220627T163556Z
LAST-MODIFIED:20220627T163556Z
UID:4094-1656520200-1656540000@qualif.edil33.fr
SUMMARY:Permanence Drym
DESCRIPTION:
URL:https://qualif.edil33.fr/event/permanence-drym-27/
LOCATION:EDIL\, 5 place sainte eulalie\, Bordeaux\, 33000\, France
CATEGORIES:PERMANENCE
END:VEVENT
END:VCALENDAR