BEGIN:VCALENDAR
VERSION:2.0
PRODID:-//Association de jeux EDIL - ECPv6.11.2.1//NONSGML v1.0//EN
CALSCALE:GREGORIAN
METHOD:PUBLISH
X-ORIGINAL-URL:https://qualif.edil33.fr
X-WR-CALDESC:Évènements pour Association de jeux EDIL
REFRESH-INTERVAL;VALUE=DURATION:PT1H
X-Robots-Tag:noindex
X-PUBLISHED-TTL:PT1H
BEGIN:VTIMEZONE
TZID:Europe/Paris
BEGIN:DAYLIGHT
TZOFFSETFROM:+0100
TZOFFSETTO:+0200
TZNAME:CEST
DTSTART:20210328T010000
END:DAYLIGHT
BEGIN:STANDARD
TZOFFSETFROM:+0200
TZOFFSETTO:+0100
TZNAME:CET
DTSTART:20211031T010000
END:STANDARD
END:VTIMEZONE
BEGIN:VEVENT
DTSTART;TZID=Europe/Paris:20211023T140000
DTEND;TZID=Europe/Paris:20211023T170000
DTSTAMP:20260420T093927
CREATED:20211006T123641Z
LAST-MODIFIED:20211006T123932Z
UID:3398-1634997600-1635008400@qualif.edil33.fr
SUMMARY:Fresque du climat
DESCRIPTION:Mieux comprendre\, pour mieux agir.\nLa Fresque du Climat\, c’est une initiation en 3 heures\, adressée aussi bien aux novices qu’aux connaisseurs\, sur le fonctionnement du climat et les conséquences de son dérèglement. \nLe contenu du jeu est robuste et fidèle\, basé sur les conclusions des travaux du GIEC. Il résume 30 ans de recherches scientifique sur le Climat et plusieurs milliers de pages de rapport. \nUn.e animateur.trice encadre les équipes afin de les guider durant l’atelier\, d’assurer une bonne communication entre tous et de donner des explications complémentaires. \nLe Déroulé en 3 étapes : \n\n\nRéflexion : Découvrir les causes et conséquences des dérèglements climatiques en co-construisant votre Fresque du Climat. \n\n\nCréation : Décompresser\, s’approprier le support et propulser votre esprit d’équipe en l’illustrant avec créativité. \n\n\nDiscussion : Échanger entre participants sur le constat et se projeter ensemble dans un monde décarboné. \n\n\n~~~~~~~~~~~~~~~~~~~~~~~~~\nInformations pratiques\nCet atelier sera animé par Damien Vasse\, membre de l’EDIL et formateur référent local pour la Fresque du Climat. Contact : damien.vasse@live.fr\, 0760491380. \nL’atelier est destiné aux membres de l’association EDIL. Si vous ne l’êtes pas\, vous pouvez adhérer à la journée pour 2€\, au mois pour 5€\, à l’année pour 35€. \nMerci de vous inscrire en envoyant un message ou un mail aux organisateurs. \n~~~~~~~~~~~~~~~~~~~~~~~~~\n« La Fresque du Climat » est l’association qui diffuse son atelier ludique\, participatif et créatif sur le changement climatique. Il est basé sur l’intelligence collective et est extrêmement pédagogique. L’objectif ? Sensibiliser un million de personnes aux enjeux du climat !
URL:https://qualif.edil33.fr/event/fresque-du-climat-23-oct/
LOCATION:EDIL\, 5 place sainte eulalie\, Bordeaux\, 33000\, France
CATEGORIES:Evenement Interne (de l'EDIL),Jeux sérieux
ORGANIZER;CN="Flomyen":MAILTO:cobaye4@hotmail.com
END:VEVENT
END:VCALENDAR