BEGIN:VCALENDAR
VERSION:2.0
PRODID:-//Association de jeux EDIL - ECPv6.11.2.1//NONSGML v1.0//EN
CALSCALE:GREGORIAN
METHOD:PUBLISH
X-WR-CALNAME:Association de jeux EDIL
X-ORIGINAL-URL:https://qualif.edil33.fr
X-WR-CALDESC:Évènements pour Association de jeux EDIL
REFRESH-INTERVAL;VALUE=DURATION:PT1H
X-Robots-Tag:noindex
X-PUBLISHED-TTL:PT1H
BEGIN:VTIMEZONE
TZID:Europe/Paris
BEGIN:DAYLIGHT
TZOFFSETFROM:+0100
TZOFFSETTO:+0200
TZNAME:CEST
DTSTART:20160327T010000
END:DAYLIGHT
BEGIN:STANDARD
TZOFFSETFROM:+0200
TZOFFSETTO:+0100
TZNAME:CET
DTSTART:20161030T010000
END:STANDARD
END:VTIMEZONE
BEGIN:VEVENT
DTSTART;TZID=Europe/Paris:20160120T190000
DTEND;TZID=Europe/Paris:20160120T190000
DTSTAMP:20260422T001744
CREATED:20160113T123339Z
LAST-MODIFIED:20170608T165959Z
UID:1305-1453316400-1453316400@qualif.edil33.fr
SUMMARY:Tournoi 7 Wonders Duel
DESCRIPTION:Vous aimez 7 Wonders? Alors vous aimerez tester 7 wonders Duel !\nContrairement à 7 Wonders\, Duel se joue à deux jours. Comment gagner ? Soumettre militairement ou scientifiquement son adversaire ou bien faire le plus de points de victoire ! \nQui sera le grand gagnant de l’EDIL ? \nLe prix de participation au tournoi est gratuit pour les adhérents.\nLe prix d’une adhésion à la journée/soirée (pour les non adhérents) est de 2€.
URL:https://qualif.edil33.fr/event/tournois-7-wonders-duel/
LOCATION:EDIL\, 5 place sainte eulalie\, Bordeaux\, 33000\, France
END:VEVENT
END:VCALENDAR