BEGIN:VCALENDAR
VERSION:2.0
PRODID:-//Association de jeux EDIL - ECPv6.11.2.1//NONSGML v1.0//EN
CALSCALE:GREGORIAN
METHOD:PUBLISH
X-ORIGINAL-URL:https://qualif.edil33.fr
X-WR-CALDESC:Évènements pour Association de jeux EDIL
REFRESH-INTERVAL;VALUE=DURATION:PT1H
X-Robots-Tag:noindex
X-PUBLISHED-TTL:PT1H
BEGIN:VTIMEZONE
TZID:Europe/Paris
BEGIN:DAYLIGHT
TZOFFSETFROM:+0100
TZOFFSETTO:+0200
TZNAME:CEST
DTSTART:20170326T010000
END:DAYLIGHT
BEGIN:STANDARD
TZOFFSETFROM:+0200
TZOFFSETTO:+0100
TZNAME:CET
DTSTART:20171029T010000
END:STANDARD
END:VTIMEZONE
BEGIN:VEVENT
DTSTART;TZID=Europe/Paris:20170428T190000
DTEND;TZID=Europe/Paris:20170428T235500
DTSTAMP:20260422T001645
CREATED:20170419T065345Z
LAST-MODIFIED:20170608T171336Z
UID:1609-1493406000-1493423700@qualif.edil33.fr
SUMMARY:Scénaristique JDR : La Bonne Entente Et L'ambiance
DESCRIPTION:Vous avez envie de parler JDR et de prendre connaissance d’autres points de vues ?\nAlors n’hésitez pas \, le format « cours » que je donnerais est juste là pour que tout le monde ait une base d’information commune !\nYou’re Welcome !
URL:https://qualif.edil33.fr/event/scenaristique-jdr-la-bonne-entente-et-lambiance/
LOCATION:EDIL\, 5 place sainte eulalie\, Bordeaux\, 33000\, France
CATEGORIES:Evenement Interne (de l'EDIL)
END:VEVENT
END:VCALENDAR