BEGIN:VCALENDAR
VERSION:2.0
PRODID:-//Association de jeux EDIL - ECPv6.11.2.1//NONSGML v1.0//EN
CALSCALE:GREGORIAN
METHOD:PUBLISH
X-WR-CALNAME:Association de jeux EDIL
X-ORIGINAL-URL:https://qualif.edil33.fr
X-WR-CALDESC:Évènements pour Association de jeux EDIL
REFRESH-INTERVAL;VALUE=DURATION:PT1H
X-Robots-Tag:noindex
X-PUBLISHED-TTL:PT1H
BEGIN:VTIMEZONE
TZID:Europe/Paris
BEGIN:DAYLIGHT
TZOFFSETFROM:+0100
TZOFFSETTO:+0200
TZNAME:CEST
DTSTART:20140330T010000
END:DAYLIGHT
BEGIN:STANDARD
TZOFFSETFROM:+0200
TZOFFSETTO:+0100
TZNAME:CET
DTSTART:20141026T010000
END:STANDARD
END:VTIMEZONE
BEGIN:VEVENT
DTSTART;TZID=Europe/Paris:20140510T093000
DTEND;TZID=Europe/Paris:20140511T163000
DTSTAMP:20260423T114712
CREATED:20140312T151255Z
LAST-MODIFIED:20170608T164815Z
UID:564-1399714200-1399825800@qualif.edil33.fr
SUMMARY:GNiales Aquitaine 2014
DESCRIPTION:Convention de Jeu de Rôle Grandeur Nature et d’éducation populaire \nhttps://www.facebook.com/events/432972803499951/?ref_newsfeed_story_type=regular
URL:https://qualif.edil33.fr/event/gniales-aquitaine-2014/
LOCATION:Collège François Mitterrand\, Chemin de Régano\, Créon\, 33670\, France Métropolitaine
CATEGORIES:Evénement Externe (Non-EDIL)
END:VEVENT
END:VCALENDAR