BEGIN:VCALENDAR
VERSION:2.0
PRODID:-//Association de jeux EDIL - ECPv6.11.2.1//NONSGML v1.0//EN
CALSCALE:GREGORIAN
METHOD:PUBLISH
X-WR-CALNAME:Association de jeux EDIL
X-ORIGINAL-URL:https://qualif.edil33.fr
X-WR-CALDESC:Évènements pour Association de jeux EDIL
REFRESH-INTERVAL;VALUE=DURATION:PT1H
X-Robots-Tag:noindex
X-PUBLISHED-TTL:PT1H
BEGIN:VTIMEZONE
TZID:Europe/Paris
BEGIN:DAYLIGHT
TZOFFSETFROM:+0100
TZOFFSETTO:+0200
TZNAME:CEST
DTSTART:20150329T010000
END:DAYLIGHT
BEGIN:STANDARD
TZOFFSETFROM:+0200
TZOFFSETTO:+0100
TZNAME:CET
DTSTART:20151025T010000
END:STANDARD
END:VTIMEZONE
BEGIN:VEVENT
DTSTART;TZID=Europe/Paris:20151128T170000
DTEND;TZID=Europe/Paris:20151204T210000
DTSTAMP:20260424T131026
CREATED:20151010T065044Z
LAST-MODIFIED:20170608T170110Z
UID:1250-1448730000-1449262800@qualif.edil33.fr
SUMMARY:3ème Bourse aux Jeux [DEPOT]
DESCRIPTION:Après le succès des deux bourses aux jeux des deux dernières années\, l’association EDIL organise de nouveau sa BOURSE AUX JEUX afin de permettre à tous de vendre et acheter des jeux et autres petites merveilles ludiques lors de cette période festive qu’est Noël et le Jour de l’An. \nLa bourse est ouverte à tous et le dépôt des jeux est de 2€ seulement par dépôts tous les 5 jeux. Pour les adhérents de l’association il y a une remise de 50% par dépôts. 😉\n\nVous pouvez déposer des jeux de plateaux\, des jeux de rôles\, des jeux de cartes\, des jeux de figurines\, des DVD\, des livres et romans ou tout autre chose qui vous passent par la tête du moment que cela rentre dans les univers de l’imaginaire. \nAlors\, n’hésitez pas à déposer les jeux que vous voulez vendre entre le samedi 28 Novembre et le vendredi 4 Décembre de 17h et 21h à notre local\, puis passer entre le Samedi 5 Décembre et le Dimanche 6 Décembre de 10h à 19h\, également à notre local\, pour acquérir les jeux proposés.\n\nDe plus le Samedi 5 Décembre à partir de 20h nous vous invitons à participer à une Soirée Raclette! Ca sera l’occasion de déguster un bon repas chaud et surtout après de tester les jeux que vous venez d’acquérir. 🙂 \nLe lien de l’event:\nhttps://www.facebook.com/events/188945778105203/ \nN’hésitez pas à transmettre cet événement à vos amis et connaissances. \nPour tous renseignements complémentaires:\nLe lien facebook de la bourse aux jeux: https://www.facebook.com/events/920227924671572/\nNotre site web: http://www.edil33.fr/\nEt notre page: https://www.facebook.com/pages/EDIL/1436566163239846\nL’adresse de notre local: 5 Place Ste Eulalie 33000 BORDEAUX\nL’adresse mail: bourse@edil33.fr
URL:https://qualif.edil33.fr/event/bourse-aux-jeux-depot/
LOCATION:EDIL\, 5 place sainte eulalie\, Bordeaux\, 33000\, France
CATEGORIES:Evenement Interne (de l'EDIL)
END:VEVENT
BEGIN:VEVENT
DTSTART;TZID=Europe/Paris:20151205T100000
DTEND;TZID=Europe/Paris:20151206T190000
DTSTAMP:20260424T131026
CREATED:20151010T065141Z
LAST-MODIFIED:20170608T170058Z
UID:1251-1449309600-1449428400@qualif.edil33.fr
SUMMARY:3ème Bourse aux Jeux [VENTE]
DESCRIPTION:Après le succès des deux bourses aux jeux des deux dernières années\, l’association EDIL organise de nouveau sa BOURSE AUX JEUX afin de permettre à tous de vendre et acheter des jeux et autres petites merveilles ludiques lors de cette période festive qu’est Noël et le Jour de l’An. \nLa bourse est ouverte à tous et le dépôt des jeux est de 2€ seulement par dépôts tous les 5 jeux. Pour les adhérents de l’association il y a une remise de 50% par dépôts. 😉 \nVous pouvez déposer des jeux de plateaux\, des jeux de rôles\, des jeux de cartes\, des jeux de figurines\, des DVD\, des livres et romans ou tout autre chose qui vous passent par la tête du moment que cela rentre dans les univers de l’imaginaire. \nAlors\, n’hésitez pas à déposer les jeux que vous voulez vendre entre le samedi 28 Novembre et le vendredi 4 Décembre de 17h et 21h à notre local\, puis passer entre le Samedi 5 Décembre et le Dimanche 6 Décembre de 10h à 19h\, également à notre local\, pour acquérir les jeux proposés.\n\nDe plus le Samedi 5 Décembre à partir de 20h nous vous invitons à participer à une Soirée Raclette! Ca sera l’occasion de déguster un bon repas chaud et surtout après de tester les jeux que vous venez d’acquérir. 🙂 \nLe lien de l’event:\nhttps://www.facebook.com/events/188945778105203/ \nN’hésitez pas à transmettre cet événement à vos amis et connaissances. \nPour tous renseignements complémentaires:\nLe lien facebook de la bourse aux jeux: https://www.facebook.com/events/920227924671572/\nNotre site web: http://www.edil33.fr/\nEt notre page: https://www.facebook.com/pages/EDIL/1436566163239846\nL’adresse de notre local: 5 Place Ste Eulalie 33000 BORDEAUX\nL’adresse mail: bourse@edil33.fr
URL:https://qualif.edil33.fr/event/3eme-bourse-aux-jeux-vente/
LOCATION:EDIL\, 5 place sainte eulalie\, Bordeaux\, 33000\, France
CATEGORIES:Evenement Interne (de l'EDIL)
END:VEVENT
BEGIN:VEVENT
DTSTART;TZID=Europe/Paris:20151205T200000
DTEND;TZID=Europe/Paris:20151205T235500
DTSTAMP:20260424T131026
CREATED:20151010T065426Z
LAST-MODIFIED:20170608T170050Z
UID:1252-1449345600-1449359700@qualif.edil33.fr
SUMMARY:Soirée Raclette
DESCRIPTION:La Samedi 5 Décembre au soir nous organisons un grand repas à l’EDIL!! Dès 20h! \nUn Repas Raclette\, avec fromage chaud\, patates\, charcuteries\, cidre et vin. Nous fournissons les victuailles et nous vous indiqueront le prix sur place.\nSachez juste que le repas ne devrait pas excéder les 8 euros. \nDe plus nous avons besoin de votre aide: nous avons besoin d’ appareils à raclette pour que vous puissiez ripailler toute la soirée. Si vous une de ces machines n’hésitez pas à l’apporter pour partager un bon repas avec vos amis. \nAu fait le Samedi 5 Décembre et Dimanche 6 Décembre il y aura la Bourse aux Jeux de Nöel alors si vous voulez accquérir un jeu ou un cadeau lors de cette période n’hésitez pas. 🙂 \nLe lien de l’event:\nhttps://www.facebook.com/events/480841932087625/
URL:https://qualif.edil33.fr/event/soiree-raclette-2/
LOCATION:EDIL\, 5 place sainte eulalie\, Bordeaux\, 33000\, France
CATEGORIES:Evenement Interne (de l'EDIL)
END:VEVENT
BEGIN:VEVENT
DTSTART;TZID=Europe/Paris:20151211T190000
DTEND;TZID=Europe/Paris:20151211T235500
DTSTAMP:20260424T131026
CREATED:20151010T065557Z
LAST-MODIFIED:20170608T170045Z
UID:1253-1449860400-1449878100@qualif.edil33.fr
SUMMARY:Soirée Star Wars
DESCRIPTION:« Dans une galaxie lointaine très lointaine…. »\nTout le monde a déja entendu cette phrase c’est pourquoi à quelques jours de la sortie officielle de « Star Wars Episode VII: Le Réveil de la Force » nous organisons une soirée sur l’univers de Star Wars! \nPour cette soirée nous vous invitons à venir jouer à des jeux ou vous pourrez incarner des membres de l’Ancienne République\, de l’Empire ou encore de la Rebellion. 🙂 \nAu programme:\n– des parties de JDR\n– des parties de jeux de plateau: Risk Star Wars\, Star Wars « Assaut sur l’Empire »\n– des parties de jeux de figurines: Star Wars « Armada » \nLe prix de participation à la soirée est à 5€ pour les adhérents comprenant un repas spécial « Star Wars » (en cours d’élaboration).\nLe prix d’une adhésion à la journée/soirée (pour les non adhérents) étant de 2€ pour les non adhérent. \nPour finir n’hésitez pas à vous parrer de vos plus beaux costumes dans le thème (costume de Jedi\, sabre laser\, blaster\, etc…). \nQue la force soit avec vous!
URL:https://qualif.edil33.fr/event/soiree-star-wars/
LOCATION:EDIL\, 5 place sainte eulalie\, Bordeaux\, 33000\, France
CATEGORIES:Evenement Interne (de l'EDIL)
END:VEVENT
BEGIN:VEVENT
DTSTART;TZID=Europe/Paris:20151224T190000
DTEND;TZID=Europe/Paris:20151224T230000
DTSTAMP:20260424T131026
CREATED:20151223T113204Z
LAST-MODIFIED:20170608T170040Z
UID:1277-1450983600-1450998000@qualif.edil33.fr
SUMMARY:Noël des Miracles
DESCRIPTION:Salut à tous les étudiants\, les voyageurs\, les rifodés\, les malingreux\, les capons et courtauds de Boutange ! Prenez vos plus beaux dés et plus agiles manettes ! Que vous soyez des briscards du jeu ou que vous veniez juste de commencer à lire l’acte 2 du Roi en Jaune venez jouer avec nous pour noel ! \nL’EDIL sera ouvert le 24 pour tous ceux qui ne peuvent pas rentrer auprès des leurs pour festoyer et partager. \nMerci à chacun de ramener sa ripaille afin de nous permettre de diner autour du partage et de cette belle famille qu’est l’EDIL.
URL:https://qualif.edil33.fr/event/noel-des-miracles/
LOCATION:EDIL\, 5 place sainte eulalie\, Bordeaux\, 33000\, France
CATEGORIES:Evenement Interne (de l'EDIL)
END:VEVENT
END:VCALENDAR