BEGIN:VCALENDAR
VERSION:2.0
PRODID:-//Association de jeux EDIL - ECPv6.11.2.1//NONSGML v1.0//EN
CALSCALE:GREGORIAN
METHOD:PUBLISH
X-WR-CALNAME:Association de jeux EDIL
X-ORIGINAL-URL:https://qualif.edil33.fr
X-WR-CALDESC:Évènements pour Association de jeux EDIL
REFRESH-INTERVAL;VALUE=DURATION:PT1H
X-Robots-Tag:noindex
X-PUBLISHED-TTL:PT1H
BEGIN:VTIMEZONE
TZID:Europe/Paris
BEGIN:DAYLIGHT
TZOFFSETFROM:+0100
TZOFFSETTO:+0200
TZNAME:CEST
DTSTART:20160327T010000
END:DAYLIGHT
BEGIN:STANDARD
TZOFFSETFROM:+0200
TZOFFSETTO:+0100
TZNAME:CET
DTSTART:20161030T010000
END:STANDARD
END:VTIMEZONE
BEGIN:VEVENT
DTSTART;TZID=Europe/Paris:20160206T190000
DTEND;TZID=Europe/Paris:20160206T220000
DTSTAMP:20260424T095835
CREATED:20160103T094326Z
LAST-MODIFIED:20170608T170552Z
UID:1295-1454785200-1454796000@qualif.edil33.fr
SUMMARY:Soirée Chandeleur
DESCRIPTION:Le samedi 6 Février\, l’EDIL organise une soirée Chandeleur! On sait que logiquement c’est le 2 Février mais après un mois de passer après les fêtes de fin d’année on sait très bien que la plupart d’entre vous meurt d’envie de faire une soirée à notre local. Et cela fait longtemps que l’on a pas manger de crêpes. 🙂 \nAlors au programme nous vous proposons: \n-Des parties de jeux de rôles\n-Des parties de jeux de plateau.\n-Des parties de jeux vidéo. \n-Mais surtout des crêpes à volonté\n-En salé: Jambon/Fromage et Chèvre/Miel.\n-En sucré: Confitures de fraise et d’abricot\, Sucre\, Nutella\, Pate à Speculoos! \nLe prix de participation au repas est de 5€ pour les adhérents.\nLe prix d’une adhésion à la journée/soirée (pour les non adhérents) étant de 2€.
URL:https://qualif.edil33.fr/event/chandeleur-2/
LOCATION:EDIL\, 5 place sainte eulalie\, Bordeaux\, 33000\, France
CATEGORIES:Evenement Interne (de l'EDIL)
END:VEVENT
BEGIN:VEVENT
DTSTART;TZID=Europe/Paris:20160209T190000
DTEND;TZID=Europe/Paris:20160209T190000
DTSTAMP:20260424T095835
CREATED:20160113T123530Z
LAST-MODIFIED:20170608T170716Z
UID:1306-1455044400-1455044400@qualif.edil33.fr
SUMMARY:Soirée Dice-Building
DESCRIPTION:Vous aimez les dés ? Cette soirée est pour vous !\nVous allez pouvoir découvrir l’univers des dice-building ! Au programme Quarriors et ses nombreuses extensions! \nEn tant que Quarriors\, puissants guerriers mystiques\, lancez de puissants sorts\, invoquez vos créatures féroces pour vaincre vos adversaires.\nLes joueurs joueur le rôle de Quarriors – de puissants magiciens\, qui ont le pouvoir de capturer de dangereux quarry venu de contrées sauvages interdites… Ils doivent conjurer les mystérieux pouvoirs de Quidditty\, lancer de puissants sorts et invoquer leur créature sur le champ de bataille s’il espèrent battre leurs rivaux et obtenir l’ultime titre de Champion. \nEt aussi la licence DICE MASTER aux couleurs des Avengers\, X-men et Spider man ! \nDans ce jeu\, chaque joueur réunit une équipe de super-héros\, où chaque héros -Wolverine\, Magneto\, Cyclops\, Iceman\, Psylocke\, the Sentinels \, etc – est représenté par un dé spécial. Chaque équipe doit être composée de 15 dés. Chaque héros dispose également d’une ou plusieurs cartes de personnage\, qui détaillent les capacités spéciales associées à chaque symbole de leur dé. Différentes versions de ces cartes seront disponibles dans les boosters\, permettant une plus grande personnalisation de votre équipe. \nLes dés permettent de collecter de l’énergie\, recruter de nouveaux héros\, et bien sûr à attaquer l’équipe adverse. En outre\, chaque joueur apporte au jeu deux cartes d’action qui sont placées au centre de la table\, ces cartes peuvent être achetées. \nLa soirée s’adresse aussi bien aux novices qu’aux joueurs confirmés 😉 \nLe prix de participation à la soirée est pour les adhérents.\nLe prix d’une adhésion à la journée/soirée pour les non adhérents est de 2€.
URL:https://qualif.edil33.fr/event/soiree-dice-building/
LOCATION:EDIL\, 5 place sainte eulalie\, Bordeaux\, 33000\, France
END:VEVENT
BEGIN:VEVENT
DTSTART;TZID=Europe/Paris:20160213T190000
DTEND;TZID=Europe/Paris:20160213T230000
DTSTAMP:20260424T095835
CREATED:20151227T091703Z
LAST-MODIFIED:20170608T170558Z
UID:1291-1455390000-1455404400@qualif.edil33.fr
SUMMARY:Soirée Speed Dating Spéciale St-Valentin
DESCRIPTION:Le samedi 13 Février\, l’EDIL organise une soirée « Speed Dating »! Oui on fait une soirée pour la Saint Valentin! Que vous soyez célibataire ou en couple\, n’hésitez pas à venir pour une soirée digne de ce nom: bonne musique\, belle déco et tout le monde sur son 31! \nLe programme est encore en cours d’élaboration. On vous informera très vite de ce qu’il y aura. Une chose est sur nous sommes une association de jeu il y aura donc du jeu: du jeu de plateau et du jeux vidéo mais aussi\, et c’est là l’intêret de la soirée\, un petit jeu de rôle grandeur nature maison! Ainsi vous devrez incarner des personnages aux personnalités tous plus originales les unes que les autres\, se rencontrant lors d’un speed dating. Vous aurez des objectifs durant toute la soirée et l’intêret sera de les réussir tout en faisant connaissance. 😉 \nLe prix d’une adhésion à la journée/soirée (pour les non adhérents) étant de 2€.
URL:https://qualif.edil33.fr/event/saint-valentin/
LOCATION:EDIL\, 5 place sainte eulalie\, Bordeaux\, 33000\, France
CATEGORIES:Evenement Interne (de l'EDIL)
END:VEVENT
BEGIN:VEVENT
DTSTART;TZID=Europe/Paris:20160227T193000
DTEND;TZID=Europe/Paris:20160227T193000
DTSTAMP:20260424T095835
CREATED:20151223T115654Z
LAST-MODIFIED:20170608T170602Z
UID:1285-1456601400-1456601400@qualif.edil33.fr
SUMMARY:Soirée Semi Réel Vampire Camarilla
DESCRIPTION:Soirée du Semi Réel Vampire Camarilla.
URL:https://qualif.edil33.fr/event/soiree-semi-reel-vampire-camarilla-2/
LOCATION:Centre d’Animation Grand Parc\, 36 Rue Robert Schuman\, BORDEAUX\, 33000\, France
CATEGORIES:Semi-Réel
END:VEVENT
END:VCALENDAR