BEGIN:VCALENDAR
VERSION:2.0
PRODID:-//Association de jeux EDIL - ECPv6.11.2.1//NONSGML v1.0//EN
CALSCALE:GREGORIAN
METHOD:PUBLISH
X-ORIGINAL-URL:https://qualif.edil33.fr
X-WR-CALDESC:Évènements pour Association de jeux EDIL
REFRESH-INTERVAL;VALUE=DURATION:PT1H
X-Robots-Tag:noindex
X-PUBLISHED-TTL:PT1H
BEGIN:VTIMEZONE
TZID:Europe/Paris
BEGIN:DAYLIGHT
TZOFFSETFROM:+0100
TZOFFSETTO:+0200
TZNAME:CEST
DTSTART:20160327T010000
END:DAYLIGHT
BEGIN:STANDARD
TZOFFSETFROM:+0200
TZOFFSETTO:+0100
TZNAME:CET
DTSTART:20161030T010000
END:STANDARD
END:VTIMEZONE
BEGIN:VEVENT
DTSTART;TZID=Europe/Paris:20160402T100000
DTEND;TZID=Europe/Paris:20160402T200000
DTSTAMP:20260424T070441
CREATED:20160401T202334Z
LAST-MODIFIED:20170608T170734Z
UID:1329-1459591200-1459627200@qualif.edil33.fr
SUMMARY:Animasia le Haillan
DESCRIPTION:Rendez-vous samedi 2 avril de 11h à 20h pour Animasia : Le Haillan. \nComme pendant les éditions précédentes\, l’entrée du festival est gratuite. \nPlus d’informations sur http://www.lehaillan.animasia.org/ \nL’EDIL aura un stand et représentera le Collectif Fëte du Jeu.
URL:https://qualif.edil33.fr/event/animasia-le-haillan-3/
LOCATION:L’entrepôt du Haillan\, 13 rue Georges Clemenceau\, Le Haillan\, 33185 \, France Métropolitaine
CATEGORIES:Evénement Externe (Non-EDIL)
END:VEVENT
BEGIN:VEVENT
DTSTART;TZID=Europe/Paris:20160409T110000
DTEND;TZID=Europe/Paris:20160410T170000
DTSTAMP:20260424T070441
CREATED:20160401T202558Z
LAST-MODIFIED:20170608T170737Z
UID:1330-1460199600-1460307600@qualif.edil33.fr
SUMMARY:Vill'à Jeux
DESCRIPTION:Vill’à Jeux\, festival des jeux de Le Bouscat\, ville à vivre organisé par Asso Ricochet\, revient pour sa 14ème édition le samedi 9 avril et le dimanche 10 avril à l’Ermitage-Compostelle 😉 \nAu programme : JEUX DE SOCIETE / AUTEURS / EDITEURS / ANIMATIONS & TOURNOIS / JEUX GEANTS / PETITE ENFANCE / JEUX DE CONSTRUCTION / TYROLIENNE / JEUX SPORTIFS / CIRQUE / JEUX VIDEO / YO-YO / MÉDIÉVAL / MAGIE / THEATRE IMPRO / 360BALL / BOUTIQUES \nPlus de 100 bénévoles et de nombreux partenaires seront là pour vous accueillir Fortress Combat\, Florent Urbina\, IELLO\, Asmodee\, Ferti Games\, DJECO\, R’2Jeux\, Aquilon – Magic l’assemblée: Bordeaux\, Burdigala Trollball\, Troll Me Tender\, EDIL\, Kitani – Club de go de Bordeaux\, KiniGame\, Fabrik Ludik\, Ludothèque Ludoludik\, Capcom France\, La grande Berle\, Ouest Games\, Filosofiagames\, JLN\, Les créatesteurs ludophages\, Haba\, France Yoyo Association – FYYA\, 360balll\, J’ai Pas Tout Compris\, Les Nomades Du Jeu\, nos amis de Pirouettes… \nUn événement organisé par Asso Ricochet grâce au soutien de la Mairie de Le Bouscat\, ville à vivre\, de la Caf de la Gironde\, du Département de la Gironde et l’entreprise Aquitem. \nSamedi 9 avril / 14h-20h\nNocturne le samedi (jeux de société\, jeux vidéo\, yo-yo et impro) / 20h-minuit\nDimanche 10 avril / 14h-18h\nErmitage-Compostelle\nLe Bouscat \nEntrée : 3€ (pass 2 jours)\nGratuit pour les moins de 6 ans
URL:https://qualif.edil33.fr/event/villa-jeux/
LOCATION:Ermitage-Compostelle\,  10 Rue Bertrand Hauret\, Le Bouscat\, 33110\, France Métropolitaine
CATEGORIES:Evénement Externe (Non-EDIL)
END:VEVENT
BEGIN:VEVENT
DTSTART;TZID=Europe/Paris:20160423T190000
DTEND;TZID=Europe/Paris:20160423T235500
DTSTAMP:20260424T070441
CREATED:20160324T112752Z
LAST-MODIFIED:20170608T170742Z
UID:1326-1461438000-1461455700@qualif.edil33.fr
SUMMARY:Soirée des Supers
DESCRIPTION:Vous aimez les supers? Qu’ils soient vilains ou héros?Vous avez vu ou vous allez voir En « Captain America : Civil War »? Que vous soyez fan des X-Men ou encore de la Suicide Squad cette soirée est faites pour vous!! \nA l’honneur les jeux de plateau\, les jeux de rôles et les jeux de dice-building autours des supers:\n– Legendary: un jeu de deck-building\n-Dice Masters:un jeu de dice-building ( Il y aura possibilité d’échanger des cartes et/ou des dés pour DICE MASTER)\n-Guardian Chronicle un jeu de figurine\n-Hexagon Universe: un jeu de rôle original avec des supers héros adapté des BD de l’éditeur Semic et se passant dans un futur proche.\n-La Brigade Chimérique: un jeu de rôle ou vous incarnez des héros aux pouvoirs extraordinaires dans l’Europe des années 1930.\n– Tous les jeux que vous pourrez apporter autours des univers des supers et des comics! \nCa sera aussi l’occasion de rendre hommage aux semi-réels passés (ou futur) de l’EDIL sur les univers des supers notamment Cape Diem et Ultimate Power! Alors venez avec vos meilleurs costumes et vos anciennes fiches de personnages pour revivre des sessions de semi-réel comme il y a quelques années!! ^^ \nAlors rendez vous à l’EDIL\, 5 Place Ste Eulalie à Bordeaux le 23 AVRIL 2016 à partir de 19H!\nLa soirée est gratuite pour les adhérents.\nLe prix d’une adhésion à la journée/soirée pour les non adhérents est de 2€.
URL:https://qualif.edil33.fr/event/soiree-des-supers/
LOCATION:EDIL\, 5 place sainte eulalie\, Bordeaux\, 33000\, France
CATEGORIES:Evenement Interne (de l'EDIL)
END:VEVENT
BEGIN:VEVENT
DTSTART;TZID=Europe/Paris:20160430T193000
DTEND;TZID=Europe/Paris:20160430T230000
DTSTAMP:20260424T070441
CREATED:20151223T120108Z
LAST-MODIFIED:20170608T170747Z
UID:1288-1462044600-1462057200@qualif.edil33.fr
SUMMARY:Soirée Semi Réel Vampire Camarilla
DESCRIPTION:Soirée Semi Réel Vampire Camarilla
URL:https://qualif.edil33.fr/event/soiree-semi-reel-vampire-camarilla-3/
LOCATION:Centre d’Animation Grand Parc\, 36 Rue Robert Schuman\, BORDEAUX\, 33000\, France
CATEGORIES:Semi-Réel
END:VEVENT
END:VCALENDAR