BEGIN:VCALENDAR
VERSION:2.0
PRODID:-//Association de jeux EDIL - ECPv6.11.2.1//NONSGML v1.0//EN
CALSCALE:GREGORIAN
METHOD:PUBLISH
X-WR-CALNAME:Association de jeux EDIL
X-ORIGINAL-URL:https://qualif.edil33.fr
X-WR-CALDESC:Évènements pour Association de jeux EDIL
REFRESH-INTERVAL;VALUE=DURATION:PT1H
X-Robots-Tag:noindex
X-PUBLISHED-TTL:PT1H
BEGIN:VTIMEZONE
TZID:Europe/Paris
BEGIN:DAYLIGHT
TZOFFSETFROM:+0100
TZOFFSETTO:+0200
TZNAME:CEST
DTSTART:20160327T010000
END:DAYLIGHT
BEGIN:STANDARD
TZOFFSETFROM:+0200
TZOFFSETTO:+0100
TZNAME:CET
DTSTART:20161030T010000
END:STANDARD
END:VTIMEZONE
BEGIN:VEVENT
DTSTART;TZID=Europe/Paris:20160813T190000
DTEND;TZID=Europe/Paris:20160813T235500
DTSTAMP:20260424T010040
CREATED:20160812T070215Z
LAST-MODIFIED:20170608T171243Z
UID:1449-1471114800-1471132500@qualif.edil33.fr
SUMMARY:Tournoi Splendor
DESCRIPTION:Bon un peu rapidement on organise un tournoi Splendor à l’EDIL! On adore ce jeu alors c’est l’occasion de savoir qui sera le ou la meilleure au local de l’association. Si vous ne connaissez pas ce jeu\, désormais un classique\, venez tester un peu avant la soirée. Une partie dure grand maximum 30 minutes. \nUn résumé sur la page Tric Trac ( https://www.trictrac.net/jeu-de-societe/splendor): \n« Dans Splendor\, vous dirigez une guilde de marchands.\nA l’aide de jetons symbolisant des pierres précieuses\, vous allez acquérir des développements qui produisent de nouvelles pierres (les bonus). Ces bonus réduisent le coût de vos achats et attirent les nobles mécènes.\nChaque tour est rapide : une action et une seule ! Observez vos adversaires\, anticipez et réservez les bonnes cartes.\nLe premier joueur à parvenir à quinze points de prestige en cumulant nobles et développements déclenche la fin de la partie. » \nAlors rendez vous à l’EDIL\, 5 Place Ste Eulalie à Bordeaux le SAMEDI 13 AOÛT 2016 à partir de 19H! \n\nLa soirée est gratuite pour les adhérents.\nLe prix d’une adhésion à la journée/soirée pour les non adhérents est de 2€.
URL:https://qualif.edil33.fr/event/tournoi-splendor/
LOCATION:EDIL\, 5 place sainte eulalie\, Bordeaux\, 33000\, France
CATEGORIES:Evenement Interne (de l'EDIL)
END:VEVENT
BEGIN:VEVENT
DTSTART;TZID=Europe/Paris:20160828T140000
DTEND;TZID=Europe/Paris:20160828T180000
DTSTAMP:20260424T010040
CREATED:20160827T093824Z
LAST-MODIFIED:20170608T171240Z
UID:1459-1472392800-1472407200@qualif.edil33.fr
SUMMARY:Atelier Pixel Art
DESCRIPTION:Bonjour à tous ! \nToujours sur son format mensuel SoLau’ Création et leur atelier Pixel Art reviennent ! \nComme toujours il y aura des initiations et du perfectionnement et peut-être même un projet à plusieurs mains. \nComme d’hab\, on se retrouve à l’EDIL (arret musée d’aquitaine) qui nous fournit ses locaux et sa buvette ( café\, snack\, soda). Pensez à ramener vos sprites ( modèles) ou à en discuter ici pour prévoir vos projets. Pour les nouveaux\, un classeur de modele sera à disposition sinon un Smartphone/Tablette suffit ! \nPour ceux qui ont pas de matos on vous proposes des consommables (perles) pour 2€/ la plaque ( environ 1000perles pour un format dessous de verre ) comme tjs ! \nOn aura comme d’hab nos bonnes vieilles consoles en free play pour ceux qui manquent d’inspiration 😉 \nUn événement PaléoLudique/EDIL \nEDIL\nhttps://www.facebook.com/assoedil/?fref=ts \nSoLau Création (en construction) :\nhttps://www.facebook.com/Solaucreation/?fref=ts
URL:https://qualif.edil33.fr/event/atelier-pixel-art-2/
LOCATION:EDIL\, 5 place sainte eulalie\, Bordeaux\, 33000\, France
CATEGORIES:Evenement Interne (de l'EDIL)
END:VEVENT
END:VCALENDAR