BEGIN:VCALENDAR
VERSION:2.0
PRODID:-//Association de jeux EDIL - ECPv6.11.2.1//NONSGML v1.0//EN
CALSCALE:GREGORIAN
METHOD:PUBLISH
X-WR-CALNAME:Association de jeux EDIL
X-ORIGINAL-URL:https://qualif.edil33.fr
X-WR-CALDESC:Évènements pour Association de jeux EDIL
REFRESH-INTERVAL;VALUE=DURATION:PT1H
X-Robots-Tag:noindex
X-PUBLISHED-TTL:PT1H
BEGIN:VTIMEZONE
TZID:Europe/Paris
BEGIN:DAYLIGHT
TZOFFSETFROM:+0100
TZOFFSETTO:+0200
TZNAME:CEST
DTSTART:20160327T010000
END:DAYLIGHT
BEGIN:STANDARD
TZOFFSETFROM:+0200
TZOFFSETTO:+0100
TZNAME:CET
DTSTART:20161030T010000
END:STANDARD
END:VTIMEZONE
BEGIN:VEVENT
DTSTART;VALUE=DATE:20160910
DTEND;VALUE=DATE:20160912
DTSTAMP:20260423T234324
CREATED:20160701T072353Z
LAST-MODIFIED:20170608T171236Z
UID:1363-1473465600-1473638399@qualif.edil33.fr
SUMMARY:WE-DIL
DESCRIPTION:  \nLes samedi 10 et dimanche 11 Septembre prochain va se dérouler le WE-DIL ou le Week End de l’Espace de Développement de l’Imaginaire Ludique. Cet évènement est la nouvelle convention de jeu de l’association EDIL! \nCette manifestation est ouverte à tout type de visiteurs : joueurs confirmés\, débutants ou simples curieux\, réunis autour des mêmes tables de jeu. Pour faire vivre l’évènement\, outre des parties de jeux de rôle et de jeux de plateau\, plusieurs tournois de jeux de cartes et de jeux de figurine sont organisés pour l’occasion. Il y aura également des diffusions de webséries\, des conférences\, du cosplay\, du trollball\, des spectacles\, des tournois de jeu vidéo. L’EDIL prévoit également la visite d’auteurs\, d’éditeurs et de professionnels du monde jeu et des mondes de l’imaginaire de la région ou d’ailleurs pour que vous puissiez les découvrir directement. \nAU PROGRAMME: [PS: Le programme est en cours de conception il est succeptible d’évoluer dans les prochaines semaines]\n– des parties de jeux de rôles\n – des parties découvertes et des parties pour joueurs expérimentés de jeux de figurines Spartan Games et Games Workshop\n – une session découverte autours du jeu de cartes « Warhammer 40K Conquest » et de « Dice Master ».\n – de nombreuses parties de jeux de plateau et des tournois sur des jeux exclusifs\n – des tournois de jeux vidéo-retro\n – des parties de découverte du Trollball\n – des spectacles\n – la diffusion du docmentaire« Le jeu sur un plateau » par Chloé André\n – des conférences sur les mondes de l’imaginaire et le cosplay\n -Exposition : David Bagel nous propose une exposition sur L’influence d’H.P. Lovecraft dans l’univers des jeux vidéo.\n – des séances photos de cosplay et de costumes de GN.\n -la diffusion le samedi 11 à partir de 19h30\, du film « Les Seigneur d’Outremonde » en exclusivité\, par les studios Ere2 en présence des réalisateurs et acteurs! \n  \n \nInfos pratique du WE DIL\nAdresse\nWE-DIL\nCentre d’Animation du Grand Parc\n36 Rue Robert Schuman\n33000 Bordeaux \nTransport en commun/accès:\nArrêt TRAM C « Grand Parc »\nArrêt BUS Lianes 15 et Citéis 46 « Place de l’Europe »\nParking « Place de l’Europe » face au Simply Market. \nTarifs d’entrée\nPass 1 Jour:  3€\nPass 2 Jours : 5€ \nHébergement / Restauration\nRestauration salée/sucrée sur place.\nPour l’hébergement n’hésitez pas à prendre contact avec nous \nPlus d’informations\nSite officiel de l’association : www.edil33.fr\nL’évènement est également sur Facebook \nLe mail des organisateurs  orgawedil@gmail.com \n 
URL:https://qualif.edil33.fr/event/we-dil/
LOCATION:Centre d’Animation Grand Parc\, 36 Rue Robert Schuman\, BORDEAUX\, 33000\, France
CATEGORIES:Evénement Externe (Non-EDIL)
END:VEVENT
BEGIN:VEVENT
DTSTART;TZID=Europe/Paris:20160918T140000
DTEND;TZID=Europe/Paris:20160918T235500
DTSTAMP:20260423T234324
CREATED:20170128T111043Z
LAST-MODIFIED:20170608T171231Z
UID:1578-1474207200-1474242900@qualif.edil33.fr
SUMMARY:Abigaïl Hodges et l'Ombre de Poudlard
DESCRIPTION:
URL:https://qualif.edil33.fr/event/abigail-hodges-et-lombre-de-poudlard-5/
LOCATION:Centre d’Animation Grand Parc\, 36 Rue Robert Schuman\, BORDEAUX\, 33000\, France
CATEGORIES:Evenement Interne (de l'EDIL),Semi-Réel
END:VEVENT
BEGIN:VEVENT
DTSTART;TZID=Europe/Paris:20160918T160000
DTEND;TZID=Europe/Paris:20160918T200000
DTSTAMP:20260423T234324
CREATED:20160815T095615Z
LAST-MODIFIED:20170608T171228Z
UID:1450-1474214400-1474228800@qualif.edil33.fr
SUMMARY:Assemblée Générale Ordinaire 2016
DESCRIPTION:L’Assemblée Générale Ordinaire de l’EDIL aura lieu comme tous les ans au local. \nL’ordre du jour temporaire : \n– Bilan Moral\n– Bilan Financier\n– Retours sur le WEDIL\n– Retours sur les évènements avec le collectif fête du jeu et Mandora\n– Retours sur les partenariats\n– Le rôle du Bureau\n– Rappels sur le fonctionnement de l’asso\n– Election du nouveau bureau\n– Questions diverses \nQuelques rappels :\n– Tout le monde peut participer à l’assemblée générale.\n– Seules les personnes membres à date d’aujourd’hui peuvent voter lors des décisions d’AG.\n– Seules les personnes membres depuis plus d’un an peuvent se présenter au Bureau.\n– Vous pouvez donnez procuration à un autre membre par écrit. La procuration devra être présentée signée le jour de l’AG pour être valable.
URL:https://qualif.edil33.fr/event/assemblee-generale-ordinaire-2016/
LOCATION:EDIL\, 5 place sainte eulalie\, Bordeaux\, 33000\, France
CATEGORIES:Evenement Interne (de l'EDIL)
END:VEVENT
BEGIN:VEVENT
DTSTART;TZID=Europe/Paris:20160924T190000
DTEND;TZID=Europe/Paris:20160924T190000
DTSTAMP:20260423T234324
CREATED:20161202T134003Z
LAST-MODIFIED:20170608T171224Z
UID:1513-1474743600-1474743600@qualif.edil33.fr
SUMMARY:Soirée Semi Réel Vampire Camarilla
DESCRIPTION:Soirée Semi Réel Vampire Camarilla
URL:https://qualif.edil33.fr/event/soiree-semi-reel-vampire-camarilla-6/
LOCATION:Centre d’Animation Grand Parc\, 36 Rue Robert Schuman\, BORDEAUX\, 33000\, France
CATEGORIES:Evenement Interne (de l'EDIL),Semi-Réel
END:VEVENT
BEGIN:VEVENT
DTSTART;TZID=Europe/Paris:20160926T080000
DTEND;TZID=Europe/Paris:20160926T170000
DTSTAMP:20260423T234324
CREATED:20160926T193011Z
LAST-MODIFIED:20170608T171220Z
UID:1488-1474876800-1474909200@qualif.edil33.fr
SUMMARY:Tournoi de Splendor
DESCRIPTION:On organise un tournoi Splendor à l’EDIL! On adore ce jeu alors c’est l’occasion de savoir qui sera le ou la meilleure au local de l’association. Si vous ne connaissez pas ce jeu\, désormais un classique\, venez tester un peu avant la soirée. Une partie dure grand maximum 30 minutes. \nUn résumé sur la page Tric Trac ( https://www.trictrac.net/jeu-de-societe/splendor): \n« Dans Splendor\, vous dirigez une guilde de marchands.\nA l’aide de jetons symbolisant des pierres précieuses\, vous allez acquérir des développements qui produisent de nouvelles pierres (les bonus). Ces bonus réduisent le coût de vos achats et attirent les nobles mécènes.\nChaque tour est rapide : une action et une seule ! Observez vos adversaires\, anticipez et réservez les bonnes cartes.\nLe premier joueur à parvenir à quinze points de prestige en cumulant nobles et développements déclenche la fin de la partie. » \nLe tournoi s’effectuera en 3 manches puis avec une table finale. Le classement s’effectuera en fonction du nombre de point de chaque joueurs et du nombre de cartes jouées. \nAlors rendez vous à l’EDIL\, 5 Place Ste Eulalie à Bordeaux le SAMEDI 15 OCTOBRE 2016 à partir de 19H! A partir de 18H30 vous pourrez venir pour faire une partie d’initiation si vous ne connaissez pas ce jeu. \nLa soirée est gratuite pour les adhérents.\n Le prix d’une adhésion à la journée/soirée pour les non adhérents est de 2€.
URL:https://qualif.edil33.fr/event/tournoi-de-splendor/
CATEGORIES:Evenement Interne (de l'EDIL)
END:VEVENT
END:VCALENDAR