BEGIN:VCALENDAR
VERSION:2.0
PRODID:-//Association de jeux EDIL - ECPv6.11.2.1//NONSGML v1.0//EN
CALSCALE:GREGORIAN
METHOD:PUBLISH
X-ORIGINAL-URL:https://qualif.edil33.fr
X-WR-CALDESC:Évènements pour Association de jeux EDIL
REFRESH-INTERVAL;VALUE=DURATION:PT1H
X-Robots-Tag:noindex
X-PUBLISHED-TTL:PT1H
BEGIN:VTIMEZONE
TZID:Europe/Paris
BEGIN:DAYLIGHT
TZOFFSETFROM:+0100
TZOFFSETTO:+0200
TZNAME:CEST
DTSTART:20160327T010000
END:DAYLIGHT
BEGIN:STANDARD
TZOFFSETFROM:+0200
TZOFFSETTO:+0100
TZNAME:CET
DTSTART:20161030T010000
END:STANDARD
END:VTIMEZONE
BEGIN:VEVENT
DTSTART;TZID=Europe/Paris:20161126T190000
DTEND;TZID=Europe/Paris:20161204T203000
DTSTAMP:20260423T190926
CREATED:20161112T094205Z
LAST-MODIFIED:20170608T171152Z
UID:1506-1480186800-1480883400@qualif.edil33.fr
SUMMARY:Bourse aux Jeux
DESCRIPTION:Après le succès des trois bourses aux jeux des trois dernières années\, l’association EDIL organise de nouveau sa BOURSE AUX JEUX afin de permettre à tous de vendre et acheter des jeux et autres petites merveilles ludiques lors de cette période festive qu’est Noël et le Jour de l’An. \nLa bourse est ouverte à tous et le dépôt des jeux est de 2€ seulement par dépôts tous les 5 jeux. Pour les adhérents de l’association il y a une remise de 50% par dépôts. 😉 \nVous pouvez déposer des jeux de plateaux\, des jeux de rôles\, des jeux de cartes\, des jeux de figurines\, des DVD\, des livres et romans ou tout autre chose qui vous passent par la tête du moment que cela rentre dans les univers de l’imaginaire. \nAlors\, n’hésitez pas à déposer les jeux que vous voulez vendre entre le samedi 26 Novembre et le vendredi 2 Décembre de 19h et 21h à notre local\, puis passer entre le Samedi 3 Décembre et le Dimanche 6 Décembre de 10h à 18h30\, également à notre local\, pour acquérir les jeux proposés. \nDe plus le Samedi 5 Décembre à partir de 20h nous vous invitons à participer à une Soirée Raclette! Ca sera l’occasion de déguster un bon repas chaud et surtout après de tester les jeux que vous venez d’acquérir. 🙂 \nLe lien de l’event:\nhttps://www.facebook.com/events/219054571850583/ \nN’hésitez pas à transmettre cet événement à vos amis et connaissances.\n\nPour tous renseignements complémentaires:\nLe lien facebook de la bourse aux jeux: https://www.facebook.com/events/745340285616690/\nNotre site web: http://www.edil33.fr/\nEt notre page: https://www.facebook.com/assoedil/\nL’adresse de notre local: 5 Place Ste Eulalie 33000 BORDEAUX\nL’adresse mail: bourse@edil33.fr
URL:https://qualif.edil33.fr/event/bourse-aux-jeux-2/
LOCATION:EDIL\, 5 place sainte eulalie\, Bordeaux\, 33000\, France
CATEGORIES:Evenement Interne (de l'EDIL)
END:VEVENT
BEGIN:VEVENT
DTSTART;TZID=Europe/Paris:20161203T200000
DTEND;TZID=Europe/Paris:20161203T235500
DTSTAMP:20260423T190926
CREATED:20161112T094340Z
LAST-MODIFIED:20170608T171148Z
UID:1507-1480795200-1480809300@qualif.edil33.fr
SUMMARY:Soirée Raclette
DESCRIPTION:La Samedi 3 Décembre au soir nous organisons un grand repas à l’EDIL!! Dès 20h! \nUn Repas Raclette\, de la patate pour tous\, du fromage\, du jambon blanc et du jambon de Bayonne\, et du bacon! Le tout avec quelques cornichons et champignons !\nLe prix de la soirée est en cours de calcul. \nIl est possible de ramener un peu de fromage et charcuterie lors de l’évènement. \nDu vin et du cidre seront à votre disposition. \nDe plus nous avons besoin de votre aide: nous avons besoin d’ appareils à raclette pour que vous puissiez ripailler toute la soirée. Si vous une de ces machines n’hésitez pas à l’apporter pour partager un bon repas avec vos amis. \nAu fait le Samedi 3 Décembre et Dimanche 4 Décembre il y aura la Bourse aux Jeux de Nöel alors si vous voulez acquérir un jeu ou un cadeau lors de cette période n’hésitez pas. 🙂
URL:https://qualif.edil33.fr/event/soiree-raclette-3/
LOCATION:EDIL\, 5 place sainte eulalie\, Bordeaux\, 33000\, France
CATEGORIES:Evenement Interne (de l'EDIL)
END:VEVENT
BEGIN:VEVENT
DTSTART;TZID=Europe/Paris:20161210T190000
DTEND;TZID=Europe/Paris:20161210T235500
DTSTAMP:20260423T190926
CREATED:20161201T221839Z
LAST-MODIFIED:20170608T171143Z
UID:1510-1481396400-1481414100@qualif.edil33.fr
SUMMARY:Soirée Mysterium
DESCRIPTION:Pour bien continuer l’année\, un tournoi de Mystérium se prépare. Préparez vous à rencontrer les esprits de l’au-delà. \nMystérium c’est un jeu mélant Dixit et Cluedo\, alliant mystères et meurtres. \nIl y aura deux parties : une partie pour les nouveaux médiums 🙂 et une partie de difficulté moyenne pour les plus connaisseurs \nTous les médiums sont acceptés qu’ils soient simples débutants à confirmés. \nCette partie sera évidemment gratuite. \nLe lien de l’évènement
URL:https://qualif.edil33.fr/event/soiree-mysterium/
LOCATION:EDIL\, 5 place sainte eulalie\, Bordeaux\, 33000\, France
CATEGORIES:Evenement Interne (de l'EDIL)
END:VEVENT
BEGIN:VEVENT
DTSTART;TZID=Europe/Paris:20161211T190000
DTEND;TZID=Europe/Paris:20161211T235500
DTSTAMP:20260423T190926
CREATED:20161201T222027Z
LAST-MODIFIED:20170608T171441Z
UID:1511-1481482800-1481500500@qualif.edil33.fr
SUMMARY:Murder Prohibition
DESCRIPTION:Bonsoir à toutes et tous\, l’EDIL vous propose de se réunir le temps d’un dimanche après-midi dans une ambiance des plus tendues!  \nVivre à l’époque de la prohibition\, avec des personnages peu scrupuleux: l’attaque d’un entrepôt rempli d’alcool de contrebande\,  un big boss et ses hommes de main\,  une chanteuse de cabaret\,  un prêtre…  \n\nC’est l’occasion ici de découvrir le concept de la murder party. 6 places disponibles! \nLe lien de l’event
URL:https://qualif.edil33.fr/event/murder-prohibition/
LOCATION:EDIL\, 5 place sainte eulalie\, Bordeaux\, 33000\, France
CATEGORIES:Evenement Interne (de l'EDIL)
END:VEVENT
END:VCALENDAR