BEGIN:VCALENDAR
VERSION:2.0
PRODID:-//Association de jeux EDIL - ECPv6.11.2.1//NONSGML v1.0//EN
CALSCALE:GREGORIAN
METHOD:PUBLISH
X-WR-CALNAME:Association de jeux EDIL
X-ORIGINAL-URL:https://qualif.edil33.fr
X-WR-CALDESC:Évènements pour Association de jeux EDIL
REFRESH-INTERVAL;VALUE=DURATION:PT1H
X-Robots-Tag:noindex
X-PUBLISHED-TTL:PT1H
BEGIN:VTIMEZONE
TZID:Europe/Paris
BEGIN:DAYLIGHT
TZOFFSETFROM:+0100
TZOFFSETTO:+0200
TZNAME:CEST
DTSTART:20170326T010000
END:DAYLIGHT
BEGIN:STANDARD
TZOFFSETFROM:+0200
TZOFFSETTO:+0100
TZNAME:CET
DTSTART:20171029T010000
END:STANDARD
END:VTIMEZONE
BEGIN:VEVENT
DTSTART;TZID=Europe/Paris:20170113T140000
DTEND;TZID=Europe/Paris:20170115T235500
DTSTAMP:20260423T172227
CREATED:20170128T110852Z
LAST-MODIFIED:20170608T171428Z
UID:1576-1484316000-1484524500@qualif.edil33.fr
SUMMARY:Abigaïl Hodges et l'Ombre de Poudlard
DESCRIPTION:
URL:https://qualif.edil33.fr/event/abigail-hodges-et-lombre-de-poudlard-3/
CATEGORIES:Evenement Interne (de l'EDIL),Semi-Réel
END:VEVENT
BEGIN:VEVENT
DTSTART;TZID=Europe/Paris:20170114T190000
DTEND;TZID=Europe/Paris:20170114T235500
DTSTAMP:20260423T172227
CREATED:20161230T092619Z
LAST-MODIFIED:20170608T171437Z
UID:1518-1484420400-1484438100@qualif.edil33.fr
SUMMARY:Grande soirée Crêpes et Loup Garou
DESCRIPTION:« Tout se passe dans un village d’apparence normale\, le petit hameau de Thiercelieux\, mais chaque nuit des villageois se transforment en loups-garous pour dévorer d’autres villageois. »\n\n\n \n\n\nAu programme:\n\n\n \n\n\n-une partie de Loup Garou géante avec un maximum de personnes (le record à battre du local étant 60 personnes en même temps).\n\n\n \n\n\n-des crêpes à volonté:\n\n\nEn salé: jambon/fromage et chèvre/miel.\n\n\nEn sucré: Confitures de fraise et d’abricot\, Sucre\, Nutella\, Pate à Speculoos.\n\n\n \n\n\nLe prix de participation à la soirée est de 5€ pour les adhérents.\n\n\nLe prix d’une adhésion à la journée/soirée étant de 2€.\n\n\n \n\n\nLe lien vers notre évènement facebook et vers le topic de notre forum dédié.\n\n\n \n\n\nAlors léchez vous les babines d’avance et n’hésitez pas à passer à notre local pour participer à cette nuit spéciale!
URL:https://qualif.edil33.fr/event/grande-soiree-crepes-et-loup-garou-2/
LOCATION:EDIL\, 5 place sainte eulalie\, Bordeaux\, 33000\, France
CATEGORIES:Evenement Interne (de l'EDIL)
END:VEVENT
BEGIN:VEVENT
DTSTART;TZID=Europe/Paris:20170117T190000
DTEND;TZID=Europe/Paris:20170117T235500
DTSTAMP:20260423T172227
CREATED:20170111T094239Z
LAST-MODIFIED:20170608T171433Z
UID:1535-1484679600-1484697300@qualif.edil33.fr
SUMMARY:Soirée Draft Dice Masters Deadpool
DESCRIPTION:Vous aimez les dés ou vous êtes un joueur confirmé de Dice Masters? RDV le 17 Janvier à 19h! Cette soirée est pour vous !\nVous allez pouvoir découvrir l’univers des dice-building et drafter autours de la prochaine extension « Deadpool » du jeu! \n10 PERSONNES MAXIMUM POUR LE DRAFT!! \nPetite description du jeu: \n« Dans ce jeu\, chaque joueur réunit une équipe de super-héros\, où chaque héros est représenté par un dé spécial. Chaque équipe doit être composée de 15 dés. Chaque héros dispose également d’une ou plusieurs cartes de personnage\, qui détaillent les capacités spéciales associées à chaque symbole de leur dé. Différentes versions de ces cartes seront disponibles dans les boosters\, permettant une plus grande personnalisation de votre équipe. \nLes dés permettent de collecter de l’énergie\, recruter de nouveaux héros\, et bien sûr à attaquer l’équipe adverse. En outre\, chaque joueur apporte au jeu deux cartes d’action qui sont placées au centre de la table\, ces cartes peuvent être achetées. » \nIl y aura possibilité d’échanger des cartes et/ou des dés pour DICE MASTER 😉 \nLa soirée s’adresse aussi bien aux novices qu’aux joueurs confirmés. 😉 \nUn PAF de 10€ sera demandé pour les boosters. \nLa soirée est gratuite pour les adhérents.\nLe prix d’une adhésion à la journée/soirée pour les non adhérents est de 2€.
URL:https://qualif.edil33.fr/event/soiree-draft-dice-masters/
LOCATION:EDIL\, 5 place sainte eulalie\, Bordeaux\, 33000\, France
CATEGORIES:Evenement Interne (de l'EDIL)
END:VEVENT
BEGIN:VEVENT
DTSTART;TZID=Europe/Paris:20170121T190000
DTEND;TZID=Europe/Paris:20170121T235500
DTSTAMP:20260423T172227
CREATED:20170111T094453Z
LAST-MODIFIED:20170608T171425Z
UID:1539-1485025200-1485042900@qualif.edil33.fr
SUMMARY:Soirée Semi Réel Vampire Camarilla
DESCRIPTION:
URL:https://qualif.edil33.fr/event/soiree-semi-reel-vampire-camarilla-9/
LOCATION:Centre d’Animation Grand Parc\, 36 Rue Robert Schuman\, BORDEAUX\, 33000\, France
CATEGORIES:Evenement Interne (de l'EDIL),Semi-Réel
END:VEVENT
END:VCALENDAR