BEGIN:VCALENDAR
VERSION:2.0
PRODID:-//Association de jeux EDIL - ECPv6.11.2.1//NONSGML v1.0//EN
CALSCALE:GREGORIAN
METHOD:PUBLISH
X-ORIGINAL-URL:https://qualif.edil33.fr
X-WR-CALDESC:Évènements pour Association de jeux EDIL
REFRESH-INTERVAL;VALUE=DURATION:PT1H
X-Robots-Tag:noindex
X-PUBLISHED-TTL:PT1H
BEGIN:VTIMEZONE
TZID:Europe/Paris
BEGIN:DAYLIGHT
TZOFFSETFROM:+0100
TZOFFSETTO:+0200
TZNAME:CEST
DTSTART:20170326T010000
END:DAYLIGHT
BEGIN:STANDARD
TZOFFSETFROM:+0200
TZOFFSETTO:+0100
TZNAME:CET
DTSTART:20171029T010000
END:STANDARD
END:VTIMEZONE
BEGIN:VEVENT
DTSTART;TZID=Europe/Paris:20170211T190000
DTEND;TZID=Europe/Paris:20170211T235500
DTSTAMP:20260423T154117
CREATED:20170120T080021Z
LAST-MODIFIED:20170608T171421Z
UID:1542-1486839600-1486857300@qualif.edil33.fr
SUMMARY:Grand Tournoi Smash Up
DESCRIPTION:Combinez deux factions et mettez-vous gentiment dessus pour conquérir des lieux riches en points de victoire! Que vous incarniez les Pirates-Zombies ou les Princesses-Cultistes ou tout autre combinaisons de peuple\, essayez de devenir le champion incontesté de l’EDIL de « Smash Up »! \nCe tournoi se déroulera au sein du local de l’EDIL\, le samedi 11 Février\, à partir de 19h. \nPAF de la soirée pour les adhérents: 1€.\nAdhésion à l’association pour les non-adhérents: 2€ (ce qui revient à une soirée à 3€ seulement pour les non-adhérents). \nLe grand gagnant de ce tournoi pourra profiter\, en lot\, d’une boite de la dernière extension de Smash Up nommé « Vous l’aurez voulu! ». \nNous proposerons des parties d’initiation à partir de 18h pour ceux qui voudraient découvrir le jeu.\nLe lien vers l’event facebook\nLe lien vers notre forum dédié  \nVenez nombreux ! 🙂
URL:https://qualif.edil33.fr/event/grand-tournoi-smash-up/
LOCATION:EDIL\, 5 place sainte eulalie\, Bordeaux\, 33000\, France
CATEGORIES:Evenement Interne (de l'EDIL)
END:VEVENT
BEGIN:VEVENT
DTSTART;TZID=Europe/Paris:20170225T190000
DTEND;TZID=Europe/Paris:20170226T020000
DTSTAMP:20260423T154117
CREATED:20170128T103807Z
LAST-MODIFIED:20170608T171417Z
UID:1570-1488049200-1488074400@qualif.edil33.fr
SUMMARY:Soirée Semi Réel Vampire Camarilla
DESCRIPTION:Le lien vers l’event facebook. \n 
URL:https://qualif.edil33.fr/event/soiree-semi-reel-vampire-camarilla-10/
LOCATION:Centre d’Animation Grand Parc\, 36 Rue Robert Schuman\, BORDEAUX\, 33000\, France
CATEGORIES:Semi-Réel
END:VEVENT
END:VCALENDAR