BEGIN:VCALENDAR
VERSION:2.0
PRODID:-//Association de jeux EDIL - ECPv6.11.2.1//NONSGML v1.0//EN
CALSCALE:GREGORIAN
METHOD:PUBLISH
X-WR-CALNAME:Association de jeux EDIL
X-ORIGINAL-URL:https://qualif.edil33.fr
X-WR-CALDESC:Évènements pour Association de jeux EDIL
REFRESH-INTERVAL;VALUE=DURATION:PT1H
X-Robots-Tag:noindex
X-PUBLISHED-TTL:PT1H
BEGIN:VTIMEZONE
TZID:Europe/Paris
BEGIN:DAYLIGHT
TZOFFSETFROM:+0100
TZOFFSETTO:+0200
TZNAME:CEST
DTSTART:20160327T010000
END:DAYLIGHT
BEGIN:STANDARD
TZOFFSETFROM:+0200
TZOFFSETTO:+0100
TZNAME:CET
DTSTART:20161030T010000
END:STANDARD
END:VTIMEZONE
BEGIN:VEVENT
DTSTART;TZID=Europe/Paris:20160109T190000
DTEND;TZID=Europe/Paris:20160109T230000
DTSTAMP:20260423T084651
CREATED:20151223T114444Z
LAST-MODIFIED:20170608T170027Z
UID:1283-1452366000-1452380400@qualif.edil33.fr
SUMMARY:Nouvel An de l'EDIL
DESCRIPTION:« Bonne année! Bonne santé et tous nos meilleurs voeux! » Voila ce que l’on vous souhaite pour débuter la nouvelle année 2016 dans le joie et la bonne humeur! 🙂 \nOn vous invite aussi à la première soirée de l’année 2016 pour l’EDIL. Celle ci se déroulera non pas au local de l’association mais au Centre d’Animation du Grand Parc\, 36 Rue Robert Schuman. C’est juste à côté de l’arrêt du Tram C « Grand Parc » et de l’arrêt de la Liane 15 « Place de l’Europe ». \nAu programme de cette soirée sur le thème de l’ASIE et des MANGAS:\n– des parties de JDR\n– des parties de jeux de plateau\n– des jeux vidéos \nDe plus il y aura un REPAS SPECIAL NOUVEL AN sur le thème de l’ASIE! ^^ Ce repas sera composé d’un BUFFET fait maison comprenant : \n7 plats/desserts froids:\n-Tamagoyaki\n-makis de crabe sauce aigre douce\n-rouleau de printemps (crevettes)\n-gateau eponge\n-biscuits au sésame\n-cheese cake au thé vert\n-mochi ice cream \nEt 7 plats chaud:\n-ramen au porc\n-porc au caramel\n-poulet sauce aigre douce\n-boulette de poulet\n-Gyudon Japonais(boeuf)\n-bœuf a la sauce piquante\n-raviolis au chou chinois et bouillon citronné \nLe prix pour se restaurer à ce buffet étant de 11€ par personne. Pour les membres qui ne sont pas amateurs mais qui veulent quand même venir profiter de cette soirée la participation est à 2€. \nPour les non membres le prix d’une adhésion à la journée/soirée est de 2€. Donc la soirée sans repas vous revient à 4€ et à 13€ si vous vous inscrivez au repas. \nPour finir n’hésitez pas à vous parrer de vos plus beaux costumes dans le thème (costume de samourai\, shuriken\, éventails ornementaux\, etc…). \nSi vous voulez apporter vos propres jeux dans le thème ça serait super cool! \nOn vous attend nombreux et n’oubliez pas de vous inscrire à l’avance pour les cuistots car cela leur feraient très plaisir! 🙂
URL:https://qualif.edil33.fr/event/nouvel-an-de-ledil/
LOCATION:Centre d’Animation Grand Parc\, 36 Rue Robert Schuman\, BORDEAUX\, 33000\, France
CATEGORIES:Evenement Interne (de l'EDIL)
END:VEVENT
END:VCALENDAR