BEGIN:VCALENDAR
VERSION:2.0
PRODID:-//Association de jeux EDIL - ECPv6.11.2.1//NONSGML v1.0//EN
CALSCALE:GREGORIAN
METHOD:PUBLISH
X-ORIGINAL-URL:https://qualif.edil33.fr
X-WR-CALDESC:Évènements pour Association de jeux EDIL
REFRESH-INTERVAL;VALUE=DURATION:PT1H
X-Robots-Tag:noindex
X-PUBLISHED-TTL:PT1H
BEGIN:VTIMEZONE
TZID:Europe/Paris
BEGIN:DAYLIGHT
TZOFFSETFROM:+0100
TZOFFSETTO:+0200
TZNAME:CEST
DTSTART:20150329T010000
END:DAYLIGHT
BEGIN:STANDARD
TZOFFSETFROM:+0200
TZOFFSETTO:+0100
TZNAME:CET
DTSTART:20151025T010000
END:STANDARD
END:VTIMEZONE
BEGIN:VEVENT
DTSTART;TZID=Europe/Paris:20150815T190000
DTEND;TZID=Europe/Paris:20150815T235500
DTSTAMP:20260422T052211
CREATED:20150228T094859Z
LAST-MODIFIED:20170608T165816Z
UID:984-1439665200-1439682900@qualif.edil33.fr
SUMMARY:Soirée Abyssale
DESCRIPTION:Samedi 15 Août à 19h\, grande soirée de Tournoi Abyss au local de l’association! \nMais qu’est-ce qu’Abyss?Le pouvoir d’Abyss est de nouveau vacant. Votre heure est venue de mettre la main sur le trône et sur ses privilèges. Usez de toute votre ruse pour recevoir ou acheter des voix au Conseil\, recrutez les seigneurs les plus influents et abusez de leurs pouvoirs pour prendre le contrôle sur les territoires les plus stratégique. C’est un jeu très rapide à expliquer et à comprendre\, pour 4 joueurs maximum et les parties durent environ 40 minutes à 1 heure. \nNous aurons 4 à 5 boîtes du jeux donc on pourra jouer à 20 en même temps et faire des roulements entre les parties pour pouvoirs faire un tournoi digne de ce nom. On demande 30 inscrit grand maximum sinon cela risque d’être vite fait le bazar. \nD’ailleurs il y aura des lots à gagner grâce à notre partenaire BOMBYX (l’éditeur du jeu): des T-Shirts Abyss\, des cartes exclusives et des posters. \nCe sera également l’occasion de tester le prototype de la prochaine extension du jeu\, qui sortira en fin d’année 2015: « Black Pearl ». \nCe sera un événement très convivial et vous pourrez en plus manger de délicieuses crêpes maisons salées et sucrées. \nAu menu:\n-Jambon/Fromage\n-Chêvre/Miel\n-Nutella\n-Chantilly\n-Sucre\n-Miel\n-Spéculoos\n-Confiture de Fraise\n-Confiture d’Abricot. \nAlors n’hésitez pas à venir participer à ce tournoi! \nLe prix de participation à la soirée est de 5€ pour les adhérents.\nLe prix d’une adhésion à la journée/soirée (pour les non adhérents) étant de 2€ ce qui revient à 7€ la soirée. \nPour les personnes voulant découvrir le jeu avant cet événement nous organisons des parties de découvertes et d’initiations le même jour à partir de 17h. \nL’évènement facebook du tournoi ici même.
URL:https://qualif.edil33.fr/event/soiree-abyssale/
LOCATION:EDIL\, 5 place sainte eulalie\, Bordeaux\, 33000\, France
CATEGORIES:Evenement Interne (de l'EDIL)
END:VEVENT
END:VCALENDAR