BEGIN:VCALENDAR
VERSION:2.0
PRODID:-//Association de jeux EDIL - ECPv6.11.2.1//NONSGML v1.0//EN
CALSCALE:GREGORIAN
METHOD:PUBLISH
X-ORIGINAL-URL:https://qualif.edil33.fr
X-WR-CALDESC:Évènements pour Association de jeux EDIL
REFRESH-INTERVAL;VALUE=DURATION:PT1H
X-Robots-Tag:noindex
X-PUBLISHED-TTL:PT1H
BEGIN:VTIMEZONE
TZID:Europe/Paris
BEGIN:DAYLIGHT
TZOFFSETFROM:+0100
TZOFFSETTO:+0200
TZNAME:CEST
DTSTART:20160327T010000
END:DAYLIGHT
BEGIN:STANDARD
TZOFFSETFROM:+0200
TZOFFSETTO:+0100
TZNAME:CET
DTSTART:20161030T010000
END:STANDARD
END:VTIMEZONE
BEGIN:VEVENT
DTSTART;TZID=Europe/Paris:20160117T140000
DTEND;TZID=Europe/Paris:20160117T230000
DTSTAMP:20260421T042356
CREATED:20151223T114229Z
LAST-MODIFIED:20170608T170013Z
UID:1282-1453039200-1453071600@qualif.edil33.fr
SUMMARY:Atelier Pixel art de Janvier
DESCRIPTION:Salut à tous\,\nLes ateliers Pixel Art à l’EDIL reprennent : Au programme initiation\, perfectionnement\, échange de techniques et projets collectifs. \nNous mettrons à disposition du matos pour les néophytes. \nTarif : 2€ / grille de 32*32 perles pour dépanner les nouveaux sans matériel. On mettra en place des commandes groupées pour du matos au meilleur prix à la fin de l’atelier pour les interessés. \nPas de PAF pour les possesseurs de perles. Entrée gratuite pour les nouveaux au local de l’EDIL ( 3 essais gratuits) Evenement public. \nPlus d’info sur l’assos à http://www.edil33.fr/ \nUn petit sondage pour mieux cerner vos attentes : http://goo.gl/forms/iO6uwUO7Ao \nBuvette et snack sur place. \nA DIMANCHE LES FANAS DU PIXEL 😉
URL:https://qualif.edil33.fr/event/atelier-pixel-art-de-janvier/
LOCATION:EDIL\, 5 place sainte eulalie\, Bordeaux\, 33000\, France
CATEGORIES:Evenement Interne (de l'EDIL)
END:VEVENT
BEGIN:VEVENT
DTSTART;TZID=Europe/Paris:20160119T080000
DTEND;TZID=Europe/Paris:20160119T170000
DTSTAMP:20260421T042356
CREATED:20160119T101647Z
LAST-MODIFIED:20170608T170006Z
UID:1311-1453190400-1453222800@qualif.edil33.fr
SUMMARY:Atelier Pixel Art
DESCRIPTION:Salut à tous\,\nLes ateliers Pixel Art à l’EDIL reprennent : Au programme initiation\, perfectionnement\, échange de techniques et projets collectifs. \nNous mettrons à disposition du matos pour les néophytes. \nTarif : 2€ / grille de 32*32 perles pour dépanner les nouveaux sans matériel. On mettra en place des commandes groupées pour du matos au meilleur prix à la fin de l’atelier pour les interessés. \nPas de PAF pour les possesseurs de perles. Entrée gratuite pour les nouveaux au local de l’EDIL ( 3 essais gratuits) Evenement public. \nPlus d’info sur l’assos à http://www.edil33.fr/ \nUn petit sondage pour mieux cerner vos attentes : http://goo.gl/forms/iO6uwUO7Ao \nBuvette et snack sur place. \nA DIMANCHE LES FANAS DU PIXEL 😉
URL:https://qualif.edil33.fr/event/atelier-pixel-art/
LOCATION:EDIL\, 5 place sainte eulalie\, Bordeaux\, 33000\, France
END:VEVENT
END:VCALENDAR