BEGIN:VCALENDAR
VERSION:2.0
PRODID:-//Association de jeux EDIL - ECPv6.11.2.1//NONSGML v1.0//EN
CALSCALE:GREGORIAN
METHOD:PUBLISH
X-ORIGINAL-URL:https://qualif.edil33.fr
X-WR-CALDESC:Évènements pour Association de jeux EDIL
REFRESH-INTERVAL;VALUE=DURATION:PT1H
X-Robots-Tag:noindex
X-PUBLISHED-TTL:PT1H
BEGIN:VTIMEZONE
TZID:Europe/Paris
BEGIN:DAYLIGHT
TZOFFSETFROM:+0100
TZOFFSETTO:+0200
TZNAME:CEST
DTSTART:20150329T010000
END:DAYLIGHT
BEGIN:STANDARD
TZOFFSETFROM:+0200
TZOFFSETTO:+0100
TZNAME:CET
DTSTART:20151025T010000
END:STANDARD
END:VTIMEZONE
BEGIN:VEVENT
DTSTART;TZID=Europe/Paris:20151003T180000
DTEND;TZID=Europe/Paris:20151003T230000
DTSTAMP:20260424T004341
CREATED:20150929T074920Z
LAST-MODIFIED:20170608T165753Z
UID:1225-1443895200-1443913200@qualif.edil33.fr
SUMMARY:Tournoi et découverte de Conquest
DESCRIPTION:Vous aimer les jeux de cartes évolutifs et vous aimer l’univers de Warhammer 40 000? \nAlors ce tournoi est fait pour vous. Rendez vous le samedi 3 Septembre pour découvrir ce jeu et pour participer à notre tournoi maison. \nAlors si vous voulez en savoir plus sur le futur sombre et apocalyptique du 41ème millénaire n’hésitez pas à passer à notre local dès 18h. \n Tournoi limité à 8 JOUEURS. Possibilité de faire des initiations. \nL’adhésion à l’association à la journée est seulement à 2€. Alors profitez en. \nLe lien vers le topic dédié sur notre forum: http://edil33.fr/forum/viewtopic.php?f=15&t=262&p=981#p981 \nLe lien vers l’évenement facebook: https://www.facebook.com/events/1153033521378352/
URL:https://qualif.edil33.fr/event/tournoi-et-decouverte-de-conquest/
LOCATION:EDIL\, 5 place sainte eulalie\, Bordeaux\, 33000\, France
CATEGORIES:Evenement Interne (de l'EDIL)
END:VEVENT
BEGIN:VEVENT
DTSTART;TZID=Europe/Paris:20151010T190000
DTEND;TZID=Europe/Paris:20151010T235500
DTSTAMP:20260424T004341
CREATED:20150929T075340Z
LAST-MODIFIED:20170608T170139Z
UID:1226-1444503600-1444521300@qualif.edil33.fr
SUMMARY:Grande soirée Crêpes et Loup Garou
DESCRIPTION:« Tout se passe dans un village d’apparence normale\, le petit hameau de Thiercelieux\, mais chaque nuit des villageois se transforment en loups-garous pour dévorer d’autres villageois. » \nAu programme: \n-une partie de Loup Garou géante avec un maximum de personnes (le record à battre du local étant 60 personnes en même temps). \n-des crêpes à volonté:\nEn salé: jambon/fromage et chèvre/miel.\nEn sucré: Confitures de fraise et d’abricot\, Sucre\, Nutella\, Pate à Speculoos. \nLe prix de participation à la soirée est de 5€ pour les adhérents.\n Le prix d’une adhésion à la journée/soirée étant de 2€.\n\n Le lien vers le topic de notre forum dédié:\nhttp://edil33.fr/forum/viewtopic.php?f=15&t=263 \nLe lien facebook:\nhttps://www.facebook.com/1436566163239846/photos/gm.905196469570852/1702207843342342/?type=3&theater \nAlors léchez vous les babines d’avance et n’hésitez pas à passer à notre local pour participer à cette nuit spéciale!
URL:https://qualif.edil33.fr/event/grande-soiree-crepes-et-loup-garou/
LOCATION:EDIL\, 5 place sainte eulalie\, Bordeaux\, 33000\, France
CATEGORIES:Evenement Interne (de l'EDIL)
END:VEVENT
BEGIN:VEVENT
DTSTART;TZID=Europe/Paris:20151017T190000
DTEND;TZID=Europe/Paris:20151017T235500
DTSTAMP:20260424T004341
CREATED:20150930T073712Z
LAST-MODIFIED:20170608T170133Z
UID:1231-1445108400-1445126100@qualif.edil33.fr
SUMMARY:Vampire Camarilla Nationale
DESCRIPTION:Le semi réel Vampire Camarilla de l’EDIL reprend le 17 octobre prochain. Vous êtes les bienvenus pour vous plonger dans le monde des ténèbres aquitains. \nLa loi martiale instaurée tout l’été en Aquitaine suite à l’assassinat du sénéchal et du fléau d’Aquitaine va être levée. Répondrez vous à l’appel du Prince d’Aquitaine pour lutter contre l’ennemi espagnol qui frappe à notre frontière ? \nEn ces temps troublés\, l’Aquitaine est une terre d’opportunités pour tout jeune vampire souhaitant se distinguer. Serez vous de ceux là ?
URL:https://qualif.edil33.fr/event/vampire-camarilla-nationale/
LOCATION:Centre d’Animation Grand Parc\, 36 Rue Robert Schuman\, BORDEAUX\, 33000\, France
CATEGORIES:Semi-Réel
END:VEVENT
BEGIN:VEVENT
DTSTART;TZID=Europe/Paris:20151031T190000
DTEND;TZID=Europe/Paris:20151031T235500
DTSTAMP:20260424T004341
CREATED:20150929T091152Z
LAST-MODIFIED:20170608T170127Z
UID:1227-1446318000-1446335700@qualif.edil33.fr
SUMMARY:Soirée Halloween
DESCRIPTION:« La Fête des morts va avoir lieu! Et certains nécromants veulent que les morts envahissent le centre ville de Bordeaux. \nHeureusement il y a un endroit où vous pourrez tenter de comprendre et contrer ce problème: l’EDIL\, situé au 5 place Ste Eulalie à Bordeaux. \nEn effet les aventuriers et occultistes de l’EDIL vous invite à venir le Samedi 31 Octobre\, le soir de l’apogée d’Halloween\, à 19h pour libérer les esprits malfaisants rodant dans la ville. » \nPour cette soirée nous vous invitons à venir jouer à des jeux dans le thème de l’horreur et des sorciers. \nAu programme: \n– des parties de JDR\n– des parties de jeux de plateau: Horreur à Arkham\, Ghost Stories\, Zombicide et d’autres\n– des parties de jeux de cartes: l’Appel de Cthulhu et d’autres…\n\nLe prix de participation à la soirée est à 5€ pour les adhérents comprenant un repas spécial Halloween (en cours d’élaboration).\nLe prix d’une adhésion à la journée/soirée (pour les non adhérents) étant de 2€ ce qui revient à à 7€ la soirée pour les non adhérent. \nPour finir n’hésitez pas à vous parrer de vos plus beaux costumes dans le thème (gri-gri\, maquillage de squelette\, habit d’enquêteur et de bohémienne…).
URL:https://qualif.edil33.fr/event/soiree-halloween/
LOCATION:EDIL\, 5 place sainte eulalie\, Bordeaux\, 33000\, France
CATEGORIES:Evenement Interne (de l'EDIL)
END:VEVENT
END:VCALENDAR