BEGIN:VCALENDAR
VERSION:2.0
PRODID:-//Association de jeux EDIL - ECPv6.11.2.1//NONSGML v1.0//EN
CALSCALE:GREGORIAN
METHOD:PUBLISH
X-WR-CALNAME:Association de jeux EDIL
X-ORIGINAL-URL:https://qualif.edil33.fr
X-WR-CALDESC:Évènements pour Association de jeux EDIL
REFRESH-INTERVAL;VALUE=DURATION:PT1H
X-Robots-Tag:noindex
X-PUBLISHED-TTL:PT1H
BEGIN:VTIMEZONE
TZID:Europe/Paris
BEGIN:DAYLIGHT
TZOFFSETFROM:+0100
TZOFFSETTO:+0200
TZNAME:CEST
DTSTART:20170326T010000
END:DAYLIGHT
BEGIN:STANDARD
TZOFFSETFROM:+0200
TZOFFSETTO:+0100
TZNAME:CET
DTSTART:20171029T010000
END:STANDARD
END:VTIMEZONE
BEGIN:VEVENT
DTSTART;TZID=Europe/Paris:20170325T190000
DTEND;TZID=Europe/Paris:20170325T235500
DTSTAMP:20260420T094056
CREATED:20170313T105428Z
LAST-MODIFIED:20170608T171403Z
UID:1598-1490468400-1490486100@qualif.edil33.fr
SUMMARY:Soirée Jeux de -1H!
DESCRIPTION:C’est le printemps!! Le soleil revient et pour cela on est sur que vous avez envie de jouer.\nL’EDIL vous invite à venir le samedi 25 Mars pour cela. \nPour cette soirée nous vous invitons à venir jouer à des jeux durant moins d’une heuyre. Vous pourrez ainsi découvrir des jeux stratégiques\, funs et rapides pour pouvoir enchainer les parties et tester le maximum de jeux que vous souhaitez. 🙂 \nAu programme:\n-Smash up\n-Menteur menteur\n-Ghost stories\n-Isle of sky\n-Splendor\n-Room 25\n-Shadow hunder\n-Code name\n-Shimobi wat-aath\n-7 wonder duel\n-30 carat\n-King of tokyo\n-Raptor\n-Tout jeux que vous voulez apportez ayant une explication et un déroulement rapide. \nPour les adhérents la soirée est gratuite.\n Le prix d’une adhésion à la journée/soirée étant de 2€ pour les non adhérent.
URL:https://qualif.edil33.fr/event/soiree-jeux-de-1h/
LOCATION:EDIL\, 5 place sainte eulalie\, Bordeaux\, 33000\, France
CATEGORIES:Evenement Interne (de l'EDIL)
END:VEVENT
END:VCALENDAR