BEGIN:VCALENDAR
VERSION:2.0
PRODID:-//Association de jeux EDIL - ECPv6.11.2.1//NONSGML v1.0//EN
CALSCALE:GREGORIAN
METHOD:PUBLISH
X-WR-CALNAME:Association de jeux EDIL
X-ORIGINAL-URL:https://qualif.edil33.fr
X-WR-CALDESC:Évènements pour Association de jeux EDIL
REFRESH-INTERVAL;VALUE=DURATION:PT1H
X-Robots-Tag:noindex
X-PUBLISHED-TTL:PT1H
BEGIN:VTIMEZONE
TZID:Europe/Paris
BEGIN:DAYLIGHT
TZOFFSETFROM:+0100
TZOFFSETTO:+0200
TZNAME:CEST
DTSTART:20170326T010000
END:DAYLIGHT
BEGIN:STANDARD
TZOFFSETFROM:+0200
TZOFFSETTO:+0100
TZNAME:CET
DTSTART:20171029T010000
END:STANDARD
END:VTIMEZONE
BEGIN:VEVENT
DTSTART;TZID=Europe/Paris:20170617T190000
DTEND;TZID=Europe/Paris:20170617T235500
DTSTAMP:20260420T211459
CREATED:20170608T162423Z
LAST-MODIFIED:20170608T164432Z
UID:1634-1497726000-1497743700@qualif.edil33.fr
SUMMARY:Soirée Jeux De Plateau
DESCRIPTION:Ca fait longtemps qu’on en avait pas fait une non ?\nCe jour-ci le thème sera les cartes . \nEn gros des Jeux comme :\nAscension \, Seven Wonders \, Race for the galaxy \, Splendor sont au rendez-vous !\nMais vous pouvez évidemment faire l’hérétique (ca m’arrive souvent) et faire tout autres Jeux 🙂 \nSi vous voulez dire votre présence voici le lien de l’event.\nAdhesion à la soirée à 2€ pour les non adhérents.
URL:https://qualif.edil33.fr/event/soiree-jeux-de-plateau/
LOCATION:EDIL\, 5 place sainte eulalie\, Bordeaux\, 33000\, France
CATEGORIES:Evenement Interne (de l'EDIL)
END:VEVENT
END:VCALENDAR