BEGIN:VCALENDAR
VERSION:2.0
PRODID:-//Association de jeux EDIL - ECPv6.11.2.1//NONSGML v1.0//EN
CALSCALE:GREGORIAN
METHOD:PUBLISH
X-ORIGINAL-URL:https://qualif.edil33.fr
X-WR-CALDESC:Évènements pour Association de jeux EDIL
REFRESH-INTERVAL;VALUE=DURATION:PT1H
X-Robots-Tag:noindex
X-PUBLISHED-TTL:PT1H
BEGIN:VTIMEZONE
TZID:Europe/Paris
BEGIN:DAYLIGHT
TZOFFSETFROM:+0100
TZOFFSETTO:+0200
TZNAME:CEST
DTSTART:20150329T010000
END:DAYLIGHT
BEGIN:STANDARD
TZOFFSETFROM:+0200
TZOFFSETTO:+0100
TZNAME:CET
DTSTART:20151025T010000
END:STANDARD
END:VTIMEZONE
BEGIN:VEVENT
DTSTART;TZID=Europe/Paris:20151128T190000
DTEND;TZID=Europe/Paris:20151128T235500
DTSTAMP:20260423T111735
CREATED:20151010T064537Z
LAST-MODIFIED:20170608T170106Z
UID:1248-1448737200-1448754900@qualif.edil33.fr
SUMMARY:Soirée SPORZ + Crêpes
DESCRIPTION:Pour la fin du mois de novembre\, l’EDIL organise une soirée SPORZ et Crèpes. \nVous aimez le Loup-Garou de Thiercelieux? Alors vous aimerez SPORZ! Qu’est ce que SPORZ?\n“La Terre a été ravagée par une terrible épidémie. Vous faites partie de la poignée de survivants qui s’enfuit à bord d’un vaisseau spatial pour reconstruire l’humanité sur une nouvelle planète. Mais soudain c’est l’alerte\, les analyses sont formelles : quelqu’un à bord est contaminé\, c’est un mutant. Action !”. \nSporz est une enquête grandeur nature très rapide à mettre en place. Les joueurs coopèrent pour trouver qui sont les mutants. Attention cependant : chacun est susceptible de changer secrètement de camp et de trahir ses anciens coéquipiers. Joueur débutant ou chevronné\, peu importe. La victoire de l’équipage passe avant tout par la communication\, la confiance et une bonne dose de bluff ! \nLa soirée est ouverte à tous. Le local sera ouvert dès 17h donc n’hésitez pas à passer avant le début de l’évènement. \nAu menu:\n-Crêpes salées: Jambon/Fromage\n-Crêpes sucrées: Nutella\, Sucre\, Spéculoos\, Miel\, Confiture… \nLe prix de la soirée + crêpes à volonté: 5 euros. \nPour tous renseignements complémentaires: \nedil33.fr/forum/\nsporz.fr
URL:https://qualif.edil33.fr/event/soiree-sporz-crepes/
LOCATION:EDIL\, 5 place sainte eulalie\, Bordeaux\, 33000\, France
CATEGORIES:Evenement Interne (de l'EDIL)
END:VEVENT
END:VCALENDAR