BEGIN:VCALENDAR
VERSION:2.0
PRODID:-//Association de jeux EDIL - ECPv6.11.2.1//NONSGML v1.0//EN
CALSCALE:GREGORIAN
METHOD:PUBLISH
X-WR-CALNAME:Association de jeux EDIL
X-ORIGINAL-URL:https://qualif.edil33.fr
X-WR-CALDESC:Évènements pour Association de jeux EDIL
REFRESH-INTERVAL;VALUE=DURATION:PT1H
X-Robots-Tag:noindex
X-PUBLISHED-TTL:PT1H
BEGIN:VTIMEZONE
TZID:Europe/Paris
BEGIN:DAYLIGHT
TZOFFSETFROM:+0100
TZOFFSETTO:+0200
TZNAME:CEST
DTSTART:20150329T010000
END:DAYLIGHT
BEGIN:STANDARD
TZOFFSETFROM:+0200
TZOFFSETTO:+0100
TZNAME:CET
DTSTART:20151025T010000
END:STANDARD
END:VTIMEZONE
BEGIN:VEVENT
DTSTART;TZID=Europe/Paris:20151110T190000
DTEND;TZID=Europe/Paris:20151110T235500
DTSTAMP:20260423T114829
CREATED:20150930T073113Z
LAST-MODIFIED:20170608T170123Z
UID:1230-1447182000-1447199700@qualif.edil33.fr
SUMMARY:Soirée Jeux "La Der des Ders"
DESCRIPTION:  \n« Le 11 Novembre aura lieu la Commémoration annuel de la fin de la 1er Guerre Mondiale. Ce sera l’occasion de se replonger dans cette époque sombre qui à marquer l’histoire mondiale. \nPour cette soirée nous vous invitons à venir jouer à des jeux dans le thème de la « Der des Ders ».\n\nAu programme:\n\n-des parties de JDR:\nSkull & Bones par Emilien \n– des parties de jeux de plateau et de cartes: Les Poilus\, Corto\, Wings of War\, Diplomacy\, … \n-des parties de jeux de figurines: Dystopian Wars… \nLe prix de participation à la soirée est de 5€ pour les adhérents.\nLe prix d’une adhésion à la journée/soirée (pour les non adhérents) étant de 2€ ce qui revient à à 7€ la soirée.\n\nPour finir n’hésitez pas à vous parrer de vos plus beaux costumes ou costumes les plus crasseux dans le thème (uniforme d’époque\, costumes des années folles\, chapeau haut de forme\, ect…).
URL:https://qualif.edil33.fr/event/soiree-commemoration-de-la-grande-guerre/
LOCATION:EDIL\, 5 place sainte eulalie\, Bordeaux\, 33000\, France
CATEGORIES:Evenement Interne (de l'EDIL)
END:VEVENT
END:VCALENDAR