BEGIN:VCALENDAR
VERSION:2.0
PRODID:-//Association de jeux EDIL - ECPv6.11.2.1//NONSGML v1.0//EN
CALSCALE:GREGORIAN
METHOD:PUBLISH
X-ORIGINAL-URL:https://qualif.edil33.fr
X-WR-CALDESC:Évènements pour Association de jeux EDIL
REFRESH-INTERVAL;VALUE=DURATION:PT1H
X-Robots-Tag:noindex
X-PUBLISHED-TTL:PT1H
BEGIN:VTIMEZONE
TZID:Europe/Paris
BEGIN:DAYLIGHT
TZOFFSETFROM:+0100
TZOFFSETTO:+0200
TZNAME:CEST
DTSTART:20140330T010000
END:DAYLIGHT
BEGIN:STANDARD
TZOFFSETFROM:+0200
TZOFFSETTO:+0100
TZNAME:CET
DTSTART:20141026T010000
END:STANDARD
END:VTIMEZONE
BEGIN:VEVENT
DTSTART;TZID=Europe/Paris:20140321T190000
DTEND;TZID=Europe/Paris:20140321T190000
DTSTAMP:20260424T123245
CREATED:20140307T131227Z
LAST-MODIFIED:20140307T131721Z
UID:553-1395428400-1395428400@qualif.edil33.fr
SUMMARY:Soirée Zombicide
DESCRIPTION:« Endossez le rôle de survivants aux capacités uniques\, maîtrisez leurs compétences et venez à bout de hordes de zombies sanguinaires et décérébrés grâce à la force du travail d’équipe ! » \nOui vous lisez bien! Nous organisons une soirée Zombicide au local de l’EDIL. \nLe VENDREDI 21 MARS A 19h \nAu programme: \n– des parties de Zombicide à n’en plus voir le bout. Nous aurons 3 jeux de Zombicide et nous pourrons sans aucun doute vous faire tester des suppléments en exclusivité comme « Toxic City Mall ». \n– des crêpes à volonté:\nEn salé: jambon/fromage et chèvre/miel.\nEn sucré: Confitures de fraise et d’abricot\, Sucre\, Nutella\, Pate à Speculoos. \nLe prix de participation à la soirée est de 5€ pour les adhérents.\nLe prix d’une adhésion à la journée/soirée étant de 2€.\nLe topic de l’event et l’événement Facebook.\nAlors à vos fusils à pompes et à vos cocktails molotov car les hordes zombies arrivent!
URL:https://qualif.edil33.fr/event/soiree-zombicide/
LOCATION:EDIL\, 5 place sainte eulalie\, Bordeaux\, 33000\, France
CATEGORIES:Evenement Interne (de l'EDIL)
END:VEVENT
END:VCALENDAR