BEGIN:VCALENDAR
VERSION:2.0
PRODID:-//Association de jeux EDIL - ECPv6.11.2.1//NONSGML v1.0//EN
CALSCALE:GREGORIAN
METHOD:PUBLISH
X-WR-CALNAME:Association de jeux EDIL
X-ORIGINAL-URL:https://qualif.edil33.fr
X-WR-CALDESC:Évènements pour Association de jeux EDIL
REFRESH-INTERVAL;VALUE=DURATION:PT1H
X-Robots-Tag:noindex
X-PUBLISHED-TTL:PT1H
BEGIN:VTIMEZONE
TZID:Europe/Paris
BEGIN:DAYLIGHT
TZOFFSETFROM:+0100
TZOFFSETTO:+0200
TZNAME:CEST
DTSTART:20150329T010000
END:DAYLIGHT
BEGIN:STANDARD
TZOFFSETFROM:+0200
TZOFFSETTO:+0100
TZNAME:CET
DTSTART:20151025T010000
END:STANDARD
END:VTIMEZONE
BEGIN:VEVENT
DTSTART;TZID=Europe/Paris:20150103T190000
DTEND;TZID=Europe/Paris:20150103T235500
DTSTAMP:20260426T021800
CREATED:20141217T220952Z
LAST-MODIFIED:20170608T165116Z
UID:905-1420311600-1420329300@qualif.edil33.fr
SUMMARY:Ultimate Power
DESCRIPTION:Hors série
URL:https://qualif.edil33.fr/event/ultimate-power/
LOCATION:Centre d’Animation Grand Parc\, 36 Rue Robert Schuman\, BORDEAUX\, 33000\, France
CATEGORIES:Semi-Réel
END:VEVENT
BEGIN:VEVENT
DTSTART;TZID=Europe/Paris:20150110T080000
DTEND;TZID=Europe/Paris:20150110T170000
DTSTAMP:20260426T021800
CREATED:20150109T230024Z
LAST-MODIFIED:20170608T165119Z
UID:953-1420876800-1420909200@qualif.edil33.fr
SUMMARY:Soirée Chandeleur
DESCRIPTION:Le samedi 24 Janvier\, l’EDIL organise une soirée Chandeleur! On sait que logiquement c’est le 2 Février mais après un mois de passer après les fêtes de fin d’année on sait très bien que la plupart d’entre vous meurt d’envie de faire une soirée à notre local. Et cela fait longtemps que l’on a pas manger de crêpes. 🙂 \nAlors au programme nous vous proposons: \n-Des parties de jeux de rôles\n-Des parties de jeux de plateau.\n-Des parties de jeux vidéo. \n-Mais surtout des crêpes à volonté mais aussi des Gauffres:\n-En salé: Jambon/Fromage et Chèvre/Miel.\n-En sucré: Confitures de fraise et d’abricot\, Sucre\, Nutella\, Pate à Speculoos! \nLe prix de participation à la soirée est de 5€ pour les adhérents.\n Le prix d’une adhésion à la journée/soirée (pour les non adhérents) étant de 2€.
URL:https://qualif.edil33.fr/event/953/
END:VEVENT
BEGIN:VEVENT
DTSTART;TZID=Europe/Paris:20150113T170000
DTEND;TZID=Europe/Paris:20150113T235500
DTSTAMP:20260426T021800
CREATED:20141211T230826Z
LAST-MODIFIED:20170608T165126Z
UID:896-1421168400-1421193300@qualif.edil33.fr
SUMMARY:Soirée DUGAL
DESCRIPTION:Les étudiants et les formateurs du DIPLÔME UNIVERSITAIRE DE GESTION ET D’ANIMATION DE LUDOTHÈQUE (DUGAL) vont venir à l’EDIL pour découvrir l’association\, notre local et nos activités. \nC’est une formation de professionnalisation/spécialisation Ludothécaires alors faisons  leur un bon accueil. 😉
URL:https://qualif.edil33.fr/event/soiree-dugal/
LOCATION:EDIL\, 5 place sainte eulalie\, Bordeaux\, 33000\, France
END:VEVENT
BEGIN:VEVENT
DTSTART;TZID=Europe/Paris:20150117T140000
DTEND;TZID=Europe/Paris:20150117T180000
DTSTAMP:20260426T021800
CREATED:20140929T081658Z
LAST-MODIFIED:20170608T165130Z
UID:777-1421503200-1421517600@qualif.edil33.fr
SUMMARY:Atelier Cosplay
DESCRIPTION:Marion notre Cosplayeuse en chef fait des Ateliers Cosplay à l’EDIL.\nCet atelier est là pour non seulement travailler sur ses projets\, mais aussi pour échanger ses idées et papoter dans la joie et bonne humeur pendant que l’on travaille. En espérant vous y voir !
URL:https://qualif.edil33.fr/event/atelier-cosplay-4/
LOCATION:EDIL\, 5 place sainte eulalie\, Bordeaux\, 33000\, France
CATEGORIES:Evenement Interne (de l'EDIL)
END:VEVENT
BEGIN:VEVENT
DTSTART;TZID=Europe/Paris:20150117T190000
DTEND;TZID=Europe/Paris:20150117T235500
DTSTAMP:20260426T021800
CREATED:20141217T221230Z
LAST-MODIFIED:20170608T165134Z
UID:906-1421521200-1421538900@qualif.edil33.fr
SUMMARY:Trône de Flammes
DESCRIPTION:
URL:https://qualif.edil33.fr/event/trone-de-flammes-4/
LOCATION:Centre d’Animation Grand Parc\, 36 Rue Robert Schuman\, BORDEAUX\, 33000\, France
CATEGORIES:Semi-Réel
END:VEVENT
BEGIN:VEVENT
DTSTART;TZID=Europe/Paris:20150124T190000
DTEND;TZID=Europe/Paris:20150124T235500
DTSTAMP:20260426T021800
CREATED:20141217T221954Z
LAST-MODIFIED:20170608T165146Z
UID:908-1422126000-1422143700@qualif.edil33.fr
SUMMARY:Chandeleur
DESCRIPTION:Le samedi 24 Janvier\, l’EDIL organise une soirée Chandeleur! On sait que logiquement c’est le 2 Février mais après un mois de passer après les fêtes de fin d’année on sait très bien que la plupart d’entre vous meurt d’envie de faire une soirée à notre local. Et cela fait longtemps que l’on a pas manger de crêpes. 🙂 \nAlors au programme nous vous proposons: \n-Des parties de jeux de rôles\n-Des parties de jeux de plateau.\n-Des parties de jeux vidéo. \n-Mais surtout des crêpes à volonté mais aussi des Gauffres:\n-En salé: Jambon/Fromage et Chèvre/Miel.\n-En sucré: Confitures de fraise et d’abricot\, Sucre\, Nutella\, Pate à Speculoos! \nLe prix de participation à la soirée est de 5€ pour les adhérents.\nLe prix d’une adhésion à la journée/soirée (pour les non adhérents) étant de 2€.
URL:https://qualif.edil33.fr/event/chandeleur/
LOCATION:EDIL\, 5 place sainte eulalie\, Bordeaux\, 33000\, France
CATEGORIES:Evenement Interne (de l'EDIL)
END:VEVENT
BEGIN:VEVENT
DTSTART;TZID=Europe/Paris:20150128T140000
DTEND;TZID=Europe/Paris:20150128T220000
DTSTAMP:20260426T021800
CREATED:20150103T230054Z
LAST-MODIFIED:20170608T165153Z
UID:931-1422453600-1422482400@qualif.edil33.fr
SUMMARY:Soirée Jeux à Bazas
DESCRIPTION:
URL:https://qualif.edil33.fr/event/soiree-jeux-a-bazas/
LOCATION:Lycée Agricole de Bazas\, 2 avenue de la République\, BAZAS
CATEGORIES:Evénement Externe (Non-EDIL),Evenement Interne (de l'EDIL)
END:VEVENT
BEGIN:VEVENT
DTSTART;TZID=Europe/Paris:20150130T200000
DTEND;TZID=Europe/Paris:20150130T235500
DTSTAMP:20260426T021800
CREATED:20150111T215220Z
LAST-MODIFIED:20170608T165156Z
UID:954-1422648000-1422662100@qualif.edil33.fr
SUMMARY:Soirée Jeux de Baston
DESCRIPTION:Vous êtes fan de jeux à l’ancienne? Des jeux sur Gamecube\, Super Nes\, Mega Drive\, PS2\, PS1? \nL’EDIL organise un tournoi de jeux vidéos. La dernière fois il y a eu un tournoi de Super Smash Bros Melee » et cette fois ce sera: \n-Tournoi de Jeux de Baston: type Tekken\, Soulcalibur\, etc… \n– Une nouvelle session de Concours Mondial de TUC! \n-Et aussi POP CORN PARTY! \nLa soirée est gratuite pour les membres et à 2€ seulement pour les non membres.\n\nAlors n’hésitez pas à venir. En plus on aura un grand écran pour retranscrire les meilleurs matchs! 😀 \nD’ailleurs n’oubliez pas que notre association à désormais un nouveau partenaire: Daisuke Jeux qui nous fait 10% de réduction sur les jeux en occasion et 5% sur le neuf. 😉 \nLe lien du forum si vous voulez vous inscrire aussi ici. 😉\nhttp://edil33.fr/forum/viewtopic.php?f=15&t=197
URL:https://qualif.edil33.fr/event/soiree-jeux-videos/
LOCATION:EDIL\, 5 place sainte eulalie\, Bordeaux\, 33000\, France
CATEGORIES:Evenement Interne (de l'EDIL)
END:VEVENT
BEGIN:VEVENT
DTSTART;TZID=Europe/Paris:20150131T190000
DTEND;TZID=Europe/Paris:20150131T235500
DTSTAMP:20260426T021800
CREATED:20141217T221332Z
LAST-MODIFIED:20170608T165201Z
UID:907-1422730800-1422748500@qualif.edil33.fr
SUMMARY:Vampire National
DESCRIPTION:
URL:https://qualif.edil33.fr/event/vampire-national-5/
LOCATION:Centre d’Animation Grand Parc\, 36 Rue Robert Schuman\, BORDEAUX\, 33000\, France
CATEGORIES:Semi-Réel
END:VEVENT
END:VCALENDAR