BEGIN:VCALENDAR
VERSION:2.0
PRODID:-//Association de jeux EDIL - ECPv6.11.2.1//NONSGML v1.0//EN
CALSCALE:GREGORIAN
METHOD:PUBLISH
X-ORIGINAL-URL:https://qualif.edil33.fr
X-WR-CALDESC:Évènements pour Association de jeux EDIL
REFRESH-INTERVAL;VALUE=DURATION:PT1H
X-Robots-Tag:noindex
X-PUBLISHED-TTL:PT1H
BEGIN:VTIMEZONE
TZID:Europe/Paris
BEGIN:DAYLIGHT
TZOFFSETFROM:+0100
TZOFFSETTO:+0200
TZNAME:CEST
DTSTART:20150329T010000
END:DAYLIGHT
BEGIN:STANDARD
TZOFFSETFROM:+0200
TZOFFSETTO:+0100
TZNAME:CET
DTSTART:20151025T010000
END:STANDARD
END:VTIMEZONE
BEGIN:VEVENT
DTSTART;TZID=Europe/Paris:20150718T140000
DTEND;TZID=Europe/Paris:20150719T235500
DTSTAMP:20260425T130049
CREATED:20150228T094805Z
LAST-MODIFIED:20170608T165821Z
UID:983-1437228000-1437350100@qualif.edil33.fr
SUMMARY:Week-end Chronique de la guerre de Lodoss
DESCRIPTION:Image tiré de l’animé « Chronique de la Guerre de Lodoss » Copyright: « Studio Madhouse ». \n\n« Les Chroniques de la guerre de Lodoss » est une série de romans de fantasy écrite par Ryō Mizuno se déroulant dans le monde de Lodoss\, où s’affrontent le Bien et le Mal. \nCet univers directement Inspiré du jeu de rôle Donjons et Dragons est notamment connu pour sa série d’animés\, au charme si caractéristique\, sortie au début des années 1990. \nOn vous propose ainsi de découvrir cet univers lors d’un week-end de jeux autours de cet univers ou d’univers directement inspiré de l’héroïc Fantasy. \nAu programme: \n– des parties de JDR: Lodoss JDR\, Donjons & Dragons\, … \n– des parties de jeux de plateau: Andor\, Descent\, Chevaliers de la Tables Rondes\, Heroquest\, … \nPour grignoter nous vous proposons des gateaux: des lembas elfiques! \nLe prix de participation à la journée est de 5€ pour les adhérents (avec 2 lembas offerts). Ce sera l’été alors n’oubliez pas de vous rafraichir également. ^^ \nLe prix d’une adhésion à la journée(pour les non adhérents) étant de 2€ ce qui revient à 7€ la journée (avec 2 lembas offert). \nPour finir n’hésitez pas à vous parrer de vos plus beaux costumes dans le thème (habit médiévaux\, oreilles d’elfes\, etc….).
URL:https://qualif.edil33.fr/event/week-end-chronique-de-la-guerre-de-lodoss/
LOCATION:EDIL\, 5 place sainte eulalie\, Bordeaux\, 33000\, France
CATEGORIES:Evenement Interne (de l'EDIL)
END:VEVENT
END:VCALENDAR