BEGIN:VCALENDAR
VERSION:2.0
PRODID:-//Association de jeux EDIL - ECPv6.11.2.1//NONSGML v1.0//EN
CALSCALE:GREGORIAN
METHOD:PUBLISH
X-ORIGINAL-URL:https://qualif.edil33.fr
X-WR-CALDESC:Évènements pour Association de jeux EDIL
REFRESH-INTERVAL;VALUE=DURATION:PT1H
X-Robots-Tag:noindex
X-PUBLISHED-TTL:PT1H
BEGIN:VTIMEZONE
TZID:Europe/Paris
BEGIN:DAYLIGHT
TZOFFSETFROM:+0100
TZOFFSETTO:+0200
TZNAME:CEST
DTSTART:20160327T010000
END:DAYLIGHT
BEGIN:STANDARD
TZOFFSETFROM:+0200
TZOFFSETTO:+0100
TZNAME:CET
DTSTART:20161030T010000
END:STANDARD
END:VTIMEZONE
BEGIN:VEVENT
DTSTART;TZID=Europe/Paris:20160721T190000
DTEND;TZID=Europe/Paris:20160721T235500
DTSTAMP:20260424T165306
CREATED:20160720T081540Z
LAST-MODIFIED:20170608T171256Z
UID:1372-1469127600-1469145300@qualif.edil33.fr
SUMMARY:Soirée Découverte "Ashes: Les Héritiers du Phénix"
DESCRIPTION:Venez tester le jeu « Ashes: Les Héritiers du Phénix » au local l’EDIL! Grâce à Rodolphe Chambonnaud\, qui vient avec un exemplaire du jeu\, vous pourrez tester ce jeu de cartes et de dés au concept fort sympathique et aux illustrations magnifiques. Voici la fiche Tric Trac (https://www.trictrac.net/jeu-de-societe/ashes-les-heritiers-du-phoenix) pour vous expliquer le principe du jeu: \n« Dans Ashes\, chaque joueur incarne un héritier du Phénix\, qui sont de puissants demi-dieux aux pouvoirs magiques redoutables. Aradèle\, par exemple\, ne jouit que de 16 points de vie\, mais à son tour\, elle peut infliger 2 dégâts à n’importe quelle unité ennemie\, et ce à très faible cout! Elle peut également rassembler jusqu’à 8 combattants (unités) dans l’arène\, devant elle\, ce qui est énorme! \nUn héritier adverse\, comme le robuste Forge Roarkwin\, ne peut demander le soutien que de 6 combattants à la fois\, mais son grimoire peut accueillir jusqu’à 5 sorts en préparation plutôt que 4. \nComptant un total de 6 héritiers du Phénix\, tous aussi puissants qu’uniques\, des dizaines d’alliés différents à commander\, autant de créatures à invoquer et d’innombrables sorts à combiner\, Ashes s’impose par sa profondeur et par les centaines stratégies qu’il permet aux joueurs d’élaborer. » \nAlors rendez vous à l’EDIL\, 5 Place Ste Eulalie à Bordeaux le MERCREDI 20 JUILLET 2016 à partir de 19H!\nLa soirée est gratuite pour les adhérents.\nLe prix d’une adhésion à la journée/soirée pour les non adhérents est de 2€.
URL:https://qualif.edil33.fr/event/soiree-decouverte-ashes-les-heritiers-du-phenix/
LOCATION:EDIL\, 5 place sainte eulalie\, Bordeaux\, 33000\, France
CATEGORIES:Evenement Interne (de l'EDIL)
END:VEVENT
BEGIN:VEVENT
DTSTART;TZID=Europe/Paris:20160722T190000
DTEND;TZID=Europe/Paris:20160722T235500
DTSTAMP:20260424T165306
CREATED:20160720T081658Z
LAST-MODIFIED:20170608T171251Z
UID:1373-1469214000-1469231700@qualif.edil33.fr
SUMMARY:Soirée Découverte "Dungeon Saga"
DESCRIPTION:Venez tester le jeu « Dungeon Saga » au local l’EDIL grâce à Erik le gérant de l’Atelier des Figurines\, qui vient avec un exemplaire du jeu. Alors si vous aimez le jeux dans la même veine que les « Heroquest »\, « Descent » ou encore « Dungeon Quest » venez le testez et découvrir les figurines de la marque « Mantic Games ». \nAlors rendez vous à l’EDIL\, 5 Place Ste Eulalie à Bordeaux le VENDREDI 22 JUILLET 2016 à partir de 19H!\nLa soirée est gratuite pour les adhérents.\nLe prix d’une adhésion à la journée/soirée pour les non adhérents est de 2€.
URL:https://qualif.edil33.fr/event/soiree-decouverte-dungeon-saga/
LOCATION:EDIL\, 5 place sainte eulalie\, Bordeaux\, 33000\, France
CATEGORIES:Evenement Interne (de l'EDIL)
END:VEVENT
BEGIN:VEVENT
DTSTART;TZID=Europe/Paris:20160723T190000
DTEND;TZID=Europe/Paris:20160723T235500
DTSTAMP:20260424T165306
CREATED:20160720T081150Z
LAST-MODIFIED:20170608T171248Z
UID:1370-1469300400-1469318100@qualif.edil33.fr
SUMMARY:Soirée Jeux de Rôle + Glace
DESCRIPTION:Le samedi 23 Juillet\, l’EDIL organise une soirée Jeux de Rôle + Glace! \nVous voulez découvrir le Jeu de Rôles et vous amuser en incarnant votre premier personnage? Où êtes vous déjà un joueur aguerri cherchant à participer à un One Shot? \nDans tous les cas n’hésitez pas à passer à notre local pour cette soirée. \nAu programme: : \n-« Shaan Renaissance » par David 3 places réservées\, reste 2 places). \n-« Star Wars: Aux Confins de l’Empire » par Erwan (5 places)\n\n-« Le Donjon de Naheulbeuk » par Thomas (4 places) \nDes glaces à 1€ les deux boules:\n Vanille\, Fraise\, Chocolat\, Café\, Nutella\, … \nLe soirée est gratuite pour les adhérents.\nLe prix d’une adhésion à la journée/soirée (pour les non adhérents) étant de 2€. \n 
URL:https://qualif.edil33.fr/event/soiree-jeux-de-role-glace/
LOCATION:EDIL\, 5 place sainte eulalie\, Bordeaux\, 33000\, France
CATEGORIES:Evenement Interne (de l'EDIL)
END:VEVENT
END:VCALENDAR