BEGIN:VCALENDAR
VERSION:2.0
PRODID:-//Association de jeux EDIL - ECPv6.11.2.1//NONSGML v1.0//EN
CALSCALE:GREGORIAN
METHOD:PUBLISH
X-ORIGINAL-URL:https://qualif.edil33.fr
X-WR-CALDESC:Évènements pour Association de jeux EDIL
REFRESH-INTERVAL;VALUE=DURATION:PT1H
X-Robots-Tag:noindex
X-PUBLISHED-TTL:PT1H
BEGIN:VTIMEZONE
TZID:Europe/Paris
BEGIN:DAYLIGHT
TZOFFSETFROM:+0100
TZOFFSETTO:+0200
TZNAME:CEST
DTSTART:20180325T010000
END:DAYLIGHT
BEGIN:STANDARD
TZOFFSETFROM:+0200
TZOFFSETTO:+0100
TZNAME:CET
DTSTART:20181028T010000
END:STANDARD
END:VTIMEZONE
BEGIN:VEVENT
DTSTART;TZID=Europe/Paris:20181006T180000
DTEND;TZID=Europe/Paris:20181006T235500
DTSTAMP:20260422T183843
CREATED:20181009T081021Z
LAST-MODIFIED:20181123T080159Z
UID:2098-1538848800-1538870100@qualif.edil33.fr
SUMMARY:Vampire Camarilla Française
DESCRIPTION:Venez découvrir ou redécouvrir l’Univers de Vampire la Mascarade en semi réel\, et évoluez au coeur d’une chronique nationale \nContactez nous sur conteurbdx@gmail.com pour plus d’informations.
URL:https://qualif.edil33.fr/event/vampire-camarilla-francaise-9/
LOCATION:Centre d’Animation Grand Parc\, 36 Rue Robert Schuman\, BORDEAUX\, 33000\, France
CATEGORIES:Evenement Interne (de l'EDIL),Semi-Réel
END:VEVENT
BEGIN:VEVENT
DTSTART;TZID=Europe/Paris:20181013T210000
DTEND;TZID=Europe/Paris:20181013T230000
DTSTAMP:20260422T183844
CREATED:20181012T072728Z
LAST-MODIFIED:20181012T072728Z
UID:2099-1539464400-1539471600@qualif.edil33.fr
SUMMARY:Soirée de Rentrée
DESCRIPTION:La rentrée se passe aussi à l’EDIL ! \nPour cette occasion\, venez faire la rencontre des membres de l’association et tester de nouveaux jeux. 😀 \nC’est aussi l’occasion de prendre son adhésion annuelle à l’association 🙂
URL:https://qualif.edil33.fr/event/soiree-de-rentree-2/
LOCATION:EDIL\, 5 place sainte eulalie\, Bordeaux\, 33000\, France
CATEGORIES:Evenement Interne (de l'EDIL),jeux de plateau
END:VEVENT
BEGIN:VEVENT
DTSTART;TZID=Europe/Paris:20181027T140000
DTEND;TZID=Europe/Paris:20181027T190000
DTSTAMP:20260422T183844
CREATED:20181021T174048Z
LAST-MODIFIED:20181021T174048Z
UID:2126-1540648800-1540666800@qualif.edil33.fr
SUMMARY:Zombie Walk Bordeaux 9
DESCRIPTION:Les Zombies reviennent en centre-ville. \nRassemblement à l’espace du Marché des Quais à côté du Skate Park\, à partir de 12h00 pour cette 9eme édition. Une belle surprise vous attendra au retour de la marche. \nCette année est placée sous le thème des « Marcheurs blancs »\, cependant tout les types de Zombies sont les bienvenus\, les plus beaux et originaux seront mis en valeur et récompensés. \nNous vous rappelons que la Zombie Walk est un évènement entièrement gratuit et ouvert à tous mais pensez à cliquer sur « participe » afin que nous puissions organiser au mieux cette zombie walk et préparer au mieux votre accueil et parcours. Vous aurez aussi la possibilité d’adhérer à l’association et/ou de vous faire maquiller sur place pour 5 euros si vous le souhaitez. Mais n’hésitez pas à venir grimé. \nComme chaque année\, nous recherchons des encadrants afin de guider nos petits Zombies à travers les rues de Bordeaux ainsi que des percussionnistes et tout autre personnes souhaitant animer cette fête des Zombies. N’hésitez pas à vous manifester sur la page de la Zombie Walk de Bordeaux en Octobre\, sur l’Event ou nous contacter par mail à zombiewalk.bordeaux@gmail.com. \nAmis photographes et journalistes\, vous êtes tous libre de venir « couvrir » cet évènement et nous vous remercions de votre présence chaque année. Nous vous rappelons\,cependant\, qu’il n y a pas de photographe officiel de la marche. 😉 \nMerci à tous de faire vivre et vibrer cette marche ♥♥♥ \n:::::::::::::::::::::::::::::::::::::::::::::::::::::::::::::::::::::::::::::::::::::::::::::::::::::::::::: \nLe Code du Zombie \n-Pour le bon déroulement de cette marche des zombies à Bordeaux\, nous vous demandons de respecter des règles élémentaires : \n1 ) Qu’est-ce qu’un bon zombie? Tout d’abord\, un bon zombie est un zombie lent\, qui ne parle pas..ou peu… .seulement pour dire « cerveauuuux » ou « braaaainnnns » si vous êtes anglophone…\, sinon un zombie gémit…..aaarrgh\, huuuuuummm….etc….\nVous devez donc marcher et agir comme des zombies\, si possible tout au long de la marche. \n2 ) Ensuite\, comme tout bon zombie qui se respecte\, vous devez être à un stade de décomposition avancé\, donc pensez à vous faire beau et à revêtir vos plus beaux costumes pour l’évènement. \n3) Vous restez sur les trottoirs et veillez à ne pas bloquer ou gêner la circulation. \n4) Vous êtes respectueux des non-zombies et des éléments urbains que vous rencontrez durant la marche. \n5) Vous ne pouvez en aucun cas entrer dans les magasins croisés durant la marche (sauf pour vous acheter quelque chose\, mais veuillez le faire en dehors de votre rôle de zombies afin de respecter les lieux et les clients). \n6) Enfin\, essayez de suivre le groupe et ne vous dispersez pas durant la marche. Des personnes encadrantes seront présentes pour vous indiquer le chemin à suivre.\nDes arrêts auront lieu à certains points précis de la marche (la plupart des places traversées) \n7) Les répliques d’armes ne seront pas autorisées. La raison est toute simple et n’est pas celle de la sécurité (chaque année : 0 accident grâce à vous ) mais à cause de la tension pesante des risques d’actes terroristes.\nNous devons alors\, comme toutes manifestations cette année\, nous plier aux exigences de la mairie afin de maintenir encore de nombreuses éditions de Zombiewalk dans notre belle ville de Bordeaux. \n8 ) Les boissons alcoolisées sont interdites durant la marche. \nMerci à tous \nZombie One (8-=\nWaï !\nGautier 😉 \nhttp://www.facebook.com/zombiewalk.bordeaux\nUn évènement Burdigala Corporation \nEn partenariat avec:\nRéseaulution\nAirsoft Village\nJu Pessaro\nÉtablissement Francais du Sang\nÉcole Françoise B\nEDIL\nSuniverse\nProfesseur Cosplay\nDeguizz\nStudio Zookeeper\nEspritCine.fr\nBordeaux ma ville\nLes Reservoir Dogs
URL:https://qualif.edil33.fr/event/zombie-walk-bordeaux-9/
LOCATION:Salle non nommée\, Bordeaux
CATEGORIES:Evénement Externe (Non-EDIL),Evenement Interne (de l'EDIL)
ATTACH;FMTTYPE=image/jpeg:https://qualif.edil33.fr/wp-content/uploads/2018/10/43951568_2327245343971910_845445899692802048_n.jpg
END:VEVENT
BEGIN:VEVENT
DTSTART;TZID=Europe/Paris:20181028T140000
DTEND;TZID=Europe/Paris:20181028T190000
DTSTAMP:20260422T183844
CREATED:20181012T075810Z
LAST-MODIFIED:20181123T080125Z
UID:2112-1540735200-1540753200@qualif.edil33.fr
SUMMARY:Amor de Lohn
DESCRIPTION:Semi-réel\nSuite à l’édit de succession de 2007\, les Justicars reconnaissent aux Anarchs la création d’un domaine équivalent à ceux de la Camarilla (et donc ceux des Princes). En 2015\, le Prince de Gironde invite les Anarchs du Monde à s’installer à Bordeaux et à créer leur Baronnie. Les informations concernant la ville de Bordeaux sont parcellaires et souvent fantasmées au sein du mouvement Anarch. Il est néanmoins certain qu’une telle opportunité ne saurait être dénigrée par le Mouvement : le prix est trop tentant\, le fruit trop sucré\, pour s’en détourner… Il vous aura fallu pas moins de trois années pour préparer votre venue\, et voilà\, en cette fin de printemps\, la Grande Nuit est arrivée !
URL:https://qualif.edil33.fr/event/amor-de-lohn-2/
LOCATION:Centre d’Animation Grand Parc\, 36 Rue Robert Schuman\, BORDEAUX\, 33000\, France
CATEGORIES:Evenement Interne (de l'EDIL),Semi-Réel
ATTACH;FMTTYPE=image/jpeg:https://qualif.edil33.fr/wp-content/uploads/2018/05/32079858_10156495061202878_2913553252073078784_n.jpg
END:VEVENT
BEGIN:VEVENT
DTSTART;TZID=Europe/Paris:20181031T190000
DTEND;TZID=Europe/Paris:20181031T190000
DTSTAMP:20260422T183844
CREATED:20181012T072959Z
LAST-MODIFIED:20181021T174215Z
UID:2100-1541012400-1541012400@qualif.edil33.fr
SUMMARY:Soirée Halloween
DESCRIPTION:Venez avec votre plus horrible costume d’Halloween ! \nAu programme\, pleins de tricks & treating à l’association. \nUne soupe mémorable et des bonbons collants vous attendent ! \nPAF : à venir
URL:https://qualif.edil33.fr/event/soiree-halloween-3/
LOCATION:EDIL\, 5 place sainte eulalie\, Bordeaux\, 33000\, France
CATEGORIES:Evenement Interne (de l'EDIL),jeux de plateau
ATTACH;FMTTYPE=image/jpeg:https://qualif.edil33.fr/wp-content/uploads/2018/10/SOIREE_HALLOWEEN2018.jpg
END:VEVENT
END:VCALENDAR