BEGIN:VCALENDAR
VERSION:2.0
PRODID:-//Association de jeux EDIL - ECPv6.11.2.1//NONSGML v1.0//EN
CALSCALE:GREGORIAN
METHOD:PUBLISH
X-ORIGINAL-URL:https://qualif.edil33.fr
X-WR-CALDESC:Évènements pour Association de jeux EDIL
REFRESH-INTERVAL;VALUE=DURATION:PT1H
X-Robots-Tag:noindex
X-PUBLISHED-TTL:PT1H
BEGIN:VTIMEZONE
TZID:Europe/Paris
BEGIN:DAYLIGHT
TZOFFSETFROM:+0100
TZOFFSETTO:+0200
TZNAME:CEST
DTSTART:20190331T010000
END:DAYLIGHT
BEGIN:STANDARD
TZOFFSETFROM:+0200
TZOFFSETTO:+0100
TZNAME:CET
DTSTART:20191027T010000
END:STANDARD
END:VTIMEZONE
BEGIN:VEVENT
DTSTART;TZID=Europe/Paris:20190105T100000
DTEND;TZID=Europe/Paris:20190105T183000
DTSTAMP:20260422T135120
CREATED:20190105T100407Z
LAST-MODIFIED:20190105T100407Z
UID:2208-1546682400-1546713000@qualif.edil33.fr
SUMMARY:League Cup Tonnerre Perdu
DESCRIPTION:League Cup Bordelais\, au format Standard.\nPAF : 8€ + 2€ d’adhésion à la journée\nAu moins un booster par participant.\nInscription à partir de 10h30.\nDébut du tournoi à 11h30. \nLe tournoi se déroulera au sein de l’association EDIL.\nUne pause sera prévue pour manger le midi.
URL:https://qualif.edil33.fr/event/league-cup-tonnerre-perdu/
LOCATION:EDIL\, 5 place sainte eulalie\, Bordeaux\, 33000\, France
CATEGORIES:Evenement Interne (de l'EDIL)
ATTACH;FMTTYPE=image/png:https://qualif.edil33.fr/wp-content/uploads/2019/01/48421752_999721566896311_5111130705669128192_n.png
END:VEVENT
BEGIN:VEVENT
DTSTART;TZID=Europe/Paris:20190105T190000
DTEND;TZID=Europe/Paris:20190105T235500
DTSTAMP:20260422T135120
CREATED:20181012T081353Z
LAST-MODIFIED:20181123T080249Z
UID:2120-1546714800-1546732500@qualif.edil33.fr
SUMMARY:Vampire Camarilla Française
DESCRIPTION:Venez découvrir ou redécouvrir l’Univers de Vampire la Mascarade en semi réel\, et évoluez au coeur d’une chronique nationale \nContactez nous sur conteurbdx@gmail.com pour plus d’informations.
URL:https://qualif.edil33.fr/event/vampire-camarilla-francaise-12/
LOCATION:Centre d’Animation Grand Parc\, 36 Rue Robert Schuman\, BORDEAUX\, 33000\, France
CATEGORIES:Evenement Interne (de l'EDIL),Semi-Réel
ATTACH;FMTTYPE=image/jpeg:https://qualif.edil33.fr/wp-content/uploads/2018/08/39698818_1962130774009424_3327603415260856320_n.jpg
END:VEVENT
BEGIN:VEVENT
DTSTART;TZID=Europe/Paris:20190112T053000
DTEND;TZID=Europe/Paris:20190112T235500
DTSTAMP:20260422T135120
CREATED:20190101T164430Z
LAST-MODIFIED:20190101T164430Z
UID:2203-1547271000-1547337300@qualif.edil33.fr
SUMMARY:Tournoi AZUL
DESCRIPTION:Venez vous mesurer aux joueurs de l’EDIL sur Azul ! \nLe tournois se fera en 2 parties et une finale.\nLe classement se fera par points. \nA vos mosaïques ! \nInfos : Tournoi gratuit pour les membres adhérents de l’EDIL\, 2€ pour les non membres adhérents
URL:https://qualif.edil33.fr/event/tournoi-azul/
LOCATION:EDIL\, 5 place sainte eulalie\, Bordeaux\, 33000\, France
CATEGORIES:Evenement Interne (de l'EDIL),jeux de plateau,Soirée Mensuelle
ATTACH;FMTTYPE=image/jpeg:https://qualif.edil33.fr/wp-content/uploads/2019/01/AZULfacebook.jpg
END:VEVENT
BEGIN:VEVENT
DTSTART;TZID=Europe/Paris:20190120T140000
DTEND;TZID=Europe/Paris:20190120T190000
DTSTAMP:20260422T135120
CREATED:20181012T081657Z
LAST-MODIFIED:20181123T080346Z
UID:2122-1547992800-1548010800@qualif.edil33.fr
SUMMARY:Amor de Lohn
DESCRIPTION:vSuite à l’édit de succession de 2007\, les Justicars reconnaissent aux Anarchs la création d’un domaine équivalent à ceux de la Camarilla (et donc ceux des Princes). En 2015\, le Prince de Gironde invite les Anarchs du Monde à s’installer à Bordeaux et à créer leur Baronnie. Les informations concernant la ville de Bordeaux sont parcellaires et souvent fantasmées au sein du mouvement Anarch. Il est néanmoins certain qu’une telle opportunité ne saurait être dénigrée par le Mouvement : le prix est trop tentant\, le fruit trop sucré\, pour s’en détourner… Il vous aura fallu pas moins de trois années pour préparer votre venue\, et voilà\, en cette fin de printemps\, la Grande Nuit est arrivée !
URL:https://qualif.edil33.fr/event/amor-de-lohn-5/
LOCATION:Centre d’Animation Grand Parc\, 36 Rue Robert Schuman\, BORDEAUX\, 33000\, France
CATEGORIES:Evenement Interne (de l'EDIL),Semi-Réel
ATTACH;FMTTYPE=image/jpeg:https://qualif.edil33.fr/wp-content/uploads/2018/06/35416212_10212103309481515_7496755811897573376_n.jpg
END:VEVENT
BEGIN:VEVENT
DTSTART;TZID=Europe/Paris:20190126T190000
DTEND;TZID=Europe/Paris:20190126T230000
DTSTAMP:20260422T135120
CREATED:20181012T074235Z
LAST-MODIFIED:20190101T164602Z
UID:2104-1548529200-1548543600@qualif.edil33.fr
SUMMARY:Soirée Taverne à Jeux
DESCRIPTION:Venez découvrir des petits jeux d’ambiance et rapides !\nEffets garantis ! \nSoirée gratuite pour les membres adhérents\, 2€ pour les non-adhérents.
URL:https://qualif.edil33.fr/event/soiree-taverne-a-jeux/
LOCATION:EDIL\, 5 place sainte eulalie\, Bordeaux\, 33000\, France
CATEGORIES:Evenement Interne (de l'EDIL),jeux de plateau,Soirée Mensuelle
ATTACH;FMTTYPE=image/jpeg:https://qualif.edil33.fr/wp-content/uploads/2019/01/TAVERNE-A-JEUX.jpg
END:VEVENT
END:VCALENDAR