BEGIN:VCALENDAR
VERSION:2.0
PRODID:-//Association de jeux EDIL - ECPv6.11.2.1//NONSGML v1.0//EN
CALSCALE:GREGORIAN
METHOD:PUBLISH
X-ORIGINAL-URL:https://qualif.edil33.fr
X-WR-CALDESC:Évènements pour Association de jeux EDIL
REFRESH-INTERVAL;VALUE=DURATION:PT1H
X-Robots-Tag:noindex
X-PUBLISHED-TTL:PT1H
BEGIN:VTIMEZONE
TZID:Europe/Paris
BEGIN:DAYLIGHT
TZOFFSETFROM:+0100
TZOFFSETTO:+0200
TZNAME:CEST
DTSTART:20190331T010000
END:DAYLIGHT
BEGIN:STANDARD
TZOFFSETFROM:+0200
TZOFFSETTO:+0100
TZNAME:CET
DTSTART:20191027T010000
END:STANDARD
END:VTIMEZONE
BEGIN:VEVENT
DTSTART;TZID=Europe/Paris:20190401T190000
DTEND;TZID=Europe/Paris:20190401T230000
DTSTAMP:20260422T085510
CREATED:20181012T074801Z
LAST-MODIFIED:20190402T063017Z
UID:2108-1554145200-1554159600@qualif.edil33.fr
SUMMARY:Soirée pas de soirée
DESCRIPTION:Pas de soirée\,\npas de jeux\,\npas de fun ni d’amusement.\nNE VENEZ PAS ! \nSoirée Gratuite pour les membres adhérents\, 2€ pour les non-adhérents.
URL:https://qualif.edil33.fr/event/soiree-pas-de-soiree/
LOCATION:EDIL\, 5 place sainte eulalie\, Bordeaux\, 33000\, France
CATEGORIES:Evenement Interne (de l'EDIL),jeux de plateau,Soirée Mensuelle
ATTACH;FMTTYPE=image/jpeg:https://qualif.edil33.fr/wp-content/uploads/2018/10/53229683_2367070876856032_1415937094131384320_n.jpg
END:VEVENT
BEGIN:VEVENT
DTSTART;TZID=Europe/Paris:20190427T100000
DTEND;TZID=Europe/Paris:20190427T190000
DTSTAMP:20260422T085510
CREATED:20190420T201844Z
LAST-MODIFIED:20190420T201844Z
UID:2253-1556359200-1556391600@qualif.edil33.fr
SUMMARY:Animasia Le Haillan 2019 - 7ème édition
DESCRIPTION:7e année pour l’édition printanière du Festival Animasia ! Cette année\, et jusqu’à Octobre\, nous célébrons la Chine ! 🏮 \nRetrouvez tout l’univers #Animasia pendant une journée entière ! \n♦️ Entrée GRATUITE ♦️ \n⚱️ Au programme ⚱️ :\n– Animations\n– Jeux Vidéo\n– Cosplay\n– Mangas\n– Jeux traditionnels\n– Expositions\n– Danses\n– Arts Martiaux \nEt bien plus ! Alors invitez tous vos amis ! 😀 \nL’EDIL sera présente pour du jeu de plateau et du jeux de rôles là bas! 🙂
URL:https://qualif.edil33.fr/event/animasia-le-haillan-2019-7eme-edition/
LOCATION:L’entrepôt du Haillan\, 13 rue Georges Clemenceau\, Le Haillan\, 33185 \, France Métropolitaine
ATTACH;FMTTYPE=image/jpeg:https://qualif.edil33.fr/wp-content/uploads/2019/04/Visuel-Home.jpg
END:VEVENT
BEGIN:VEVENT
DTSTART;TZID=Europe/Paris:20190427T190000
DTEND;TZID=Europe/Paris:20190427T210000
DTSTAMP:20260422T085510
CREATED:20181012T075035Z
LAST-MODIFIED:20190405T132824Z
UID:2109-1556391600-1556398800@qualif.edil33.fr
SUMMARY:Soirée Spéciale Cthulhu
DESCRIPTION:Soirée Spéciale Cthulhu \nVenez découvrir les jeux issus de l’univers de Lovecraft tel que Horror of Arkam\, Pandémic Cthulhu et bien d’autres. \nSoirée gratuite pour les membres adhérents\, 2€ pour les non-adhérents.
URL:https://qualif.edil33.fr/event/soiree-speciale-cthulhu/
LOCATION:EDIL\, 5 place sainte eulalie\, Bordeaux\, 33000\, France
CATEGORIES:Evenement Interne (de l'EDIL),jeux de plateau,Soirée Mensuelle
ATTACH;FMTTYPE=image/png:https://qualif.edil33.fr/wp-content/uploads/2018/10/cthulhu.png
END:VEVENT
BEGIN:VEVENT
DTSTART;TZID=Europe/Paris:20190428T130000
DTEND;TZID=Europe/Paris:20190428T190000
DTSTAMP:20260422T085510
CREATED:20190420T201954Z
LAST-MODIFIED:20190420T202226Z
UID:2255-1556456400-1556478000@qualif.edil33.fr
SUMMARY:Amor de Lohn 12ème partie
DESCRIPTION:Amor de Lohn : Partie d’Avril\n\nNotez bien que nous serons au Centre d’Animation du Grand Parc.\nLiens utiles :\nLe forum :\nhttp://amordelohn.forumactif.com/\nLa première partie et quelques informations :\nhttps://www.facebook.com/events/1659478330835453/
URL:https://qualif.edil33.fr/event/amor-de-lohn-12eme-partie/
LOCATION:Centre d’Animation Grand Parc\, 36 Rue Robert Schuman\, BORDEAUX\, 33000\, France
CATEGORIES:Semi-Réel
ATTACH;FMTTYPE=image/jpeg:https://qualif.edil33.fr/wp-content/uploads/2018/05/32079858_10156495061202878_2913553252073078784_n.jpg
END:VEVENT
END:VCALENDAR