BEGIN:VCALENDAR
VERSION:2.0
PRODID:-//Association de jeux EDIL - ECPv6.11.2.1//NONSGML v1.0//EN
CALSCALE:GREGORIAN
METHOD:PUBLISH
X-WR-CALNAME:Association de jeux EDIL
X-ORIGINAL-URL:https://qualif.edil33.fr
X-WR-CALDESC:Évènements pour Association de jeux EDIL
REFRESH-INTERVAL;VALUE=DURATION:PT1H
X-Robots-Tag:noindex
X-PUBLISHED-TTL:PT1H
BEGIN:VTIMEZONE
TZID:Europe/Paris
BEGIN:DAYLIGHT
TZOFFSETFROM:+0100
TZOFFSETTO:+0200
TZNAME:CEST
DTSTART:20190331T010000
END:DAYLIGHT
BEGIN:STANDARD
TZOFFSETFROM:+0200
TZOFFSETTO:+0100
TZNAME:CET
DTSTART:20191027T010000
END:STANDARD
END:VTIMEZONE
BEGIN:VEVENT
DTSTART;TZID=Europe/Paris:20190505T130000
DTEND;TZID=Europe/Paris:20190505T190000
DTSTAMP:20260422T073101
CREATED:20190420T202150Z
LAST-MODIFIED:20190420T202150Z
UID:2256-1557061200-1557082800@qualif.edil33.fr
SUMMARY:Murder Party "Série Noire à l'Encre Rouge"
DESCRIPTION:SYNOPSIS\n« Vous êtes invité par le mystérieux auteur de romans noirs\, Baptiste Hartz-Lindberg deux fois prix Goncourt et plusieurs fois pressenti pour le Nobel\, sur l’île des Maudits : ce rocher déchiré au large des côtes bretonnes sur lequel le génial auteur a élu domicile. \nL’île porte bien son nom\, avec ses rochers noirs sur lesquels viennent se briser furieusement les vagues\, ses pins maigrelets courbatus à jamais par le vent\, son éternel brouillard d’où émerge la masse sombre de la demeure de Baptiste Hartz-Lindberg. \nSoudain plusieurs coups de feu déchirent la tranquillité du crépuscule. Dans un trou de rochers derrière la maison\, au bord de la mer\, est retrouvé le corps convulsé de Baptiste Hartz-Lindberg… » \nQU’EST CE QU’UNE MURDER?\nUn polar noir\, fantastique\, une mystérieuse aventure dont vous allez être l’un des personnages principaux ! Ce personnage que vous incarnerez va être plongé dans une histoire qui promet d’être\nexaltante : un crime\, un vol\, un événement insolite ? Qui sait ?\nC’est à vous\, ainsi qu’aux autres joueurs\, et avec l’aide des organisateurs qu’il appartiendra de donner beaucoup de vie au scénario ! \nINFORMATIONS PRATIQUES:\nNombre de joueurs-joueuses: 8\, Débutant-e-s accepté-e-s\nDurée: 5h maximum\nPAF: 5€ (impression diverses\, matériels\, et collation).\nAdhésion Journée (pour les non adhérents): 2€\nQuand: Le DIMANCHE 5 MAI 2019 à 13H\nOù: Au local de l’EDIL\, 5 place Ste Eulalie \, 33000\, Bordeaux\nCostume: Demande des costumes contemporains\nInscription sur: murder.akya@gmail.com en remplissant le formulaire en lien: https://docs.google.com/document/d/12JGoqHDZfNVLH-4fMS8uai-zk2JAAiOS5vL2OA9AcME/edit?usp=sharing
URL:https://qualif.edil33.fr/event/murder-party-serie-noire-a-lencre-rouge/
LOCATION:EDIL\, 5 place sainte eulalie\, Bordeaux\, 33000\, France
CATEGORIES:Evenement Interne (de l'EDIL),Murder-Party
ATTACH;FMTTYPE=image/jpeg:https://qualif.edil33.fr/wp-content/uploads/2019/04/56485625_10218274912042415_694140657190567936_o.jpg
END:VEVENT
BEGIN:VEVENT
DTSTART;TZID=Europe/Paris:20190517T183000
DTEND;TZID=Europe/Paris:20190517T235500
DTSTAMP:20260422T073101
CREATED:20190512T080506Z
LAST-MODIFIED:20190512T080607Z
UID:2268-1558117800-1558137300@qualif.edil33.fr
SUMMARY:Soirée Jeux de rôles
DESCRIPTION:Soirée JDR pour celles et ceux qui veulent faire du JDR en masse. Il y en aura pour les débutants également. Voici le programme des parties proposé par les MJ de l’EDIL. \nKrytzone:\nOne shot CTMP à 6 joueurs avec des personnages pré tirés. Séance de 2h30 🙂 \nRomain : Un one shot de 4h dans l’un des univers suivants:\n– « Hordes » Invasion zombie façon Last of Us en France \n– « Memory » Science Fiction dont je ne peux dévoiler trop de scénario car les persos sont amnésiques. \n– « l’Appel » Star Wars au tout début de l’ancienne République \n– « Légion » découverte d’un nouveau continent dans un monde médieval fantastique qui entre en période de Renaissance. \nPauline:\nUn one shot (de 4h) médiéval fantasy\, dans l’univers de son JDR maison « Les Chroniques d’Estynoss »\, pour 3 à 6 joueurs avec des personnages pré tirés\, chacun ayant des objectifs différents à accomplir . \nDavid:\nUn one shot du JDR DEGENESIS pour 4 à 5 joueurs-joueuses maximum. \nSylvain:\nUn one shot ambiance med-fan
URL:https://qualif.edil33.fr/event/soiree-jeux-de-roles-2/
LOCATION:EDIL\, 5 place sainte eulalie\, Bordeaux\, 33000\, France
CATEGORIES:Evenement Interne (de l'EDIL),Jeux de rôles
ATTACH;FMTTYPE=image/jpeg:https://qualif.edil33.fr/wp-content/uploads/2019/05/Facebook_JDR_2019_impro.jpg
END:VEVENT
BEGIN:VEVENT
DTSTART;TZID=Europe/Paris:20190519T140000
DTEND;TZID=Europe/Paris:20190519T180000
DTSTAMP:20260422T073101
CREATED:20190512T082930Z
LAST-MODIFIED:20190512T082930Z
UID:2280-1558274400-1558288800@qualif.edil33.fr
SUMMARY:League challenge
DESCRIPTION:Tournoi au format standard. Booster et carte promotionnelle pour les premiers.\nPAF : 3€ (+2€ pour les non-adhérents)
URL:https://qualif.edil33.fr/event/league-challenge/
LOCATION:EDIL\, 5 place sainte eulalie\, Bordeaux\, 33000\, France
CATEGORIES:Evenement Interne (de l'EDIL),jeux de plateau,Pokémon JCC
ATTACH;FMTTYPE=image/jpeg:https://qualif.edil33.fr/wp-content/uploads/2019/05/59157503_1079599238908543_5491935339494768640_o.jpg
END:VEVENT
BEGIN:VEVENT
DTSTART;TZID=Europe/Paris:20190524T180000
DTEND;TZID=Europe/Paris:20190526T220000
DTSTAMP:20260422T073101
CREATED:20181012T075205Z
LAST-MODIFIED:20190427T073629Z
UID:2110-1558720800-1558908000@qualif.edil33.fr
SUMMARY:Week-end Gros Jeux
DESCRIPTION:Week-end spécial gros jeux de plateaux sur tout un week end. \nAu programme des gros jeux tels que Diplomatie\, Trône de fer ou bien Battlestar Galactica ou encore un petit Civilisation ! \nSoirée gratuite pour les membres adhérents\, 2€ pour les non-adhérents.
URL:https://qualif.edil33.fr/event/week-end-gros-jeux/
LOCATION:EDIL\, 5 place sainte eulalie\, Bordeaux\, 33000\, France
CATEGORIES:Evenement Interne (de l'EDIL),jeux de plateau,Soirée Mensuelle
ATTACH;FMTTYPE=image/jpeg:https://qualif.edil33.fr/wp-content/uploads/2018/10/grosjeux.jpg
END:VEVENT
BEGIN:VEVENT
DTSTART;TZID=Europe/Paris:20190526T130000
DTEND;TZID=Europe/Paris:20190526T190000
DTSTAMP:20260422T073101
CREATED:20190512T082334Z
LAST-MODIFIED:20190512T082334Z
UID:2279-1558875600-1558897200@qualif.edil33.fr
SUMMARY:Amor de Lohn\, 13ème partie
DESCRIPTION:Amor de Lohn : Partie de mai\nNotez bien que nous serons au Centre d’Animation du Grand Parc.\nLiens utiles :\nLe forum :\nhttp://amordelohn.forumactif.com/\nLa première partie et quelques informations :\nhttps://www.facebook.com/events/1659478330835453/
URL:https://qualif.edil33.fr/event/amor-de-lohn-13eme-partie/
LOCATION:Centre d’Animation Grand Parc\, 36 Rue Robert Schuman\, BORDEAUX\, 33000\, France
CATEGORIES:Evenement Interne (de l'EDIL),Semi-Réel
ATTACH;FMTTYPE=image/jpeg:https://qualif.edil33.fr/wp-content/uploads/2018/05/32079858_10156495061202878_2913553252073078784_n.jpg
END:VEVENT
BEGIN:VEVENT
DTSTART;TZID=Europe/Paris:20190530T013000
DTEND;TZID=Europe/Paris:20190530T173000
DTSTAMP:20260422T073101
CREATED:20190512T081212Z
LAST-MODIFIED:20190512T081212Z
UID:2274-1559179800-1559237400@qualif.edil33.fr
SUMMARY:Petit Trollball EDIL
DESCRIPTION:Suite à l’engouement du sondage que j’ai posté il y a quelques temps\, je propose une petite session Trollball à partir de 13h30 le jeudi 30 mai car ce sera l’Ascension donc ce sera férié. \n—————- \nMais qu’est ce que le trollball?. \nCe jeu oppose deux équipes ou chacuns-chacunes des membres sont équipés d’armes de GN inoffensives en mousse et latex. Leur but est de marquer des points avec la tête de troll\, qui sert de balle\, chose rendue compliquée parce que tout le monde sur le terrain est armé. Des que l’on est touché par une épée de GN on met un genoux à terre. Ainsi il y a plusieurs manière de gagner. Par exemple en éliminant l’équipe adverse pour être tranquille pour marquer\, en faisant du jeu de passe et en courant et esquivant le plus vite possible\, etc. Une manche s’arrête lorsqu’un point est marqué ou que personne ne peut marquer (notamment parce que tout les joueurs-joueuses ont été touché par une arme) et ensuite on refait un engagement et ainsi de suite jusqu’à la fin de la mi-temps/du match.\n—————– \nRDV devant la statue de Toussaint Louverture au square Toussaint Louverture à 5-10min à pied de l’arrêt Stalingrad du TRAM A. \nVoici l’adresse complète: et un lien Map:\nSquare Louverture\nQuai des Queyries\, 33100 Bordeaux\nhttps://maps.app.goo.gl/haK5p \n—————- \nPour les besoins de ce premier trollball\, si vous avez des épées de GN apporter les pour que tout le monde puisse jouer.
URL:https://qualif.edil33.fr/event/petit-trollball-edil/
LOCATION:Square Toussaint Louverture\, Quai des Queyries\, Bordeaux\, 33100\, France Métropolitaine
CATEGORIES:Evenement Interne (de l'EDIL),Trollball
ATTACH;FMTTYPE=image/jpeg:https://qualif.edil33.fr/wp-content/uploads/2019/05/60013725_10218503957248402_1616746043787968512_o.jpg
END:VEVENT
END:VCALENDAR